BEGIN:VCALENDAR
VERSION:2.0
PRODID:-//Peel Valley Congregations - ECPv6.15.3//NONSGML v1.0//EN
CALSCALE:GREGORIAN
METHOD:PUBLISH
X-ORIGINAL-URL:https://www.ucapeelvalley.org.au
X-WR-CALDESC:Events for Peel Valley Congregations
REFRESH-INTERVAL;VALUE=DURATION:PT1H
X-Robots-Tag:noindex
X-PUBLISHED-TTL:PT1H
BEGIN:VTIMEZONE
TZID:Australia/Sydney
BEGIN:STANDARD
TZOFFSETFROM:+1100
TZOFFSETTO:+1000
TZNAME:AEST
DTSTART:20200404T160000
END:STANDARD
BEGIN:DAYLIGHT
TZOFFSETFROM:+1000
TZOFFSETTO:+1100
TZNAME:AEDT
DTSTART:20201003T160000
END:DAYLIGHT
END:VTIMEZONE
BEGIN:VEVENT
DTSTART;TZID=Australia/Sydney:20201002T173000
DTEND;TZID=Australia/Sydney:20201002T200000
DTSTAMP:20260425T091534
CREATED:20190829T065733Z
LAST-MODIFIED:20190829T065733Z
UID:2907-1601659800-1601668800@www.ucapeelvalley.org.au
SUMMARY:Hallsville service and meal
DESCRIPTION:
URL:https://www.ucapeelvalley.org.au/event/hallsville-service-and-meal-181/
LOCATION:Hallsville\, 1266 Manila Road\, Hallsville
END:VEVENT
BEGIN:VEVENT
DTSTART;TZID=Australia/Sydney:20201004T110000
DTEND;TZID=Australia/Sydney:20201004T130000
DTSTAMP:20260425T091534
CREATED:20190829T065733Z
LAST-MODIFIED:20190829T065733Z
UID:2908-1601809200-1601816400@www.ucapeelvalley.org.au
SUMMARY:West Tamworth service
DESCRIPTION:Followed by lunch
URL:https://www.ucapeelvalley.org.au/event/west-tamworth-service-273/
LOCATION:West Tamworth\, 77 Denison Street\, Tamworth\, NSW\, 2340\, Australia
END:VEVENT
BEGIN:VEVENT
DTSTART;TZID=Australia/Sydney:20201006T100000
DTEND;TZID=Australia/Sydney:20201006T113000
DTSTAMP:20260425T091534
CREATED:20190829T071000Z
LAST-MODIFIED:20190829T071000Z
UID:2973-1601978400-1601983800@www.ucapeelvalley.org.au
SUMMARY:Memory Lane
DESCRIPTION:Morning Tea and Conversation
URL:https://www.ucapeelvalley.org.au/event/memory-lane-88/
LOCATION:West Tamworth\, 77 Denison Street\, Tamworth\, NSW\, 2340\, Australia
END:VEVENT
BEGIN:VEVENT
DTSTART;TZID=Australia/Sydney:20201007T133000
DTEND;TZID=Australia/Sydney:20201007T163000
DTSTAMP:20260425T091534
CREATED:20190930T055723Z
LAST-MODIFIED:20190930T055723Z
UID:3034-1602077400-1602088200@www.ucapeelvalley.org.au
SUMMARY:Property bookings
DESCRIPTION:Hallsville Red Cross Monthly meeting
URL:https://www.ucapeelvalley.org.au/event/property-bookings-45/
LOCATION:Hallsville booking\, 1266 Manilla Road\, Hallsville\, NSW\, 2340\, Australia
END:VEVENT
BEGIN:VEVENT
DTSTART;TZID=Australia/Sydney:20201011T083000
DTEND;TZID=Australia/Sydney:20201011T103000
DTSTAMP:20260425T091534
CREATED:20190829T065734Z
LAST-MODIFIED:20190829T065734Z
UID:2909-1602405000-1602412200@www.ucapeelvalley.org.au
SUMMARY:Gowrie service and morning tea
DESCRIPTION:
URL:https://www.ucapeelvalley.org.au/event/gowrie-service-and-morning-tea-156/
LOCATION:Gowrie\, 2125 Gowrie Road\, Gowrie\, NSW\, 2340\, Australia
END:VEVENT
BEGIN:VEVENT
DTSTART;TZID=Australia/Sydney:20201011T110000
DTEND;TZID=Australia/Sydney:20201011T120000
DTSTAMP:20260425T091534
CREATED:20190829T065735Z
LAST-MODIFIED:20190829T065735Z
UID:2910-1602414000-1602417600@www.ucapeelvalley.org.au
SUMMARY:West Tamworth service
DESCRIPTION:
URL:https://www.ucapeelvalley.org.au/event/west-tamworth-service-274/
LOCATION:West Tamworth\, 77 Denison Street\, Tamworth\, NSW\, 2340\, Australia
END:VEVENT
BEGIN:VEVENT
DTSTART;TZID=Australia/Sydney:20201013T100000
DTEND;TZID=Australia/Sydney:20201013T113000
DTSTAMP:20260425T091534
CREATED:20190829T071000Z
LAST-MODIFIED:20190829T071000Z
UID:2974-1602583200-1602588600@www.ucapeelvalley.org.au
SUMMARY:Memory Lane
DESCRIPTION:Morning Tea and Conversation
URL:https://www.ucapeelvalley.org.au/event/memory-lane-89/
LOCATION:West Tamworth\, 77 Denison Street\, Tamworth\, NSW\, 2340\, Australia
END:VEVENT
BEGIN:VEVENT
DTSTART;TZID=Australia/Sydney:20201016T173000
DTEND;TZID=Australia/Sydney:20201016T200000
DTSTAMP:20260425T091534
CREATED:20190829T065735Z
LAST-MODIFIED:20190829T065735Z
UID:2911-1602869400-1602878400@www.ucapeelvalley.org.au
SUMMARY:Hallsville service and meal
DESCRIPTION:
URL:https://www.ucapeelvalley.org.au/event/hallsville-service-and-meal-182/
LOCATION:Hallsville\, 1266 Manila Road\, Hallsville
END:VEVENT
BEGIN:VEVENT
DTSTART;TZID=Australia/Sydney:20201018T110000
DTEND;TZID=Australia/Sydney:20201018T120000
DTSTAMP:20260425T091534
CREATED:20190829T065736Z
LAST-MODIFIED:20190829T065736Z
UID:2912-1603018800-1603022400@www.ucapeelvalley.org.au
SUMMARY:West Tamworth service
DESCRIPTION:
URL:https://www.ucapeelvalley.org.au/event/west-tamworth-service-275/
LOCATION:West Tamworth\, 77 Denison Street\, Tamworth\, NSW\, 2340\, Australia
END:VEVENT
BEGIN:VEVENT
DTSTART;TZID=Australia/Sydney:20201025T083000
DTEND;TZID=Australia/Sydney:20201025T103000
DTSTAMP:20260425T091534
CREATED:20190829T065736Z
LAST-MODIFIED:20190829T065736Z
UID:2913-1603614600-1603621800@www.ucapeelvalley.org.au
SUMMARY:Gowrie service and morning tea
DESCRIPTION:
URL:https://www.ucapeelvalley.org.au/event/gowrie-service-and-morning-tea-157/
LOCATION:Gowrie\, 2125 Gowrie Road\, Gowrie\, NSW\, 2340\, Australia
END:VEVENT
BEGIN:VEVENT
DTSTART;TZID=Australia/Sydney:20201025T083000
DTEND;TZID=Australia/Sydney:20201025T130000
DTSTAMP:20260425T091534
CREATED:20190829T065737Z
LAST-MODIFIED:20201026T013746Z
UID:2914-1603614600-1603630800@www.ucapeelvalley.org.au
SUMMARY:Markets - Cancelled due to Covid-19 restrictions
DESCRIPTION:
URL:https://www.ucapeelvalley.org.au/event/markets-and-cooked-breakfast-34/
LOCATION:Hallsville\, 1266 Manila Road\, Hallsville
END:VEVENT
BEGIN:VEVENT
DTSTART;TZID=Australia/Sydney:20201025T110000
DTEND;TZID=Australia/Sydney:20201025T120000
DTSTAMP:20260425T091534
CREATED:20190829T065738Z
LAST-MODIFIED:20190829T065738Z
UID:2915-1603623600-1603627200@www.ucapeelvalley.org.au
SUMMARY:West Tamworth service
DESCRIPTION:
URL:https://www.ucapeelvalley.org.au/event/west-tamworth-service-276/
LOCATION:West Tamworth\, 77 Denison Street\, Tamworth\, NSW\, 2340\, Australia
END:VEVENT
END:VCALENDAR