BEGIN:VCALENDAR
VERSION:2.0
PRODID:-//Peel Valley Congregations - ECPv6.15.3//NONSGML v1.0//EN
CALSCALE:GREGORIAN
METHOD:PUBLISH
X-WR-CALNAME:Peel Valley Congregations
X-ORIGINAL-URL:https://www.ucapeelvalley.org.au
X-WR-CALDESC:Events for Peel Valley Congregations
REFRESH-INTERVAL;VALUE=DURATION:PT1H
X-Robots-Tag:noindex
X-PUBLISHED-TTL:PT1H
BEGIN:VTIMEZONE
TZID:Australia/Sydney
BEGIN:STANDARD
TZOFFSETFROM:+1100
TZOFFSETTO:+1000
TZNAME:AEST
DTSTART:20180331T160000
END:STANDARD
BEGIN:DAYLIGHT
TZOFFSETFROM:+1000
TZOFFSETTO:+1100
TZNAME:AEDT
DTSTART:20181006T160000
END:DAYLIGHT
END:VTIMEZONE
BEGIN:VEVENT
DTSTART;TZID=Australia/Sydney:20180701T110000
DTEND;TZID=Australia/Sydney:20180701T130000
DTSTAMP:20260426T040611
CREATED:20180731T051435Z
LAST-MODIFIED:20180731T051435Z
UID:2235-1530442800-1530450000@www.ucapeelvalley.org.au
SUMMARY:West Tamworth service
DESCRIPTION:Followed by lunch
URL:https://www.ucapeelvalley.org.au/event/west-tamworth-service-163/
LOCATION:West Tamworth\, 77 Denison Street\, Tamworth\, NSW\, 2340\, Australia
END:VEVENT
BEGIN:VEVENT
DTSTART;TZID=Australia/Sydney:20180703T100000
DTEND;TZID=Australia/Sydney:20180703T113000
DTSTAMP:20260426T040611
CREATED:20180731T051416Z
LAST-MODIFIED:20180731T051416Z
UID:2194-1530612000-1530617400@www.ucapeelvalley.org.au
SUMMARY:Memory Lane
DESCRIPTION:
URL:https://www.ucapeelvalley.org.au/event/memory-lane-19/
LOCATION:West Tamworth\, 77 Denison Street\, Tamworth\, NSW\, 2340\, Australia
END:VEVENT
BEGIN:VEVENT
DTSTART;TZID=Australia/Sydney:20180708T083000
DTEND;TZID=Australia/Sydney:20180708T103000
DTSTAMP:20260426T040611
CREATED:20180731T051435Z
LAST-MODIFIED:20180731T051435Z
UID:2236-1531038600-1531045800@www.ucapeelvalley.org.au
SUMMARY:Gowrie service and morning tea
DESCRIPTION:
URL:https://www.ucapeelvalley.org.au/event/gowrie-service-and-morning-tea-110/
LOCATION:Gowrie\, 2125 Gowrie Road\, Gowrie\, NSW\, 2340\, Australia
END:VEVENT
BEGIN:VEVENT
DTSTART;TZID=Australia/Sydney:20180708T110000
DTEND;TZID=Australia/Sydney:20180708T120000
DTSTAMP:20260426T040611
CREATED:20180731T051436Z
LAST-MODIFIED:20180731T051436Z
UID:2237-1531047600-1531051200@www.ucapeelvalley.org.au
SUMMARY:West Tamworth service
DESCRIPTION:
URL:https://www.ucapeelvalley.org.au/event/west-tamworth-service-164/
LOCATION:West Tamworth\, 77 Denison Street\, Tamworth\, NSW\, 2340\, Australia
END:VEVENT
BEGIN:VEVENT
DTSTART;TZID=Australia/Sydney:20180715T110000
DTEND;TZID=Australia/Sydney:20180715T120000
DTSTAMP:20260426T040611
CREATED:20180731T051437Z
LAST-MODIFIED:20180731T051437Z
UID:2238-1531652400-1531656000@www.ucapeelvalley.org.au
SUMMARY:West Tamworth service
DESCRIPTION:
URL:https://www.ucapeelvalley.org.au/event/west-tamworth-service-165/
LOCATION:West Tamworth\, 77 Denison Street\, Tamworth\, NSW\, 2340\, Australia
END:VEVENT
BEGIN:VEVENT
DTSTART;TZID=Australia/Sydney:20180717T100000
DTEND;TZID=Australia/Sydney:20180717T113000
DTSTAMP:20260426T040611
CREATED:20180731T051416Z
LAST-MODIFIED:20180731T051416Z
UID:2195-1531821600-1531827000@www.ucapeelvalley.org.au
SUMMARY:Memory Lane
DESCRIPTION:
URL:https://www.ucapeelvalley.org.au/event/memory-lane-20/
LOCATION:West Tamworth\, 77 Denison Street\, Tamworth\, NSW\, 2340\, Australia
END:VEVENT
BEGIN:VEVENT
DTSTART;TZID=Australia/Sydney:20180722T070000
DTEND;TZID=Australia/Sydney:20180722T130000
DTSTAMP:20260426T040611
CREATED:20180731T051410Z
LAST-MODIFIED:20180731T051410Z
UID:2182-1532242800-1532264400@www.ucapeelvalley.org.au
SUMMARY:Markets and cooked breakfast
DESCRIPTION:
URL:https://www.ucapeelvalley.org.au/event/markets-and-cooked-breakfast-9/
LOCATION:Hallsville\, 1266 Manila Road\, Hallsville
END:VEVENT
BEGIN:VEVENT
DTSTART;TZID=Australia/Sydney:20180722T083000
DTEND;TZID=Australia/Sydney:20180722T103000
DTSTAMP:20260426T040611
CREATED:20180731T051437Z
LAST-MODIFIED:20180731T051437Z
UID:2239-1532248200-1532255400@www.ucapeelvalley.org.au
SUMMARY:Gowrie service and morning tea
DESCRIPTION:
URL:https://www.ucapeelvalley.org.au/event/gowrie-service-and-morning-tea-111/
LOCATION:Gowrie\, 2125 Gowrie Road\, Gowrie\, NSW\, 2340\, Australia
END:VEVENT
BEGIN:VEVENT
DTSTART;TZID=Australia/Sydney:20180722T110000
DTEND;TZID=Australia/Sydney:20180722T120000
DTSTAMP:20260426T040611
CREATED:20180731T051438Z
LAST-MODIFIED:20180731T051438Z
UID:2240-1532257200-1532260800@www.ucapeelvalley.org.au
SUMMARY:West Tamworth service
DESCRIPTION:
URL:https://www.ucapeelvalley.org.au/event/west-tamworth-service-166/
LOCATION:West Tamworth\, 77 Denison Street\, Tamworth\, NSW\, 2340\, Australia
END:VEVENT
BEGIN:VEVENT
DTSTART;TZID=Australia/Sydney:20180729T110000
DTEND;TZID=Australia/Sydney:20180729T120000
DTSTAMP:20260426T040611
CREATED:20180731T051438Z
LAST-MODIFIED:20180731T051438Z
UID:2241-1532862000-1532865600@www.ucapeelvalley.org.au
SUMMARY:West Tamworth service
DESCRIPTION:Church on the bus\, Beulah’s 95th
URL:https://www.ucapeelvalley.org.au/event/west-tamworth-service-167/
LOCATION:West Tamworth\, 77 Denison Street\, Tamworth\, NSW\, 2340\, Australia
END:VEVENT
END:VCALENDAR