BEGIN:VCALENDAR
VERSION:2.0
PRODID:-//Peel Valley Congregations - ECPv6.15.3//NONSGML v1.0//EN
CALSCALE:GREGORIAN
METHOD:PUBLISH
X-ORIGINAL-URL:https://www.ucapeelvalley.org.au
X-WR-CALDESC:Events for Peel Valley Congregations
REFRESH-INTERVAL;VALUE=DURATION:PT1H
X-Robots-Tag:noindex
X-PUBLISHED-TTL:PT1H
BEGIN:VTIMEZONE
TZID:Australia/Sydney
BEGIN:STANDARD
TZOFFSETFROM:+1100
TZOFFSETTO:+1000
TZNAME:AEST
DTSTART:20200404T160000
END:STANDARD
BEGIN:DAYLIGHT
TZOFFSETFROM:+1000
TZOFFSETTO:+1100
TZNAME:AEDT
DTSTART:20201003T160000
END:DAYLIGHT
END:VTIMEZONE
BEGIN:VEVENT
DTSTART;TZID=Australia/Sydney:20200802T110000
DTEND;TZID=Australia/Sydney:20200802T130000
DTSTAMP:20260425T231558
CREATED:20190829T065724Z
LAST-MODIFIED:20190829T065724Z
UID:2889-1596366000-1596373200@www.ucapeelvalley.org.au
SUMMARY:West Tamworth service
DESCRIPTION:Followed by lunch
URL:https://www.ucapeelvalley.org.au/event/west-tamworth-service-264/
LOCATION:West Tamworth\, 77 Denison Street\, Tamworth\, NSW\, 2340\, Australia
END:VEVENT
BEGIN:VEVENT
DTSTART;TZID=Australia/Sydney:20200804T100000
DTEND;TZID=Australia/Sydney:20200804T113000
DTSTAMP:20260425T231558
CREATED:20190829T070957Z
LAST-MODIFIED:20190829T070957Z
UID:2969-1596535200-1596540600@www.ucapeelvalley.org.au
SUMMARY:Memory Lane
DESCRIPTION:Morning Tea and Conversation
URL:https://www.ucapeelvalley.org.au/event/memory-lane-84/
LOCATION:West Tamworth\, 77 Denison Street\, Tamworth\, NSW\, 2340\, Australia
END:VEVENT
BEGIN:VEVENT
DTSTART;TZID=Australia/Sydney:20200805T133000
DTEND;TZID=Australia/Sydney:20200805T163000
DTSTAMP:20260425T231558
CREATED:20190930T055723Z
LAST-MODIFIED:20190930T055723Z
UID:3032-1596634200-1596645000@www.ucapeelvalley.org.au
SUMMARY:Property bookings
DESCRIPTION:Hallsville Red Cross Monthly meeting
URL:https://www.ucapeelvalley.org.au/event/property-bookings-43/
LOCATION:Hallsville booking\, 1266 Manilla Road\, Hallsville\, NSW\, 2340\, Australia
END:VEVENT
BEGIN:VEVENT
DTSTART;TZID=Australia/Sydney:20200807T173000
DTEND;TZID=Australia/Sydney:20200807T200000
DTSTAMP:20260425T231558
CREATED:20190829T065722Z
LAST-MODIFIED:20190829T065722Z
UID:2888-1596821400-1596830400@www.ucapeelvalley.org.au
SUMMARY:Hallsville service and meal
DESCRIPTION:
URL:https://www.ucapeelvalley.org.au/event/hallsville-service-and-meal-177/
LOCATION:Hallsville\, 1266 Manila Road\, Hallsville
END:VEVENT
BEGIN:VEVENT
DTSTART;TZID=Australia/Sydney:20200809T083000
DTEND;TZID=Australia/Sydney:20200809T103000
DTSTAMP:20260425T231558
CREATED:20190829T065724Z
LAST-MODIFIED:20190829T065724Z
UID:2890-1596961800-1596969000@www.ucapeelvalley.org.au
SUMMARY:Gowrie service and morning tea
DESCRIPTION:
URL:https://www.ucapeelvalley.org.au/event/gowrie-service-and-morning-tea-152/
LOCATION:Gowrie\, 2125 Gowrie Road\, Gowrie\, NSW\, 2340\, Australia
END:VEVENT
BEGIN:VEVENT
DTSTART;TZID=Australia/Sydney:20200809T110000
DTEND;TZID=Australia/Sydney:20200809T120000
DTSTAMP:20260425T231558
CREATED:20190829T065725Z
LAST-MODIFIED:20190829T065725Z
UID:2891-1596970800-1596974400@www.ucapeelvalley.org.au
SUMMARY:West Tamworth service
DESCRIPTION:
URL:https://www.ucapeelvalley.org.au/event/west-tamworth-service-265/
LOCATION:West Tamworth\, 77 Denison Street\, Tamworth\, NSW\, 2340\, Australia
END:VEVENT
BEGIN:VEVENT
DTSTART;TZID=Australia/Sydney:20200816T110000
DTEND;TZID=Australia/Sydney:20200816T120000
DTSTAMP:20260425T231558
CREATED:20190829T065725Z
LAST-MODIFIED:20190829T065725Z
UID:2893-1597575600-1597579200@www.ucapeelvalley.org.au
SUMMARY:West Tamworth service
DESCRIPTION:
URL:https://www.ucapeelvalley.org.au/event/west-tamworth-service-266/
LOCATION:West Tamworth\, 77 Denison Street\, Tamworth\, NSW\, 2340\, Australia
END:VEVENT
BEGIN:VEVENT
DTSTART;TZID=Australia/Sydney:20200818T100000
DTEND;TZID=Australia/Sydney:20200818T113000
DTSTAMP:20260425T231558
CREATED:20190829T070958Z
LAST-MODIFIED:20190829T070958Z
UID:2970-1597744800-1597750200@www.ucapeelvalley.org.au
SUMMARY:Memory Lane
DESCRIPTION:Morning Tea and Conversation
URL:https://www.ucapeelvalley.org.au/event/memory-lane-85/
LOCATION:West Tamworth\, 77 Denison Street\, Tamworth\, NSW\, 2340\, Australia
END:VEVENT
BEGIN:VEVENT
DTSTART;TZID=Australia/Sydney:20200821T173000
DTEND;TZID=Australia/Sydney:20200821T200000
DTSTAMP:20260425T231558
CREATED:20190829T065725Z
LAST-MODIFIED:20190829T065725Z
UID:2892-1598031000-1598040000@www.ucapeelvalley.org.au
SUMMARY:Hallsville service and meal
DESCRIPTION:
URL:https://www.ucapeelvalley.org.au/event/hallsville-service-and-meal-178/
LOCATION:Hallsville\, 1266 Manila Road\, Hallsville
END:VEVENT
BEGIN:VEVENT
DTSTART;TZID=Australia/Sydney:20200823T083000
DTEND;TZID=Australia/Sydney:20200823T103000
DTSTAMP:20260425T231558
CREATED:20190829T065727Z
LAST-MODIFIED:20190829T065727Z
UID:2894-1598171400-1598178600@www.ucapeelvalley.org.au
SUMMARY:Gowrie service and morning tea
DESCRIPTION:
URL:https://www.ucapeelvalley.org.au/event/gowrie-service-and-morning-tea-153/
LOCATION:Gowrie\, 2125 Gowrie Road\, Gowrie\, NSW\, 2340\, Australia
END:VEVENT
BEGIN:VEVENT
DTSTART;TZID=Australia/Sydney:20200823T083000
DTEND;TZID=Australia/Sydney:20200823T130000
DTSTAMP:20260425T231558
CREATED:20190829T065727Z
LAST-MODIFIED:20190829T065727Z
UID:2895-1598171400-1598187600@www.ucapeelvalley.org.au
SUMMARY:Markets and cooked breakfast
DESCRIPTION:
URL:https://www.ucapeelvalley.org.au/event/markets-and-cooked-breakfast-32/
LOCATION:Hallsville\, 1266 Manila Road\, Hallsville
END:VEVENT
BEGIN:VEVENT
DTSTART;TZID=Australia/Sydney:20200823T110000
DTEND;TZID=Australia/Sydney:20200823T120000
DTSTAMP:20260425T231558
CREATED:20190829T065727Z
LAST-MODIFIED:20190829T065727Z
UID:2896-1598180400-1598184000@www.ucapeelvalley.org.au
SUMMARY:West Tamworth service
DESCRIPTION:
URL:https://www.ucapeelvalley.org.au/event/west-tamworth-service-267/
LOCATION:West Tamworth\, 77 Denison Street\, Tamworth\, NSW\, 2340\, Australia
END:VEVENT
BEGIN:VEVENT
DTSTART;TZID=Australia/Sydney:20200830T110000
DTEND;TZID=Australia/Sydney:20200830T130000
DTSTAMP:20260425T231558
CREATED:20190829T065728Z
LAST-MODIFIED:20190829T065728Z
UID:2897-1598785200-1598792400@www.ucapeelvalley.org.au
SUMMARY:West Tamworth service
DESCRIPTION:Church on the bus
URL:https://www.ucapeelvalley.org.au/event/west-tamworth-service-268/
LOCATION:West Tamworth\, 77 Denison Street\, Tamworth\, NSW\, 2340\, Australia
END:VEVENT
BEGIN:VEVENT
DTSTART;TZID=Australia/Sydney:20200901T100000
DTEND;TZID=Australia/Sydney:20200901T113000
DTSTAMP:20260425T231558
CREATED:20190829T070958Z
LAST-MODIFIED:20190829T070958Z
UID:2971-1598954400-1598959800@www.ucapeelvalley.org.au
SUMMARY:Memory Lane
DESCRIPTION:Morning Tea and Conversation
URL:https://www.ucapeelvalley.org.au/event/memory-lane-86/
LOCATION:West Tamworth\, 77 Denison Street\, Tamworth\, NSW\, 2340\, Australia
END:VEVENT
BEGIN:VEVENT
DTSTART;TZID=Australia/Sydney:20200902T133000
DTEND;TZID=Australia/Sydney:20200902T163000
DTSTAMP:20260425T231558
CREATED:20190930T055723Z
LAST-MODIFIED:20190930T055723Z
UID:3033-1599053400-1599064200@www.ucapeelvalley.org.au
SUMMARY:Property bookings
DESCRIPTION:Hallsville Red Cross Monthly meeting
URL:https://www.ucapeelvalley.org.au/event/property-bookings-44/
LOCATION:Hallsville booking\, 1266 Manilla Road\, Hallsville\, NSW\, 2340\, Australia
END:VEVENT
BEGIN:VEVENT
DTSTART;TZID=Australia/Sydney:20200904T173000
DTEND;TZID=Australia/Sydney:20200904T200000
DTSTAMP:20260425T231558
CREATED:20190829T065728Z
LAST-MODIFIED:20190829T065728Z
UID:2898-1599240600-1599249600@www.ucapeelvalley.org.au
SUMMARY:Hallsville service and meal
DESCRIPTION:
URL:https://www.ucapeelvalley.org.au/event/hallsville-service-and-meal-179/
LOCATION:Hallsville\, 1266 Manila Road\, Hallsville
END:VEVENT
BEGIN:VEVENT
DTSTART;TZID=Australia/Sydney:20200906T110000
DTEND;TZID=Australia/Sydney:20200906T120000
DTSTAMP:20260425T231558
CREATED:20190829T065729Z
LAST-MODIFIED:20190829T065729Z
UID:2900-1599390000-1599393600@www.ucapeelvalley.org.au
SUMMARY:West Tamworth service
DESCRIPTION:Followed by lunch
URL:https://www.ucapeelvalley.org.au/event/west-tamworth-service-269/
LOCATION:West Tamworth\, 77 Denison Street\, Tamworth\, NSW\, 2340\, Australia
END:VEVENT
BEGIN:VEVENT
DTSTART;TZID=Australia/Sydney:20200913T083000
DTEND;TZID=Australia/Sydney:20200913T103000
DTSTAMP:20260425T231558
CREATED:20190829T065729Z
LAST-MODIFIED:20190829T065729Z
UID:2899-1599985800-1599993000@www.ucapeelvalley.org.au
SUMMARY:Gowrie service and morning tea
DESCRIPTION:
URL:https://www.ucapeelvalley.org.au/event/gowrie-service-and-morning-tea-154/
LOCATION:Gowrie\, 2125 Gowrie Road\, Gowrie\, NSW\, 2340\, Australia
END:VEVENT
BEGIN:VEVENT
DTSTART;TZID=Australia/Sydney:20200913T110000
DTEND;TZID=Australia/Sydney:20200913T120000
DTSTAMP:20260425T231558
CREATED:20190829T065730Z
LAST-MODIFIED:20190829T065730Z
UID:2901-1599994800-1599998400@www.ucapeelvalley.org.au
SUMMARY:West Tamworth service
DESCRIPTION:
URL:https://www.ucapeelvalley.org.au/event/west-tamworth-service-270/
LOCATION:West Tamworth\, 77 Denison Street\, Tamworth\, NSW\, 2340\, Australia
END:VEVENT
BEGIN:VEVENT
DTSTART;TZID=Australia/Sydney:20200915T100000
DTEND;TZID=Australia/Sydney:20200915T113000
DTSTAMP:20260425T231558
CREATED:20190829T070959Z
LAST-MODIFIED:20190829T070959Z
UID:2972-1600164000-1600169400@www.ucapeelvalley.org.au
SUMMARY:Memory Lane
DESCRIPTION:Morning Tea and Conversation
URL:https://www.ucapeelvalley.org.au/event/memory-lane-87/
LOCATION:West Tamworth\, 77 Denison Street\, Tamworth\, NSW\, 2340\, Australia
END:VEVENT
BEGIN:VEVENT
DTSTART;TZID=Australia/Sydney:20200918T173000
DTEND;TZID=Australia/Sydney:20200918T200000
DTSTAMP:20260425T231558
CREATED:20190829T065730Z
LAST-MODIFIED:20190829T065730Z
UID:2902-1600450200-1600459200@www.ucapeelvalley.org.au
SUMMARY:Hallsville service and meal
DESCRIPTION:
URL:https://www.ucapeelvalley.org.au/event/hallsville-service-and-meal-180/
LOCATION:Hallsville\, 1266 Manila Road\, Hallsville
END:VEVENT
BEGIN:VEVENT
DTSTART;TZID=Australia/Sydney:20200920T110000
DTEND;TZID=Australia/Sydney:20200920T120000
DTSTAMP:20260425T231558
CREATED:20190829T065732Z
LAST-MODIFIED:20190829T065732Z
UID:2905-1600599600-1600603200@www.ucapeelvalley.org.au
SUMMARY:West Tamworth service
DESCRIPTION:
URL:https://www.ucapeelvalley.org.au/event/west-tamworth-service-271/
LOCATION:West Tamworth\, 77 Denison Street\, Tamworth\, NSW\, 2340\, Australia
END:VEVENT
BEGIN:VEVENT
DTSTART;TZID=Australia/Sydney:20200927T083000
DTEND;TZID=Australia/Sydney:20200927T103000
DTSTAMP:20260425T231558
CREATED:20190829T065730Z
LAST-MODIFIED:20190829T065730Z
UID:2903-1601195400-1601202600@www.ucapeelvalley.org.au
SUMMARY:Gowrie service and morning tea
DESCRIPTION:
URL:https://www.ucapeelvalley.org.au/event/gowrie-service-and-morning-tea-155/
LOCATION:Gowrie\, 2125 Gowrie Road\, Gowrie\, NSW\, 2340\, Australia
END:VEVENT
BEGIN:VEVENT
DTSTART;TZID=Australia/Sydney:20200927T083000
DTEND;TZID=Australia/Sydney:20200927T130000
DTSTAMP:20260425T231558
CREATED:20190829T065732Z
LAST-MODIFIED:20190829T065732Z
UID:2904-1601195400-1601211600@www.ucapeelvalley.org.au
SUMMARY:Markets and cooked breakfast
DESCRIPTION:
URL:https://www.ucapeelvalley.org.au/event/markets-and-cooked-breakfast-33/
LOCATION:Hallsville\, 1266 Manila Road\, Hallsville
END:VEVENT
BEGIN:VEVENT
DTSTART;TZID=Australia/Sydney:20200927T103000
DTEND;TZID=Australia/Sydney:20200927T140000
DTSTAMP:20260425T231558
CREATED:20190829T065732Z
LAST-MODIFIED:20190829T065732Z
UID:2906-1601202600-1601215200@www.ucapeelvalley.org.au
SUMMARY:West Tamworth service
DESCRIPTION:
URL:https://www.ucapeelvalley.org.au/event/west-tamworth-service-272/
LOCATION:West Tamworth\, 77 Denison Street\, Tamworth\, NSW\, 2340\, Australia
END:VEVENT
BEGIN:VEVENT
DTSTART;TZID=Australia/Sydney:20201002T173000
DTEND;TZID=Australia/Sydney:20201002T200000
DTSTAMP:20260425T231558
CREATED:20190829T065733Z
LAST-MODIFIED:20190829T065733Z
UID:2907-1601659800-1601668800@www.ucapeelvalley.org.au
SUMMARY:Hallsville service and meal
DESCRIPTION:
URL:https://www.ucapeelvalley.org.au/event/hallsville-service-and-meal-181/
LOCATION:Hallsville\, 1266 Manila Road\, Hallsville
END:VEVENT
BEGIN:VEVENT
DTSTART;TZID=Australia/Sydney:20201004T110000
DTEND;TZID=Australia/Sydney:20201004T130000
DTSTAMP:20260425T231558
CREATED:20190829T065733Z
LAST-MODIFIED:20190829T065733Z
UID:2908-1601809200-1601816400@www.ucapeelvalley.org.au
SUMMARY:West Tamworth service
DESCRIPTION:Followed by lunch
URL:https://www.ucapeelvalley.org.au/event/west-tamworth-service-273/
LOCATION:West Tamworth\, 77 Denison Street\, Tamworth\, NSW\, 2340\, Australia
END:VEVENT
BEGIN:VEVENT
DTSTART;TZID=Australia/Sydney:20201006T100000
DTEND;TZID=Australia/Sydney:20201006T113000
DTSTAMP:20260425T231558
CREATED:20190829T071000Z
LAST-MODIFIED:20190829T071000Z
UID:2973-1601978400-1601983800@www.ucapeelvalley.org.au
SUMMARY:Memory Lane
DESCRIPTION:Morning Tea and Conversation
URL:https://www.ucapeelvalley.org.au/event/memory-lane-88/
LOCATION:West Tamworth\, 77 Denison Street\, Tamworth\, NSW\, 2340\, Australia
END:VEVENT
BEGIN:VEVENT
DTSTART;TZID=Australia/Sydney:20201007T133000
DTEND;TZID=Australia/Sydney:20201007T163000
DTSTAMP:20260425T231558
CREATED:20190930T055723Z
LAST-MODIFIED:20190930T055723Z
UID:3034-1602077400-1602088200@www.ucapeelvalley.org.au
SUMMARY:Property bookings
DESCRIPTION:Hallsville Red Cross Monthly meeting
URL:https://www.ucapeelvalley.org.au/event/property-bookings-45/
LOCATION:Hallsville booking\, 1266 Manilla Road\, Hallsville\, NSW\, 2340\, Australia
END:VEVENT
BEGIN:VEVENT
DTSTART;TZID=Australia/Sydney:20201011T083000
DTEND;TZID=Australia/Sydney:20201011T103000
DTSTAMP:20260425T231558
CREATED:20190829T065734Z
LAST-MODIFIED:20190829T065734Z
UID:2909-1602405000-1602412200@www.ucapeelvalley.org.au
SUMMARY:Gowrie service and morning tea
DESCRIPTION:
URL:https://www.ucapeelvalley.org.au/event/gowrie-service-and-morning-tea-156/
LOCATION:Gowrie\, 2125 Gowrie Road\, Gowrie\, NSW\, 2340\, Australia
END:VEVENT
END:VCALENDAR