BEGIN:VCALENDAR
VERSION:2.0
PRODID:-//Peel Valley Congregations - ECPv6.15.3//NONSGML v1.0//EN
CALSCALE:GREGORIAN
METHOD:PUBLISH
X-WR-CALNAME:Peel Valley Congregations
X-ORIGINAL-URL:https://www.ucapeelvalley.org.au
X-WR-CALDESC:Events for Peel Valley Congregations
REFRESH-INTERVAL;VALUE=DURATION:PT1H
X-Robots-Tag:noindex
X-PUBLISHED-TTL:PT1H
BEGIN:VTIMEZONE
TZID:Australia/Sydney
BEGIN:STANDARD
TZOFFSETFROM:+1100
TZOFFSETTO:+1000
TZNAME:AEST
DTSTART:20190406T160000
END:STANDARD
BEGIN:DAYLIGHT
TZOFFSETFROM:+1000
TZOFFSETTO:+1100
TZNAME:AEDT
DTSTART:20191005T160000
END:DAYLIGHT
END:VTIMEZONE
BEGIN:VEVENT
DTSTART;TZID=Australia/Sydney:20190505T110000
DTEND;TZID=Australia/Sydney:20190505T130000
DTSTAMP:20260426T014028
CREATED:20190107T221000Z
LAST-MODIFIED:20190325T015149Z
UID:2503-1557054000-1557061200@www.ucapeelvalley.org.au
SUMMARY:West Tamworth service
DESCRIPTION:Followed by lunch
URL:https://www.ucapeelvalley.org.au/event/west-tamworth-service-203/
LOCATION:West Tamworth\, 77 Denison Street\, Tamworth\, NSW\, 2340\, Australia
END:VEVENT
BEGIN:VEVENT
DTSTART;TZID=Australia/Sydney:20190503T173000
DTEND;TZID=Australia/Sydney:20190503T200000
DTSTAMP:20260426T014028
CREATED:20190107T221000Z
LAST-MODIFIED:20190325T015223Z
UID:2502-1556904600-1556913600@www.ucapeelvalley.org.au
SUMMARY:Hallsville service and meal
DESCRIPTION:
URL:https://www.ucapeelvalley.org.au/event/hallsville-service-and-meal-148/
LOCATION:Hallsville\, 1266 Manila Road\, Hallsville
END:VEVENT
BEGIN:VEVENT
DTSTART;TZID=Australia/Sydney:20190501T133000
DTEND;TZID=Australia/Sydney:20190501T163000
DTSTAMP:20260426T014028
CREATED:20181012T010001Z
LAST-MODIFIED:20181012T010001Z
UID:2359-1556717400-1556728200@www.ucapeelvalley.org.au
SUMMARY:Property bookings
DESCRIPTION:Hallsville Red Cross Monthly meeting
URL:https://www.ucapeelvalley.org.au/event/property-bookings-10/
LOCATION:Hallsville booking\, 1266 Manilla Road\, Hallsville\, NSW\, 2340\, Australia
END:VEVENT
BEGIN:VEVENT
DTSTART;TZID=Australia/Sydney:20190428T110000
DTEND;TZID=Australia/Sydney:20190428T120000
DTSTAMP:20260426T014028
CREATED:20190107T220958Z
LAST-MODIFIED:20190306T044154Z
UID:2501-1556449200-1556452800@www.ucapeelvalley.org.au
SUMMARY:West Tamworth service
DESCRIPTION:
URL:https://www.ucapeelvalley.org.au/event/west-tamworth-service-202/
LOCATION:West Tamworth\, 77 Denison Street\, Tamworth\, NSW\, 2340\, Australia
END:VEVENT
BEGIN:VEVENT
DTSTART;TZID=Australia/Sydney:20190428T083000
DTEND;TZID=Australia/Sydney:20190428T130000
DTSTAMP:20260426T014028
CREATED:20190107T220958Z
LAST-MODIFIED:20190107T220958Z
UID:2500-1556440200-1556456400@www.ucapeelvalley.org.au
SUMMARY:Markets and cooked breakfast
DESCRIPTION:
URL:https://www.ucapeelvalley.org.au/event/markets-and-cooked-breakfast-17/
LOCATION:Hallsville\, 1266 Manila Road\, Hallsville
END:VEVENT
BEGIN:VEVENT
DTSTART;TZID=Australia/Sydney:20190428T083000
DTEND;TZID=Australia/Sydney:20190428T103000
DTSTAMP:20260426T014028
CREATED:20190107T220958Z
LAST-MODIFIED:20190306T044115Z
UID:2499-1556440200-1556447400@www.ucapeelvalley.org.au
SUMMARY:Gowrie service and morning tea
DESCRIPTION:
URL:https://www.ucapeelvalley.org.au/event/gowrie-service-and-morning-tea-125/
LOCATION:Gowrie\, 2125 Gowrie Road\, Gowrie\, NSW\, 2340\, Australia
END:VEVENT
BEGIN:VEVENT
DTSTART;TZID=Australia/Sydney:20190421T110000
DTEND;TZID=Australia/Sydney:20190421T120000
DTSTAMP:20260426T014028
CREATED:20190107T220958Z
LAST-MODIFIED:20190306T044042Z
UID:2498-1555844400-1555848000@www.ucapeelvalley.org.au
SUMMARY:West Tamworth Easter Sunday service
DESCRIPTION:
URL:https://www.ucapeelvalley.org.au/event/west-tamworth-service-201/
LOCATION:West Tamworth\, 77 Denison Street\, Tamworth\, NSW\, 2340\, Australia
END:VEVENT
BEGIN:VEVENT
DTSTART;TZID=Australia/Sydney:20190419T090000
DTEND;TZID=Australia/Sydney:20190419T100000
DTSTAMP:20260426T014028
CREATED:20190107T220957Z
LAST-MODIFIED:20190306T043946Z
UID:2497-1555664400-1555668000@www.ucapeelvalley.org.au
SUMMARY:Hallsville Good Friday Service
DESCRIPTION:
URL:https://www.ucapeelvalley.org.au/event/hallsville-service-and-meal-147/
LOCATION:Hallsville\, 1266 Manila Road\, Hallsville
END:VEVENT
BEGIN:VEVENT
DTSTART;TZID=Australia/Sydney:20190417T093000
DTEND;TZID=Australia/Sydney:20190417T170000
DTSTAMP:20260426T014028
CREATED:20190306T040314Z
LAST-MODIFIED:20190306T040314Z
UID:2644-1555493400-1555520400@www.ucapeelvalley.org.au
SUMMARY:Property bookings
DESCRIPTION:Private Booking
URL:https://www.ucapeelvalley.org.au/event/property-bookings-23/
LOCATION:Hallsville booking\, 1266 Manilla Road\, Hallsville\, NSW\, 2340\, Australia
END:VEVENT
BEGIN:VEVENT
DTSTART;TZID=Australia/Sydney:20190416T100000
DTEND;TZID=Australia/Sydney:20190416T113000
DTSTAMP:20260426T014028
CREATED:20190107T221046Z
LAST-MODIFIED:20190107T221046Z
UID:2585-1555408800-1555414200@www.ucapeelvalley.org.au
SUMMARY:Memory Lane
DESCRIPTION:Morning Tea and Conversation
URL:https://www.ucapeelvalley.org.au/event/memory-lane-35/
LOCATION:West Tamworth\, 77 Denison Street\, Tamworth\, NSW\, 2340\, Australia
END:VEVENT
BEGIN:VEVENT
DTSTART;TZID=Australia/Sydney:20190416T093000
DTEND;TZID=Australia/Sydney:20190416T170000
DTSTAMP:20260426T014028
CREATED:20190306T040314Z
LAST-MODIFIED:20190306T040314Z
UID:2643-1555407000-1555434000@www.ucapeelvalley.org.au
SUMMARY:Property bookings
DESCRIPTION:Private Booking
URL:https://www.ucapeelvalley.org.au/event/property-bookings-22/
LOCATION:Hallsville booking\, 1266 Manilla Road\, Hallsville\, NSW\, 2340\, Australia
END:VEVENT
BEGIN:VEVENT
DTSTART;TZID=Australia/Sydney:20190414T110000
DTEND;TZID=Australia/Sydney:20190414T120000
DTSTAMP:20260426T014028
CREATED:20190107T220956Z
LAST-MODIFIED:20190306T043825Z
UID:2496-1555239600-1555243200@www.ucapeelvalley.org.au
SUMMARY:West Tamworth service
DESCRIPTION:
URL:https://www.ucapeelvalley.org.au/event/west-tamworth-service-200/
LOCATION:West Tamworth\, 77 Denison Street\, Tamworth\, NSW\, 2340\, Australia
END:VEVENT
BEGIN:VEVENT
DTSTART;TZID=Australia/Sydney:20190414T083000
DTEND;TZID=Australia/Sydney:20190414T103000
DTSTAMP:20260426T014028
CREATED:20190107T220956Z
LAST-MODIFIED:20190306T043756Z
UID:2495-1555230600-1555237800@www.ucapeelvalley.org.au
SUMMARY:Gowrie service and morning tea
DESCRIPTION:
URL:https://www.ucapeelvalley.org.au/event/gowrie-service-and-morning-tea-124/
LOCATION:Gowrie\, 2125 Gowrie Road\, Gowrie\, NSW\, 2340\, Australia
END:VEVENT
BEGIN:VEVENT
DTSTART;TZID=Australia/Sydney:20190407T110000
DTEND;TZID=Australia/Sydney:20190407T130000
DTSTAMP:20260426T014028
CREATED:20190107T220955Z
LAST-MODIFIED:20190306T043727Z
UID:2494-1554634800-1554642000@www.ucapeelvalley.org.au
SUMMARY:West Tamworth service
DESCRIPTION:Followed by lunch
URL:https://www.ucapeelvalley.org.au/event/west-tamworth-service-199/
LOCATION:West Tamworth\, 77 Denison Street\, Tamworth\, NSW\, 2340\, Australia
END:VEVENT
BEGIN:VEVENT
DTSTART;TZID=Australia/Sydney:20190405T173000
DTEND;TZID=Australia/Sydney:20190405T200000
DTSTAMP:20260426T014028
CREATED:20190107T220955Z
LAST-MODIFIED:20190306T043701Z
UID:2493-1554485400-1554494400@www.ucapeelvalley.org.au
SUMMARY:Hallsville service and meal
DESCRIPTION:
URL:https://www.ucapeelvalley.org.au/event/hallsville-service-and-meal-146/
LOCATION:Hallsville\, 1266 Manila Road\, Hallsville
END:VEVENT
BEGIN:VEVENT
DTSTART;TZID=Australia/Sydney:20190403T133000
DTEND;TZID=Australia/Sydney:20190403T163000
DTSTAMP:20260426T014028
CREATED:20181012T010001Z
LAST-MODIFIED:20181012T010001Z
UID:2358-1554298200-1554309000@www.ucapeelvalley.org.au
SUMMARY:Property bookings
DESCRIPTION:Hallsville Red Cross Monthly meeting
URL:https://www.ucapeelvalley.org.au/event/property-bookings-9/
LOCATION:Hallsville booking\, 1266 Manilla Road\, Hallsville\, NSW\, 2340\, Australia
END:VEVENT
BEGIN:VEVENT
DTSTART;TZID=Australia/Sydney:20190402T100000
DTEND;TZID=Australia/Sydney:20190402T113000
DTSTAMP:20260426T014028
CREATED:20190107T221046Z
LAST-MODIFIED:20190107T221046Z
UID:2584-1554199200-1554204600@www.ucapeelvalley.org.au
SUMMARY:Memory Lane
DESCRIPTION:Morning Tea and Conversation
URL:https://www.ucapeelvalley.org.au/event/memory-lane-34/
LOCATION:West Tamworth\, 77 Denison Street\, Tamworth\, NSW\, 2340\, Australia
END:VEVENT
BEGIN:VEVENT
DTSTART;TZID=Australia/Sydney:20190331T103000
DTEND;TZID=Australia/Sydney:20190331T140000
DTSTAMP:20260426T014028
CREATED:20190107T220955Z
LAST-MODIFIED:20190306T043625Z
UID:2492-1554028200-1554040800@www.ucapeelvalley.org.au
SUMMARY:Lunch at Hallsville - 5th Sunday
DESCRIPTION:Church on the bus
URL:https://www.ucapeelvalley.org.au/event/west-tamworth-service-198/
LOCATION:Hallsville\, 1266 Manila Road\, Hallsville
END:VEVENT
BEGIN:VEVENT
DTSTART;TZID=Australia/Sydney:20190324T110000
DTEND;TZID=Australia/Sydney:20190324T120000
DTSTAMP:20260426T014028
CREATED:20190107T220953Z
LAST-MODIFIED:20190306T043316Z
UID:2491-1553425200-1553428800@www.ucapeelvalley.org.au
SUMMARY:West Tamworth service
DESCRIPTION:
URL:https://www.ucapeelvalley.org.au/event/west-tamworth-service-197/
LOCATION:West Tamworth\, 77 Denison Street\, Tamworth\, NSW\, 2340\, Australia
END:VEVENT
BEGIN:VEVENT
DTSTART;TZID=Australia/Sydney:20190324T083000
DTEND;TZID=Australia/Sydney:20190324T130000
DTSTAMP:20260426T014028
CREATED:20190107T220953Z
LAST-MODIFIED:20190107T220953Z
UID:2490-1553416200-1553432400@www.ucapeelvalley.org.au
SUMMARY:Markets and cooked breakfast
DESCRIPTION:
URL:https://www.ucapeelvalley.org.au/event/markets-and-cooked-breakfast-16/
LOCATION:Hallsville\, 1266 Manila Road\, Hallsville
END:VEVENT
BEGIN:VEVENT
DTSTART;TZID=Australia/Sydney:20190324T083000
DTEND;TZID=Australia/Sydney:20190324T103000
DTSTAMP:20260426T014028
CREATED:20190107T220953Z
LAST-MODIFIED:20190306T043237Z
UID:2489-1553416200-1553423400@www.ucapeelvalley.org.au
SUMMARY:Gowrie service and morning tea
DESCRIPTION:
URL:https://www.ucapeelvalley.org.au/event/gowrie-service-and-morning-tea-123/
LOCATION:Gowrie\, 2125 Gowrie Road\, Gowrie\, NSW\, 2340\, Australia
END:VEVENT
BEGIN:VEVENT
DTSTART;TZID=Australia/Sydney:20190322T093000
DTEND;TZID=Australia/Sydney:20190322T170000
DTSTAMP:20260426T014028
CREATED:20190306T040314Z
LAST-MODIFIED:20190306T040314Z
UID:2642-1553247000-1553274000@www.ucapeelvalley.org.au
SUMMARY:Property bookings
DESCRIPTION:Private Booking
URL:https://www.ucapeelvalley.org.au/event/property-bookings-21/
LOCATION:Hallsville booking\, 1266 Manilla Road\, Hallsville\, NSW\, 2340\, Australia
END:VEVENT
BEGIN:VEVENT
DTSTART;TZID=Australia/Sydney:20190321T093000
DTEND;TZID=Australia/Sydney:20190321T170000
DTSTAMP:20260426T014028
CREATED:20190306T040314Z
LAST-MODIFIED:20190306T040314Z
UID:2641-1553160600-1553187600@www.ucapeelvalley.org.au
SUMMARY:Property bookings
DESCRIPTION:Private Booking
URL:https://www.ucapeelvalley.org.au/event/property-bookings-20/
LOCATION:Hallsville booking\, 1266 Manilla Road\, Hallsville\, NSW\, 2340\, Australia
END:VEVENT
BEGIN:VEVENT
DTSTART;TZID=Australia/Sydney:20190319T100000
DTEND;TZID=Australia/Sydney:20190319T113000
DTSTAMP:20260426T014028
CREATED:20190107T221046Z
LAST-MODIFIED:20190107T221046Z
UID:2583-1552989600-1552995000@www.ucapeelvalley.org.au
SUMMARY:Memory Lane
DESCRIPTION:Morning Tea and Conversation
URL:https://www.ucapeelvalley.org.au/event/memory-lane-33/
LOCATION:West Tamworth\, 77 Denison Street\, Tamworth\, NSW\, 2340\, Australia
END:VEVENT
BEGIN:VEVENT
DTSTART;TZID=Australia/Sydney:20190317T110000
DTEND;TZID=Australia/Sydney:20190317T120000
DTSTAMP:20260426T014028
CREATED:20190107T220952Z
LAST-MODIFIED:20190107T220952Z
UID:2488-1552820400-1552824000@www.ucapeelvalley.org.au
SUMMARY:West Tamworth service
DESCRIPTION:
URL:https://www.ucapeelvalley.org.au/event/west-tamworth-service-196/
LOCATION:West Tamworth\, 77 Denison Street\, Tamworth\, NSW\, 2340\, Australia
END:VEVENT
BEGIN:VEVENT
DTSTART;TZID=Australia/Sydney:20190315T173000
DTEND;TZID=Australia/Sydney:20190315T200000
DTSTAMP:20260426T014028
CREATED:20190107T220952Z
LAST-MODIFIED:20190306T043010Z
UID:2487-1552671000-1552680000@www.ucapeelvalley.org.au
SUMMARY:Hallsville service and meal
DESCRIPTION:
URL:https://www.ucapeelvalley.org.au/event/hallsville-service-and-meal-145/
LOCATION:Hallsville\, 1266 Manila Road\, Hallsville
END:VEVENT
BEGIN:VEVENT
DTSTART;TZID=Australia/Sydney:20190310T110000
DTEND;TZID=Australia/Sydney:20190310T120000
DTSTAMP:20260426T014028
CREATED:20190107T220950Z
LAST-MODIFIED:20190306T042935Z
UID:2486-1552215600-1552219200@www.ucapeelvalley.org.au
SUMMARY:West Tamworth service
DESCRIPTION:
URL:https://www.ucapeelvalley.org.au/event/west-tamworth-service-195/
LOCATION:West Tamworth\, 77 Denison Street\, Tamworth\, NSW\, 2340\, Australia
END:VEVENT
BEGIN:VEVENT
DTSTART;TZID=Australia/Sydney:20190310T083000
DTEND;TZID=Australia/Sydney:20190310T103000
DTSTAMP:20260426T014028
CREATED:20190107T220950Z
LAST-MODIFIED:20190306T042905Z
UID:2485-1552206600-1552213800@www.ucapeelvalley.org.au
SUMMARY:Gowrie service and morning tea
DESCRIPTION:
URL:https://www.ucapeelvalley.org.au/event/gowrie-service-and-morning-tea-122/
LOCATION:Gowrie\, 2125 Gowrie Road\, Gowrie\, NSW\, 2340\, Australia
END:VEVENT
BEGIN:VEVENT
DTSTART;TZID=Australia/Sydney:20190306T133000
DTEND;TZID=Australia/Sydney:20190306T163000
DTSTAMP:20260426T014028
CREATED:20181012T010000Z
LAST-MODIFIED:20181012T010000Z
UID:2357-1551879000-1551889800@www.ucapeelvalley.org.au
SUMMARY:Property bookings
DESCRIPTION:Hallsville Red Cross Monthly meeting
URL:https://www.ucapeelvalley.org.au/event/property-bookings-8/
LOCATION:Hallsville booking\, 1266 Manilla Road\, Hallsville\, NSW\, 2340\, Australia
END:VEVENT
BEGIN:VEVENT
DTSTART;TZID=Australia/Sydney:20190305T100000
DTEND;TZID=Australia/Sydney:20190305T113000
DTSTAMP:20260426T014028
CREATED:20190107T221046Z
LAST-MODIFIED:20190107T221046Z
UID:2582-1551780000-1551785400@www.ucapeelvalley.org.au
SUMMARY:Memory Lane
DESCRIPTION:Morning Tea and Conversation
URL:https://www.ucapeelvalley.org.au/event/memory-lane-32/
LOCATION:West Tamworth\, 77 Denison Street\, Tamworth\, NSW\, 2340\, Australia
END:VEVENT
END:VCALENDAR