BEGIN:VCALENDAR
VERSION:2.0
PRODID:-//Peel Valley Congregations - ECPv6.15.3//NONSGML v1.0//EN
CALSCALE:GREGORIAN
METHOD:PUBLISH
X-WR-CALNAME:Peel Valley Congregations
X-ORIGINAL-URL:https://www.ucapeelvalley.org.au
X-WR-CALDESC:Events for Peel Valley Congregations
REFRESH-INTERVAL;VALUE=DURATION:PT1H
X-Robots-Tag:noindex
X-PUBLISHED-TTL:PT1H
BEGIN:VTIMEZONE
TZID:Australia/Sydney
BEGIN:STANDARD
TZOFFSETFROM:+1100
TZOFFSETTO:+1000
TZNAME:AEST
DTSTART:20180331T160000
END:STANDARD
BEGIN:DAYLIGHT
TZOFFSETFROM:+1000
TZOFFSETTO:+1100
TZNAME:AEDT
DTSTART:20181006T160000
END:DAYLIGHT
END:VTIMEZONE
BEGIN:VEVENT
DTSTART;TZID=Australia/Sydney:20180610T083000
DTEND;TZID=Australia/Sydney:20180610T103000
DTSTAMP:20260426T125834
CREATED:20180731T051433Z
LAST-MODIFIED:20180731T051433Z
UID:2230-1528619400-1528626600@www.ucapeelvalley.org.au
SUMMARY:Gowrie service and morning tea
DESCRIPTION:
URL:https://www.ucapeelvalley.org.au/event/gowrie-service-and-morning-tea-109/
LOCATION:Gowrie\, 2125 Gowrie Road\, Gowrie\, NSW\, 2340\, Australia
END:VEVENT
BEGIN:VEVENT
DTSTART;TZID=Australia/Sydney:20180605T100000
DTEND;TZID=Australia/Sydney:20180605T113000
DTSTAMP:20260426T125834
CREATED:20180731T051415Z
LAST-MODIFIED:20180731T051415Z
UID:2192-1528192800-1528198200@www.ucapeelvalley.org.au
SUMMARY:Memory Lane
DESCRIPTION:
URL:https://www.ucapeelvalley.org.au/event/memory-lane-17/
LOCATION:West Tamworth\, 77 Denison Street\, Tamworth\, NSW\, 2340\, Australia
END:VEVENT
BEGIN:VEVENT
DTSTART;TZID=Australia/Sydney:20180603T110000
DTEND;TZID=Australia/Sydney:20180603T130000
DTSTAMP:20260426T125834
CREATED:20180731T051433Z
LAST-MODIFIED:20180731T051433Z
UID:2229-1528023600-1528030800@www.ucapeelvalley.org.au
SUMMARY:West Tamworth service
DESCRIPTION:Followed by lunch
URL:https://www.ucapeelvalley.org.au/event/west-tamworth-service-159/
LOCATION:West Tamworth\, 77 Denison Street\, Tamworth\, NSW\, 2340\, Australia
END:VEVENT
BEGIN:VEVENT
DTSTART;TZID=Australia/Sydney:20180601T173000
DTEND;TZID=Australia/Sydney:20180601T200000
DTSTAMP:20260426T125834
CREATED:20180731T051432Z
LAST-MODIFIED:20180731T051432Z
UID:2228-1527874200-1527883200@www.ucapeelvalley.org.au
SUMMARY:Hallsville service and meal
DESCRIPTION:
URL:https://www.ucapeelvalley.org.au/event/hallsville-service-and-meal-132/
LOCATION:Hallsville\, 1266 Manila Road\, Hallsville
END:VEVENT
BEGIN:VEVENT
DTSTART;TZID=Australia/Sydney:20180527T110000
DTEND;TZID=Australia/Sydney:20180527T120000
DTSTAMP:20260426T125834
CREATED:20180731T051431Z
LAST-MODIFIED:20180731T051431Z
UID:2227-1527418800-1527422400@www.ucapeelvalley.org.au
SUMMARY:West Tamworth service
DESCRIPTION:
URL:https://www.ucapeelvalley.org.au/event/west-tamworth-service-158/
LOCATION:West Tamworth\, 77 Denison Street\, Tamworth\, NSW\, 2340\, Australia
END:VEVENT
BEGIN:VEVENT
DTSTART;TZID=Australia/Sydney:20180527T083000
DTEND;TZID=Australia/Sydney:20180527T103000
DTSTAMP:20260426T125834
CREATED:20180731T051431Z
LAST-MODIFIED:20180731T051431Z
UID:2226-1527409800-1527417000@www.ucapeelvalley.org.au
SUMMARY:Gowrie service and morning tea
DESCRIPTION:
URL:https://www.ucapeelvalley.org.au/event/gowrie-service-and-morning-tea-108/
LOCATION:Gowrie\, 2125 Gowrie Road\, Gowrie\, NSW\, 2340\, Australia
END:VEVENT
BEGIN:VEVENT
DTSTART;TZID=Australia/Sydney:20180527T070000
DTEND;TZID=Australia/Sydney:20180527T130000
DTSTAMP:20260426T125834
CREATED:20180731T051410Z
LAST-MODIFIED:20180731T051410Z
UID:2180-1527404400-1527426000@www.ucapeelvalley.org.au
SUMMARY:Markets and cooked breakfast
DESCRIPTION:
URL:https://www.ucapeelvalley.org.au/event/markets-and-cooked-breakfast-7/
LOCATION:Hallsville\, 1266 Manila Road\, Hallsville
END:VEVENT
BEGIN:VEVENT
DTSTART;TZID=Australia/Sydney:20180520T110000
DTEND;TZID=Australia/Sydney:20180520T120000
DTSTAMP:20260426T125834
CREATED:20180731T051431Z
LAST-MODIFIED:20180731T051431Z
UID:2225-1526814000-1526817600@www.ucapeelvalley.org.au
SUMMARY:West Tamworth service
DESCRIPTION:
URL:https://www.ucapeelvalley.org.au/event/west-tamworth-service-157/
LOCATION:West Tamworth\, 77 Denison Street\, Tamworth\, NSW\, 2340\, Australia
END:VEVENT
BEGIN:VEVENT
DTSTART;TZID=Australia/Sydney:20180518T173000
DTEND;TZID=Australia/Sydney:20180518T200000
DTSTAMP:20260426T125834
CREATED:20180731T051430Z
LAST-MODIFIED:20180731T051430Z
UID:2224-1526664600-1526673600@www.ucapeelvalley.org.au
SUMMARY:Hallsville service and meal
DESCRIPTION:
URL:https://www.ucapeelvalley.org.au/event/hallsville-service-and-meal-131/
LOCATION:Hallsville\, 1266 Manila Road\, Hallsville
END:VEVENT
BEGIN:VEVENT
DTSTART;TZID=Australia/Sydney:20180515T100000
DTEND;TZID=Australia/Sydney:20180515T113000
DTSTAMP:20260426T125834
CREATED:20180731T051415Z
LAST-MODIFIED:20180731T051415Z
UID:2191-1526378400-1526383800@www.ucapeelvalley.org.au
SUMMARY:Memory Lane
DESCRIPTION:
URL:https://www.ucapeelvalley.org.au/event/memory-lane-16/
LOCATION:West Tamworth\, 77 Denison Street\, Tamworth\, NSW\, 2340\, Australia
END:VEVENT
BEGIN:VEVENT
DTSTART;TZID=Australia/Sydney:20180513T110000
DTEND;TZID=Australia/Sydney:20180513T120000
DTSTAMP:20260426T125834
CREATED:20180731T051430Z
LAST-MODIFIED:20180731T051430Z
UID:2223-1526209200-1526212800@www.ucapeelvalley.org.au
SUMMARY:West Tamworth service
DESCRIPTION:
URL:https://www.ucapeelvalley.org.au/event/west-tamworth-service-156/
LOCATION:West Tamworth\, 77 Denison Street\, Tamworth\, NSW\, 2340\, Australia
END:VEVENT
BEGIN:VEVENT
DTSTART;TZID=Australia/Sydney:20180513T083000
DTEND;TZID=Australia/Sydney:20180513T103000
DTSTAMP:20260426T125834
CREATED:20180731T051429Z
LAST-MODIFIED:20180731T051429Z
UID:2222-1526200200-1526207400@www.ucapeelvalley.org.au
SUMMARY:Gowrie service and morning tea
DESCRIPTION:
URL:https://www.ucapeelvalley.org.au/event/gowrie-service-and-morning-tea-107/
LOCATION:Gowrie\, 2125 Gowrie Road\, Gowrie\, NSW\, 2340\, Australia
END:VEVENT
BEGIN:VEVENT
DTSTART;TZID=Australia/Sydney:20180506T110000
DTEND;TZID=Australia/Sydney:20180506T130000
DTSTAMP:20260426T125834
CREATED:20180731T051429Z
LAST-MODIFIED:20180731T051429Z
UID:2221-1525604400-1525611600@www.ucapeelvalley.org.au
SUMMARY:West Tamworth service
DESCRIPTION:Followed by lunch
URL:https://www.ucapeelvalley.org.au/event/west-tamworth-service-155/
LOCATION:West Tamworth\, 77 Denison Street\, Tamworth\, NSW\, 2340\, Australia
END:VEVENT
BEGIN:VEVENT
DTSTART;TZID=Australia/Sydney:20180504T173000
DTEND;TZID=Australia/Sydney:20180504T200000
DTSTAMP:20260426T125834
CREATED:20180731T051428Z
LAST-MODIFIED:20180731T051428Z
UID:2220-1525455000-1525464000@www.ucapeelvalley.org.au
SUMMARY:Hallsville service and meal
DESCRIPTION:
URL:https://www.ucapeelvalley.org.au/event/hallsville-service-and-meal-130/
LOCATION:Hallsville\, 1266 Manila Road\, Hallsville
END:VEVENT
BEGIN:VEVENT
DTSTART;TZID=Australia/Sydney:20180501T100000
DTEND;TZID=Australia/Sydney:20180501T113000
DTSTAMP:20260426T125834
CREATED:20180731T051414Z
LAST-MODIFIED:20180731T051414Z
UID:2190-1525168800-1525174200@www.ucapeelvalley.org.au
SUMMARY:Memory Lane
DESCRIPTION:
URL:https://www.ucapeelvalley.org.au/event/memory-lane-15/
LOCATION:West Tamworth\, 77 Denison Street\, Tamworth\, NSW\, 2340\, Australia
END:VEVENT
BEGIN:VEVENT
DTSTART;TZID=Australia/Sydney:20180429T110000
DTEND;TZID=Australia/Sydney:20180429T120000
DTSTAMP:20260426T125834
CREATED:20180731T051428Z
LAST-MODIFIED:20180731T051428Z
UID:2219-1524999600-1525003200@www.ucapeelvalley.org.au
SUMMARY:West Tamworth service
DESCRIPTION:Church on the bus to Breeza
URL:https://www.ucapeelvalley.org.au/event/west-tamworth-service-154/
LOCATION:West Tamworth\, 77 Denison Street\, Tamworth\, NSW\, 2340\, Australia
END:VEVENT
BEGIN:VEVENT
DTSTART;TZID=Australia/Sydney:20180422T110000
DTEND;TZID=Australia/Sydney:20180422T120000
DTSTAMP:20260426T125834
CREATED:20180731T051428Z
LAST-MODIFIED:20180731T051428Z
UID:2218-1524394800-1524398400@www.ucapeelvalley.org.au
SUMMARY:West Tamworth service
DESCRIPTION:Followed by Council Meeting
URL:https://www.ucapeelvalley.org.au/event/west-tamworth-service-153/
LOCATION:West Tamworth\, 77 Denison Street\, Tamworth\, NSW\, 2340\, Australia
END:VEVENT
BEGIN:VEVENT
DTSTART;TZID=Australia/Sydney:20180422T083000
DTEND;TZID=Australia/Sydney:20180422T103000
DTSTAMP:20260426T125834
CREATED:20180731T051427Z
LAST-MODIFIED:20180731T051427Z
UID:2217-1524385800-1524393000@www.ucapeelvalley.org.au
SUMMARY:Gowrie service and morning tea
DESCRIPTION:
URL:https://www.ucapeelvalley.org.au/event/gowrie-service-and-morning-tea-106/
LOCATION:Gowrie\, 2125 Gowrie Road\, Gowrie\, NSW\, 2340\, Australia
END:VEVENT
BEGIN:VEVENT
DTSTART;TZID=Australia/Sydney:20180422T070000
DTEND;TZID=Australia/Sydney:20180422T130000
DTSTAMP:20260426T125834
CREATED:20180731T051410Z
LAST-MODIFIED:20180731T051410Z
UID:2179-1524380400-1524402000@www.ucapeelvalley.org.au
SUMMARY:Markets and cooked breakfast
DESCRIPTION:
URL:https://www.ucapeelvalley.org.au/event/markets-and-cooked-breakfast-6/
LOCATION:Hallsville\, 1266 Manila Road\, Hallsville
END:VEVENT
BEGIN:VEVENT
DTSTART;TZID=Australia/Sydney:20180417T100000
DTEND;TZID=Australia/Sydney:20180417T113000
DTSTAMP:20260426T125834
CREATED:20180731T051414Z
LAST-MODIFIED:20180731T051414Z
UID:2189-1523959200-1523964600@www.ucapeelvalley.org.au
SUMMARY:Memory Lane
DESCRIPTION:
URL:https://www.ucapeelvalley.org.au/event/memory-lane-14/
LOCATION:West Tamworth\, 77 Denison Street\, Tamworth\, NSW\, 2340\, Australia
END:VEVENT
BEGIN:VEVENT
DTSTART;TZID=Australia/Sydney:20180415T110000
DTEND;TZID=Australia/Sydney:20180415T120000
DTSTAMP:20260426T125834
CREATED:20180731T051426Z
LAST-MODIFIED:20180731T051426Z
UID:2216-1523790000-1523793600@www.ucapeelvalley.org.au
SUMMARY:West Tamworth service
DESCRIPTION:
URL:https://www.ucapeelvalley.org.au/event/west-tamworth-service-152/
LOCATION:West Tamworth\, 77 Denison Street\, Tamworth\, NSW\, 2340\, Australia
END:VEVENT
BEGIN:VEVENT
DTSTART;TZID=Australia/Sydney:20180415T090000
DTEND;TZID=Australia/Sydney:20180415T100000
DTSTAMP:20260426T125834
CREATED:20180731T051426Z
LAST-MODIFIED:20180731T051426Z
UID:2215-1523782800-1523786400@www.ucapeelvalley.org.au
SUMMARY:Hallsville service
DESCRIPTION:Baptism
URL:https://www.ucapeelvalley.org.au/event/hallsville-service-35/
LOCATION:Hallsville\, 1266 Manila Road\, Hallsville
END:VEVENT
BEGIN:VEVENT
DTSTART;TZID=Australia/Sydney:20180408T110000
DTEND;TZID=Australia/Sydney:20180408T120000
DTSTAMP:20260426T125834
CREATED:20180731T051426Z
LAST-MODIFIED:20180731T051426Z
UID:2214-1523185200-1523188800@www.ucapeelvalley.org.au
SUMMARY:West Tamworth service
DESCRIPTION:
URL:https://www.ucapeelvalley.org.au/event/west-tamworth-service-151/
LOCATION:West Tamworth\, 77 Denison Street\, Tamworth\, NSW\, 2340\, Australia
END:VEVENT
BEGIN:VEVENT
DTSTART;TZID=Australia/Sydney:20180408T083000
DTEND;TZID=Australia/Sydney:20180408T103000
DTSTAMP:20260426T125834
CREATED:20180731T051426Z
LAST-MODIFIED:20180731T051426Z
UID:2213-1523176200-1523183400@www.ucapeelvalley.org.au
SUMMARY:Gowrie service and morning tea
DESCRIPTION:
URL:https://www.ucapeelvalley.org.au/event/gowrie-service-and-morning-tea-105/
LOCATION:Gowrie\, 2125 Gowrie Road\, Gowrie\, NSW\, 2340\, Australia
END:VEVENT
BEGIN:VEVENT
DTSTART;TZID=Australia/Sydney:20180403T100000
DTEND;TZID=Australia/Sydney:20180403T113000
DTSTAMP:20260426T125834
CREATED:20180731T051414Z
LAST-MODIFIED:20180731T051414Z
UID:2188-1522749600-1522755000@www.ucapeelvalley.org.au
SUMMARY:Memory Lane
DESCRIPTION:
URL:https://www.ucapeelvalley.org.au/event/memory-lane-13/
LOCATION:West Tamworth\, 77 Denison Street\, Tamworth\, NSW\, 2340\, Australia
END:VEVENT
BEGIN:VEVENT
DTSTART;TZID=Australia/Sydney:20180401T110000
DTEND;TZID=Australia/Sydney:20180401T120000
DTSTAMP:20260426T125834
CREATED:20180731T051424Z
LAST-MODIFIED:20180731T051424Z
UID:2212-1522580400-1522584000@www.ucapeelvalley.org.au
SUMMARY:West Tamworth service
DESCRIPTION:Easter Sunday
URL:https://www.ucapeelvalley.org.au/event/west-tamworth-service-150/
LOCATION:West Tamworth\, 77 Denison Street\, Tamworth\, NSW\, 2340\, Australia
END:VEVENT
BEGIN:VEVENT
DTSTART;TZID=Australia/Sydney:20180330T180000
DTEND;TZID=Australia/Sydney:20180330T200000
DTSTAMP:20260426T125834
CREATED:20180731T051424Z
LAST-MODIFIED:20180731T051424Z
UID:2211-1522432800-1522440000@www.ucapeelvalley.org.au
SUMMARY:Hallsville service and meal
DESCRIPTION:Good Friday
URL:https://www.ucapeelvalley.org.au/event/hallsville-service-and-meal-129/
LOCATION:Hallsville\, 1266 Manila Road\, Hallsville
END:VEVENT
BEGIN:VEVENT
DTSTART;TZID=Australia/Sydney:20180325T110000
DTEND;TZID=Australia/Sydney:20180325T120000
DTSTAMP:20260426T125834
CREATED:20180731T051424Z
LAST-MODIFIED:20180731T051424Z
UID:2210-1521975600-1521979200@www.ucapeelvalley.org.au
SUMMARY:West Tamworth service
DESCRIPTION:
URL:https://www.ucapeelvalley.org.au/event/west-tamworth-service-149/
LOCATION:West Tamworth\, 77 Denison Street\, Tamworth\, NSW\, 2340\, Australia
END:VEVENT
BEGIN:VEVENT
DTSTART;TZID=Australia/Sydney:20180325T083000
DTEND;TZID=Australia/Sydney:20180325T103000
DTSTAMP:20260426T125834
CREATED:20180731T051424Z
LAST-MODIFIED:20180731T051424Z
UID:2209-1521966600-1521973800@www.ucapeelvalley.org.au
SUMMARY:Gowrie service and morning tea
DESCRIPTION:
URL:https://www.ucapeelvalley.org.au/event/gowrie-service-and-morning-tea-104/
LOCATION:Gowrie\, 2125 Gowrie Road\, Gowrie\, NSW\, 2340\, Australia
END:VEVENT
BEGIN:VEVENT
DTSTART;TZID=Australia/Sydney:20180325T070000
DTEND;TZID=Australia/Sydney:20180325T130000
DTSTAMP:20260426T125834
CREATED:20180731T051409Z
LAST-MODIFIED:20180731T051409Z
UID:2178-1521961200-1521982800@www.ucapeelvalley.org.au
SUMMARY:Markets and cooked breakfast
DESCRIPTION:
URL:https://www.ucapeelvalley.org.au/event/markets-and-cooked-breakfast-5/
LOCATION:Hallsville\, 1266 Manila Road\, Hallsville
END:VEVENT
END:VCALENDAR