BEGIN:VCALENDAR
VERSION:2.0
PRODID:-//Peel Valley Congregations - ECPv6.15.3//NONSGML v1.0//EN
CALSCALE:GREGORIAN
METHOD:PUBLISH
X-WR-CALNAME:Peel Valley Congregations
X-ORIGINAL-URL:https://www.ucapeelvalley.org.au
X-WR-CALDESC:Events for Peel Valley Congregations
REFRESH-INTERVAL;VALUE=DURATION:PT1H
X-Robots-Tag:noindex
X-PUBLISHED-TTL:PT1H
BEGIN:VTIMEZONE
TZID:Australia/Sydney
BEGIN:STANDARD
TZOFFSETFROM:+1100
TZOFFSETTO:+1000
TZNAME:AEST
DTSTART:20190406T160000
END:STANDARD
BEGIN:DAYLIGHT
TZOFFSETFROM:+1000
TZOFFSETTO:+1100
TZNAME:AEDT
DTSTART:20191005T160000
END:DAYLIGHT
END:VTIMEZONE
BEGIN:VEVENT
DTSTART;TZID=Australia/Sydney:20191204T080000
DTEND;TZID=Australia/Sydney:20191204T170000
DTSTAMP:20260425T203005
CREATED:20190829T061019Z
LAST-MODIFIED:20190829T061019Z
UID:2819-1575446400-1575478800@www.ucapeelvalley.org.au
SUMMARY:Property bookings
DESCRIPTION:Private booking
URL:https://www.ucapeelvalley.org.au/event/property-bookings-31/
LOCATION:Hallsville booking\, 1266 Manilla Road\, Hallsville\, NSW\, 2340\, Australia
END:VEVENT
BEGIN:VEVENT
DTSTART;TZID=Australia/Sydney:20191203T100000
DTEND;TZID=Australia/Sydney:20191203T113000
DTSTAMP:20260425T203005
CREATED:20190107T221053Z
LAST-MODIFIED:20190829T065803Z
UID:2600-1575367200-1575372600@www.ucapeelvalley.org.au
SUMMARY:Memory Lane
DESCRIPTION:Morning Tea and Conversation
URL:https://www.ucapeelvalley.org.au/event/memory-lane-50/
LOCATION:West Tamworth\, 77 Denison Street\, Tamworth\, NSW\, 2340\, Australia
END:VEVENT
BEGIN:VEVENT
DTSTART;TZID=Australia/Sydney:20191201T110000
DTEND;TZID=Australia/Sydney:20191201T130000
DTSTAMP:20260425T203005
CREATED:20190107T221037Z
LAST-MODIFIED:20190107T221037Z
UID:2567-1575198000-1575205200@www.ucapeelvalley.org.au
SUMMARY:West Tamworth service
DESCRIPTION:Followed by lunch
URL:https://www.ucapeelvalley.org.au/event/west-tamworth-service-233/
LOCATION:West Tamworth\, 77 Denison Street\, Tamworth\, NSW\, 2340\, Australia
END:VEVENT
BEGIN:VEVENT
DTSTART;TZID=Australia/Sydney:20191124T110000
DTEND;TZID=Australia/Sydney:20191124T120000
DTSTAMP:20260425T203005
CREATED:20190107T221036Z
LAST-MODIFIED:20190107T221036Z
UID:2566-1574593200-1574596800@www.ucapeelvalley.org.au
SUMMARY:West Tamworth service
DESCRIPTION:
URL:https://www.ucapeelvalley.org.au/event/west-tamworth-service-232/
LOCATION:West Tamworth\, 77 Denison Street\, Tamworth\, NSW\, 2340\, Australia
END:VEVENT
BEGIN:VEVENT
DTSTART;TZID=Australia/Sydney:20191124T083000
DTEND;TZID=Australia/Sydney:20191124T130000
DTSTAMP:20260425T203005
CREATED:20190107T221036Z
LAST-MODIFIED:20190107T221036Z
UID:2565-1574584200-1574600400@www.ucapeelvalley.org.au
SUMMARY:Markets and cooked breakfast
DESCRIPTION:
URL:https://www.ucapeelvalley.org.au/event/markets-and-cooked-breakfast-24/
LOCATION:Hallsville\, 1266 Manila Road\, Hallsville
END:VEVENT
BEGIN:VEVENT
DTSTART;TZID=Australia/Sydney:20191124T083000
DTEND;TZID=Australia/Sydney:20191124T103000
DTSTAMP:20260425T203005
CREATED:20190107T221035Z
LAST-MODIFIED:20190107T221035Z
UID:2564-1574584200-1574591400@www.ucapeelvalley.org.au
SUMMARY:Gowrie service and morning tea
DESCRIPTION:
URL:https://www.ucapeelvalley.org.au/event/gowrie-service-and-morning-tea-139/
LOCATION:Gowrie\, 2125 Gowrie Road\, Gowrie\, NSW\, 2340\, Australia
END:VEVENT
BEGIN:VEVENT
DTSTART;TZID=Australia/Sydney:20191119T103000
DTEND;TZID=Australia/Sydney:20191119T153000
DTSTAMP:20260425T203005
CREATED:20181012T010005Z
LAST-MODIFIED:20181012T010005Z
UID:2368-1574159400-1574177400@www.ucapeelvalley.org.au
SUMMARY:Property bookings
DESCRIPTION:Tamworth City Uniting Church Seniors Fellowship Christmas Luncheon
URL:https://www.ucapeelvalley.org.au/event/property-bookings-19/
LOCATION:Hallsville booking\, 1266 Manilla Road\, Hallsville\, NSW\, 2340\, Australia
END:VEVENT
BEGIN:VEVENT
DTSTART;TZID=Australia/Sydney:20191119T100000
DTEND;TZID=Australia/Sydney:20191119T113000
DTSTAMP:20260425T203005
CREATED:20190107T221053Z
LAST-MODIFIED:20190829T065803Z
UID:2599-1574157600-1574163000@www.ucapeelvalley.org.au
SUMMARY:Memory Lane
DESCRIPTION:Morning Tea and Conversation
URL:https://www.ucapeelvalley.org.au/event/memory-lane-49/
LOCATION:West Tamworth\, 77 Denison Street\, Tamworth\, NSW\, 2340\, Australia
END:VEVENT
BEGIN:VEVENT
DTSTART;TZID=Australia/Sydney:20191118T100000
DTEND;TZID=Australia/Sydney:20191118T113000
DTSTAMP:20260425T203005
CREATED:20181012T010005Z
LAST-MODIFIED:20181012T010005Z
UID:2367-1574071200-1574076600@www.ucapeelvalley.org.au
SUMMARY:Property bookings
DESCRIPTION:Tamworth City Uniting Church Seniors Fellowship Christmas Luncheon – set up
URL:https://www.ucapeelvalley.org.au/event/property-bookings-18/
LOCATION:Hallsville booking\, 1266 Manilla Road\, Hallsville\, NSW\, 2340\, Australia
END:VEVENT
BEGIN:VEVENT
DTSTART;TZID=Australia/Sydney:20191117T110000
DTEND;TZID=Australia/Sydney:20191117T120000
DTSTAMP:20260425T203005
CREATED:20190107T221035Z
LAST-MODIFIED:20190107T221035Z
UID:2563-1573988400-1573992000@www.ucapeelvalley.org.au
SUMMARY:West Tamworth service
DESCRIPTION:
URL:https://www.ucapeelvalley.org.au/event/west-tamworth-service-231/
LOCATION:West Tamworth\, 77 Denison Street\, Tamworth\, NSW\, 2340\, Australia
END:VEVENT
BEGIN:VEVENT
DTSTART;TZID=Australia/Sydney:20191115T173000
DTEND;TZID=Australia/Sydney:20191115T200000
DTSTAMP:20260425T203005
CREATED:20190107T221035Z
LAST-MODIFIED:20190107T221035Z
UID:2562-1573839000-1573848000@www.ucapeelvalley.org.au
SUMMARY:Hallsville service and meal
DESCRIPTION:
URL:https://www.ucapeelvalley.org.au/event/hallsville-service-and-meal-161/
LOCATION:Hallsville\, 1266 Manila Road\, Hallsville
END:VEVENT
BEGIN:VEVENT
DTSTART;TZID=Australia/Sydney:20191110T110000
DTEND;TZID=Australia/Sydney:20191110T120000
DTSTAMP:20260425T203005
CREATED:20190107T221033Z
LAST-MODIFIED:20190107T221033Z
UID:2561-1573383600-1573387200@www.ucapeelvalley.org.au
SUMMARY:West Tamworth service
DESCRIPTION:
URL:https://www.ucapeelvalley.org.au/event/west-tamworth-service-230/
LOCATION:West Tamworth\, 77 Denison Street\, Tamworth\, NSW\, 2340\, Australia
END:VEVENT
BEGIN:VEVENT
DTSTART;TZID=Australia/Sydney:20191110T083000
DTEND;TZID=Australia/Sydney:20191110T103000
DTSTAMP:20260425T203005
CREATED:20190107T221033Z
LAST-MODIFIED:20190107T221033Z
UID:2560-1573374600-1573381800@www.ucapeelvalley.org.au
SUMMARY:Gowrie service and morning tea
DESCRIPTION:
URL:https://www.ucapeelvalley.org.au/event/gowrie-service-and-morning-tea-138/
LOCATION:Gowrie\, 2125 Gowrie Road\, Gowrie\, NSW\, 2340\, Australia
END:VEVENT
BEGIN:VEVENT
DTSTART;TZID=Australia/Sydney:20191109T090000
DTEND;TZID=Australia/Sydney:20191109T173000
DTSTAMP:20260425T203005
CREATED:20190306T040317Z
LAST-MODIFIED:20190831T062611Z
UID:2649-1573290000-1573320600@www.ucapeelvalley.org.au
SUMMARY:Property bookings
DESCRIPTION:Red Cross 80th Anniversary
URL:https://www.ucapeelvalley.org.au/event/property-bookings-28/
LOCATION:Hallsville booking\, 1266 Manilla Road\, Hallsville\, NSW\, 2340\, Australia
END:VEVENT
BEGIN:VEVENT
DTSTART;TZID=Australia/Sydney:20191106T133000
DTEND;TZID=Australia/Sydney:20191106T163000
DTSTAMP:20260425T203005
CREATED:20181012T010005Z
LAST-MODIFIED:20181012T010005Z
UID:2366-1573047000-1573057800@www.ucapeelvalley.org.au
SUMMARY:Property bookings
DESCRIPTION:Hallsville Red Cross Monthly meeting
URL:https://www.ucapeelvalley.org.au/event/property-bookings-17/
LOCATION:Hallsville booking\, 1266 Manilla Road\, Hallsville\, NSW\, 2340\, Australia
END:VEVENT
BEGIN:VEVENT
DTSTART;TZID=Australia/Sydney:20191105T100000
DTEND;TZID=Australia/Sydney:20191105T113000
DTSTAMP:20260425T203005
CREATED:20190107T221053Z
LAST-MODIFIED:20190829T065803Z
UID:2598-1572948000-1572953400@www.ucapeelvalley.org.au
SUMMARY:Memory Lane
DESCRIPTION:Morning Tea and Conversation
URL:https://www.ucapeelvalley.org.au/event/memory-lane-48/
LOCATION:West Tamworth\, 77 Denison Street\, Tamworth\, NSW\, 2340\, Australia
END:VEVENT
BEGIN:VEVENT
DTSTART;TZID=Australia/Sydney:20191103T110000
DTEND;TZID=Australia/Sydney:20191103T130000
DTSTAMP:20260425T203005
CREATED:20190107T221032Z
LAST-MODIFIED:20190107T221032Z
UID:2559-1572778800-1572786000@www.ucapeelvalley.org.au
SUMMARY:West Tamworth service
DESCRIPTION:Followed by lunch
URL:https://www.ucapeelvalley.org.au/event/west-tamworth-service-229/
LOCATION:West Tamworth\, 77 Denison Street\, Tamworth\, NSW\, 2340\, Australia
END:VEVENT
BEGIN:VEVENT
DTSTART;TZID=Australia/Sydney:20191102T083000
DTEND;TZID=Australia/Sydney:20191102T160000
DTSTAMP:20260425T203005
CREATED:20190923T014639Z
LAST-MODIFIED:20190923T014639Z
UID:3019-1572683400-1572710400@www.ucapeelvalley.org.au
SUMMARY:Emmaus
DESCRIPTION:
URL:https://www.ucapeelvalley.org.au/event/emmaus/
LOCATION:Hallsville booking\, 1266 Manilla Road\, Hallsville\, NSW\, 2340\, Australia
END:VEVENT
BEGIN:VEVENT
DTSTART;TZID=Australia/Sydney:20191101T173000
DTEND;TZID=Australia/Sydney:20191101T200000
DTSTAMP:20260425T203005
CREATED:20190107T221032Z
LAST-MODIFIED:20190107T221032Z
UID:2558-1572629400-1572638400@www.ucapeelvalley.org.au
SUMMARY:Hallsville service and meal
DESCRIPTION:
URL:https://www.ucapeelvalley.org.au/event/hallsville-service-and-meal-160/
LOCATION:Hallsville\, 1266 Manila Road\, Hallsville
END:VEVENT
BEGIN:VEVENT
DTSTART;TZID=Australia/Sydney:20191031T080000
DTEND;TZID=Australia/Sydney:20191031T170000
DTSTAMP:20260425T203005
CREATED:20190829T060906Z
LAST-MODIFIED:20190829T060906Z
UID:2817-1572508800-1572541200@www.ucapeelvalley.org.au
SUMMARY:Property bookings
DESCRIPTION:Private booking
URL:https://www.ucapeelvalley.org.au/event/property-bookings-30/
LOCATION:Hallsville booking\, 1266 Manilla Road\, Hallsville\, NSW\, 2340\, Australia
END:VEVENT
BEGIN:VEVENT
DTSTART;TZID=Australia/Sydney:20191030T080000
DTEND;TZID=Australia/Sydney:20191030T170000
DTSTAMP:20260425T203005
CREATED:20190829T060820Z
LAST-MODIFIED:20190829T060820Z
UID:2815-1572422400-1572454800@www.ucapeelvalley.org.au
SUMMARY:Property bookings
DESCRIPTION:Private booking
URL:https://www.ucapeelvalley.org.au/event/property-bookings-29/
LOCATION:Hallsville booking\, 1266 Manilla Road\, Hallsville\, NSW\, 2340\, Australia
END:VEVENT
BEGIN:VEVENT
DTSTART;TZID=Australia/Sydney:20191027T110000
DTEND;TZID=Australia/Sydney:20191027T120000
DTSTAMP:20260425T203005
CREATED:20190107T221031Z
LAST-MODIFIED:20190107T221031Z
UID:2557-1572174000-1572177600@www.ucapeelvalley.org.au
SUMMARY:West Tamworth service
DESCRIPTION:
URL:https://www.ucapeelvalley.org.au/event/west-tamworth-service-228/
LOCATION:West Tamworth\, 77 Denison Street\, Tamworth\, NSW\, 2340\, Australia
END:VEVENT
BEGIN:VEVENT
DTSTART;TZID=Australia/Sydney:20191027T083000
DTEND;TZID=Australia/Sydney:20191027T130000
DTSTAMP:20260425T203005
CREATED:20190107T221030Z
LAST-MODIFIED:20190107T221030Z
UID:2556-1572165000-1572181200@www.ucapeelvalley.org.au
SUMMARY:Markets and cooked breakfast
DESCRIPTION:
URL:https://www.ucapeelvalley.org.au/event/markets-and-cooked-breakfast-23/
LOCATION:Hallsville\, 1266 Manila Road\, Hallsville
END:VEVENT
BEGIN:VEVENT
DTSTART;TZID=Australia/Sydney:20191027T083000
DTEND;TZID=Australia/Sydney:20191027T103000
DTSTAMP:20260425T203005
CREATED:20190107T221030Z
LAST-MODIFIED:20190107T221030Z
UID:2555-1572165000-1572172200@www.ucapeelvalley.org.au
SUMMARY:Gowrie service and morning tea
DESCRIPTION:
URL:https://www.ucapeelvalley.org.au/event/gowrie-service-and-morning-tea-137/
LOCATION:Gowrie\, 2125 Gowrie Road\, Gowrie\, NSW\, 2340\, Australia
END:VEVENT
BEGIN:VEVENT
DTSTART;TZID=Australia/Sydney:20191020T110000
DTEND;TZID=Australia/Sydney:20191020T120000
DTSTAMP:20260425T203005
CREATED:20190107T221029Z
LAST-MODIFIED:20190107T221029Z
UID:2554-1571569200-1571572800@www.ucapeelvalley.org.au
SUMMARY:West Tamworth service
DESCRIPTION:
URL:https://www.ucapeelvalley.org.au/event/west-tamworth-service-227/
LOCATION:West Tamworth\, 77 Denison Street\, Tamworth\, NSW\, 2340\, Australia
END:VEVENT
BEGIN:VEVENT
DTSTART;TZID=Australia/Sydney:20191020T090000
DTEND;TZID=Australia/Sydney:20191020T100000
DTSTAMP:20260425T203005
CREATED:20190107T221029Z
LAST-MODIFIED:20191017T011706Z
UID:2553-1571562000-1571565600@www.ucapeelvalley.org.au
SUMMARY:Hallsville - Baptism
DESCRIPTION:
URL:https://www.ucapeelvalley.org.au/event/hallsville-service-and-meal-159/
LOCATION:Hallsville\, 1266 Manila Road\, Hallsville
END:VEVENT
BEGIN:VEVENT
DTSTART;TZID=Australia/Sydney:20191015T100000
DTEND;TZID=Australia/Sydney:20191015T113000
DTSTAMP:20260425T203005
CREATED:20190107T221053Z
LAST-MODIFIED:20190107T221053Z
UID:2597-1571133600-1571139000@www.ucapeelvalley.org.au
SUMMARY:Memory Lane
DESCRIPTION:Morning Tea and Conversation
URL:https://www.ucapeelvalley.org.au/event/memory-lane-47/
LOCATION:West Tamworth\, 77 Denison Street\, Tamworth\, NSW\, 2340\, Australia
END:VEVENT
BEGIN:VEVENT
DTSTART;TZID=Australia/Sydney:20191013T110000
DTEND;TZID=Australia/Sydney:20191013T120000
DTSTAMP:20260425T203005
CREATED:20190107T221029Z
LAST-MODIFIED:20190107T221029Z
UID:2552-1570964400-1570968000@www.ucapeelvalley.org.au
SUMMARY:West Tamworth service
DESCRIPTION:
URL:https://www.ucapeelvalley.org.au/event/west-tamworth-service-226/
LOCATION:West Tamworth\, 77 Denison Street\, Tamworth\, NSW\, 2340\, Australia
END:VEVENT
BEGIN:VEVENT
DTSTART;TZID=Australia/Sydney:20191013T083000
DTEND;TZID=Australia/Sydney:20191013T103000
DTSTAMP:20260425T203005
CREATED:20190107T221027Z
LAST-MODIFIED:20190107T221027Z
UID:2551-1570955400-1570962600@www.ucapeelvalley.org.au
SUMMARY:Gowrie service and morning tea
DESCRIPTION:
URL:https://www.ucapeelvalley.org.au/event/gowrie-service-and-morning-tea-136/
LOCATION:Gowrie\, 2125 Gowrie Road\, Gowrie\, NSW\, 2340\, Australia
END:VEVENT
BEGIN:VEVENT
DTSTART;TZID=Australia/Sydney:20191006T110000
DTEND;TZID=Australia/Sydney:20191006T130000
DTSTAMP:20260425T203005
CREATED:20190107T221027Z
LAST-MODIFIED:20190107T221027Z
UID:2550-1570359600-1570366800@www.ucapeelvalley.org.au
SUMMARY:West Tamworth service
DESCRIPTION:Followed by lunch
URL:https://www.ucapeelvalley.org.au/event/west-tamworth-service-225/
LOCATION:West Tamworth\, 77 Denison Street\, Tamworth\, NSW\, 2340\, Australia
END:VEVENT
END:VCALENDAR