BEGIN:VCALENDAR
VERSION:2.0
PRODID:-//Peel Valley Congregations - ECPv6.15.3//NONSGML v1.0//EN
CALSCALE:GREGORIAN
METHOD:PUBLISH
X-WR-CALNAME:Peel Valley Congregations
X-ORIGINAL-URL:https://www.ucapeelvalley.org.au
X-WR-CALDESC:Events for Peel Valley Congregations
REFRESH-INTERVAL;VALUE=DURATION:PT1H
X-Robots-Tag:noindex
X-PUBLISHED-TTL:PT1H
BEGIN:VTIMEZONE
TZID:Australia/Sydney
BEGIN:STANDARD
TZOFFSETFROM:+1100
TZOFFSETTO:+1000
TZNAME:AEST
DTSTART:20180331T160000
END:STANDARD
BEGIN:DAYLIGHT
TZOFFSETFROM:+1000
TZOFFSETTO:+1100
TZNAME:AEDT
DTSTART:20181006T160000
END:DAYLIGHT
BEGIN:STANDARD
TZOFFSETFROM:+1100
TZOFFSETTO:+1000
TZNAME:AEST
DTSTART:20190406T160000
END:STANDARD
BEGIN:DAYLIGHT
TZOFFSETFROM:+1000
TZOFFSETTO:+1100
TZNAME:AEDT
DTSTART:20191005T160000
END:DAYLIGHT
END:VTIMEZONE
BEGIN:VEVENT
DTSTART;TZID=Australia/Sydney:20190319T100000
DTEND;TZID=Australia/Sydney:20190319T113000
DTSTAMP:20260425T232100
CREATED:20190107T221046Z
LAST-MODIFIED:20190107T221046Z
UID:2583-1552989600-1552995000@www.ucapeelvalley.org.au
SUMMARY:Memory Lane
DESCRIPTION:Morning Tea and Conversation
URL:https://www.ucapeelvalley.org.au/event/memory-lane-33/
LOCATION:West Tamworth\, 77 Denison Street\, Tamworth\, NSW\, 2340\, Australia
END:VEVENT
BEGIN:VEVENT
DTSTART;TZID=Australia/Sydney:20190317T110000
DTEND;TZID=Australia/Sydney:20190317T120000
DTSTAMP:20260425T232100
CREATED:20190107T220952Z
LAST-MODIFIED:20190107T220952Z
UID:2488-1552820400-1552824000@www.ucapeelvalley.org.au
SUMMARY:West Tamworth service
DESCRIPTION:
URL:https://www.ucapeelvalley.org.au/event/west-tamworth-service-196/
LOCATION:West Tamworth\, 77 Denison Street\, Tamworth\, NSW\, 2340\, Australia
END:VEVENT
BEGIN:VEVENT
DTSTART;TZID=Australia/Sydney:20190315T173000
DTEND;TZID=Australia/Sydney:20190315T200000
DTSTAMP:20260425T232100
CREATED:20190107T220952Z
LAST-MODIFIED:20190306T043010Z
UID:2487-1552671000-1552680000@www.ucapeelvalley.org.au
SUMMARY:Hallsville service and meal
DESCRIPTION:
URL:https://www.ucapeelvalley.org.au/event/hallsville-service-and-meal-145/
LOCATION:Hallsville\, 1266 Manila Road\, Hallsville
END:VEVENT
BEGIN:VEVENT
DTSTART;TZID=Australia/Sydney:20190310T110000
DTEND;TZID=Australia/Sydney:20190310T120000
DTSTAMP:20260425T232100
CREATED:20190107T220950Z
LAST-MODIFIED:20190306T042935Z
UID:2486-1552215600-1552219200@www.ucapeelvalley.org.au
SUMMARY:West Tamworth service
DESCRIPTION:
URL:https://www.ucapeelvalley.org.au/event/west-tamworth-service-195/
LOCATION:West Tamworth\, 77 Denison Street\, Tamworth\, NSW\, 2340\, Australia
END:VEVENT
BEGIN:VEVENT
DTSTART;TZID=Australia/Sydney:20190310T083000
DTEND;TZID=Australia/Sydney:20190310T103000
DTSTAMP:20260425T232100
CREATED:20190107T220950Z
LAST-MODIFIED:20190306T042905Z
UID:2485-1552206600-1552213800@www.ucapeelvalley.org.au
SUMMARY:Gowrie service and morning tea
DESCRIPTION:
URL:https://www.ucapeelvalley.org.au/event/gowrie-service-and-morning-tea-122/
LOCATION:Gowrie\, 2125 Gowrie Road\, Gowrie\, NSW\, 2340\, Australia
END:VEVENT
BEGIN:VEVENT
DTSTART;TZID=Australia/Sydney:20190306T133000
DTEND;TZID=Australia/Sydney:20190306T163000
DTSTAMP:20260425T232100
CREATED:20181012T010000Z
LAST-MODIFIED:20181012T010000Z
UID:2357-1551879000-1551889800@www.ucapeelvalley.org.au
SUMMARY:Property bookings
DESCRIPTION:Hallsville Red Cross Monthly meeting
URL:https://www.ucapeelvalley.org.au/event/property-bookings-8/
LOCATION:Hallsville booking\, 1266 Manilla Road\, Hallsville\, NSW\, 2340\, Australia
END:VEVENT
BEGIN:VEVENT
DTSTART;TZID=Australia/Sydney:20190305T100000
DTEND;TZID=Australia/Sydney:20190305T113000
DTSTAMP:20260425T232100
CREATED:20190107T221046Z
LAST-MODIFIED:20190107T221046Z
UID:2582-1551780000-1551785400@www.ucapeelvalley.org.au
SUMMARY:Memory Lane
DESCRIPTION:Morning Tea and Conversation
URL:https://www.ucapeelvalley.org.au/event/memory-lane-32/
LOCATION:West Tamworth\, 77 Denison Street\, Tamworth\, NSW\, 2340\, Australia
END:VEVENT
BEGIN:VEVENT
DTSTART;TZID=Australia/Sydney:20190303T110000
DTEND;TZID=Australia/Sydney:20190303T130000
DTSTAMP:20260425T232100
CREATED:20190107T220950Z
LAST-MODIFIED:20190306T040549Z
UID:2484-1551610800-1551618000@www.ucapeelvalley.org.au
SUMMARY:West Tamworth service
DESCRIPTION:Followed by lunch
URL:https://www.ucapeelvalley.org.au/event/west-tamworth-service-194/
LOCATION:West Tamworth\, 77 Denison Street\, Tamworth\, NSW\, 2340\, Australia
END:VEVENT
BEGIN:VEVENT
DTSTART;TZID=Australia/Sydney:20190301T173000
DTEND;TZID=Australia/Sydney:20190301T200000
DTSTAMP:20260425T232100
CREATED:20190107T220949Z
LAST-MODIFIED:20190306T040454Z
UID:2483-1551461400-1551470400@www.ucapeelvalley.org.au
SUMMARY:Hallsville service and meal
DESCRIPTION:
URL:https://www.ucapeelvalley.org.au/event/hallsville-service-and-meal-144/
LOCATION:Hallsville\, 1266 Manila Road\, Hallsville
END:VEVENT
BEGIN:VEVENT
DTSTART;TZID=Australia/Sydney:20190224T110000
DTEND;TZID=Australia/Sydney:20190224T120000
DTSTAMP:20260425T232100
CREATED:20190107T220949Z
LAST-MODIFIED:20190107T220949Z
UID:2482-1551006000-1551009600@www.ucapeelvalley.org.au
SUMMARY:West Tamworth service
DESCRIPTION:
URL:https://www.ucapeelvalley.org.au/event/west-tamworth-service-193/
LOCATION:West Tamworth\, 77 Denison Street\, Tamworth\, NSW\, 2340\, Australia
END:VEVENT
BEGIN:VEVENT
DTSTART;TZID=Australia/Sydney:20190224T083000
DTEND;TZID=Australia/Sydney:20190224T130000
DTSTAMP:20260425T232100
CREATED:20190107T220947Z
LAST-MODIFIED:20190107T220947Z
UID:2481-1550997000-1551013200@www.ucapeelvalley.org.au
SUMMARY:Markets and cooked breakfast
DESCRIPTION:
URL:https://www.ucapeelvalley.org.au/event/markets-and-cooked-breakfast-15/
LOCATION:Hallsville\, 1266 Manila Road\, Hallsville
END:VEVENT
BEGIN:VEVENT
DTSTART;TZID=Australia/Sydney:20190224T083000
DTEND;TZID=Australia/Sydney:20190224T103000
DTSTAMP:20260425T232100
CREATED:20190107T220947Z
LAST-MODIFIED:20190107T220947Z
UID:2480-1550997000-1551004200@www.ucapeelvalley.org.au
SUMMARY:Gowrie service and morning tea
DESCRIPTION:
URL:https://www.ucapeelvalley.org.au/event/gowrie-service-and-morning-tea-121/
LOCATION:Gowrie\, 2125 Gowrie Road\, Gowrie\, NSW\, 2340\, Australia
END:VEVENT
BEGIN:VEVENT
DTSTART;TZID=Australia/Sydney:20190219T100000
DTEND;TZID=Australia/Sydney:20190219T113000
DTSTAMP:20260425T232100
CREATED:20190107T221044Z
LAST-MODIFIED:20190107T221044Z
UID:2581-1550570400-1550575800@www.ucapeelvalley.org.au
SUMMARY:Memory Lane
DESCRIPTION:Morning Tea and Conversation
URL:https://www.ucapeelvalley.org.au/event/memory-lane-31/
LOCATION:West Tamworth\, 77 Denison Street\, Tamworth\, NSW\, 2340\, Australia
END:VEVENT
BEGIN:VEVENT
DTSTART;TZID=Australia/Sydney:20190217T110000
DTEND;TZID=Australia/Sydney:20190217T120000
DTSTAMP:20260425T232100
CREATED:20190107T220947Z
LAST-MODIFIED:20190107T220947Z
UID:2479-1550401200-1550404800@www.ucapeelvalley.org.au
SUMMARY:West Tamworth service
DESCRIPTION:
URL:https://www.ucapeelvalley.org.au/event/west-tamworth-service-192/
LOCATION:West Tamworth\, 77 Denison Street\, Tamworth\, NSW\, 2340\, Australia
END:VEVENT
BEGIN:VEVENT
DTSTART;TZID=Australia/Sydney:20190215T173000
DTEND;TZID=Australia/Sydney:20190215T200000
DTSTAMP:20260425T232100
CREATED:20190107T220946Z
LAST-MODIFIED:20190107T220946Z
UID:2478-1550251800-1550260800@www.ucapeelvalley.org.au
SUMMARY:Hallsville service and meal
DESCRIPTION:
URL:https://www.ucapeelvalley.org.au/event/hallsville-service-and-meal-143/
LOCATION:Hallsville\, 1266 Manila Road\, Hallsville
END:VEVENT
BEGIN:VEVENT
DTSTART;TZID=Australia/Sydney:20190210T110000
DTEND;TZID=Australia/Sydney:20190210T120000
DTSTAMP:20260425T232100
CREATED:20190107T220946Z
LAST-MODIFIED:20190107T220946Z
UID:2477-1549796400-1549800000@www.ucapeelvalley.org.au
SUMMARY:West Tamworth service
DESCRIPTION:
URL:https://www.ucapeelvalley.org.au/event/west-tamworth-service-191/
LOCATION:West Tamworth\, 77 Denison Street\, Tamworth\, NSW\, 2340\, Australia
END:VEVENT
BEGIN:VEVENT
DTSTART;TZID=Australia/Sydney:20190210T083000
DTEND;TZID=Australia/Sydney:20190210T103000
DTSTAMP:20260425T232100
CREATED:20190107T220945Z
LAST-MODIFIED:20190107T220945Z
UID:2476-1549787400-1549794600@www.ucapeelvalley.org.au
SUMMARY:Gowrie service and morning tea
DESCRIPTION:
URL:https://www.ucapeelvalley.org.au/event/gowrie-service-and-morning-tea-120/
LOCATION:Gowrie\, 2125 Gowrie Road\, Gowrie\, NSW\, 2340\, Australia
END:VEVENT
BEGIN:VEVENT
DTSTART;TZID=Australia/Sydney:20190206T133000
DTEND;TZID=Australia/Sydney:20190206T163000
DTSTAMP:20260425T232100
CREATED:20181012T010000Z
LAST-MODIFIED:20181012T010000Z
UID:2356-1549459800-1549470600@www.ucapeelvalley.org.au
SUMMARY:Property bookings
DESCRIPTION:Hallsville Red Cross Monthly meeting
URL:https://www.ucapeelvalley.org.au/event/property-bookings-7/
LOCATION:Hallsville booking\, 1266 Manilla Road\, Hallsville\, NSW\, 2340\, Australia
END:VEVENT
BEGIN:VEVENT
DTSTART;TZID=Australia/Sydney:20190205T100000
DTEND;TZID=Australia/Sydney:20190205T113000
DTSTAMP:20260425T232100
CREATED:20190107T221044Z
LAST-MODIFIED:20190107T221044Z
UID:2580-1549360800-1549366200@www.ucapeelvalley.org.au
SUMMARY:Memory Lane
DESCRIPTION:Morning Tea and Conversation
URL:https://www.ucapeelvalley.org.au/event/memory-lane-30/
LOCATION:West Tamworth\, 77 Denison Street\, Tamworth\, NSW\, 2340\, Australia
END:VEVENT
BEGIN:VEVENT
DTSTART;TZID=Australia/Sydney:20190203T110000
DTEND;TZID=Australia/Sydney:20190203T130000
DTSTAMP:20260425T232100
CREATED:20190107T220944Z
LAST-MODIFIED:20190107T220944Z
UID:2475-1549191600-1549198800@www.ucapeelvalley.org.au
SUMMARY:West Tamworth service
DESCRIPTION:Followed by lunch
URL:https://www.ucapeelvalley.org.au/event/west-tamworth-service-190/
LOCATION:West Tamworth\, 77 Denison Street\, Tamworth\, NSW\, 2340\, Australia
END:VEVENT
BEGIN:VEVENT
DTSTART;TZID=Australia/Sydney:20190127T110000
DTEND;TZID=Australia/Sydney:20190127T120000
DTSTAMP:20260425T232100
CREATED:20190107T220944Z
LAST-MODIFIED:20190111T004628Z
UID:2474-1548586800-1548590400@www.ucapeelvalley.org.au
SUMMARY:West Tamworth service
DESCRIPTION:
URL:https://www.ucapeelvalley.org.au/event/west-tamworth-service-189/
LOCATION:West Tamworth\, 77 Denison Street\, Tamworth\, NSW\, 2340\, Australia
END:VEVENT
BEGIN:VEVENT
DTSTART;TZID=Australia/Sydney:20190127T083000
DTEND;TZID=Australia/Sydney:20190127T130000
DTSTAMP:20260425T232100
CREATED:20190107T220944Z
LAST-MODIFIED:20190107T220944Z
UID:2473-1548577800-1548594000@www.ucapeelvalley.org.au
SUMMARY:Markets and cooked breakfast
DESCRIPTION:
URL:https://www.ucapeelvalley.org.au/event/markets-and-cooked-breakfast-14/
LOCATION:Hallsville\, 1266 Manila Road\, Hallsville
END:VEVENT
BEGIN:VEVENT
DTSTART;TZID=Australia/Sydney:20190120T070000
DTEND;TZID=Australia/Sydney:20190120T100000
DTSTAMP:20260425T232100
CREATED:20190107T220944Z
LAST-MODIFIED:20190107T220944Z
UID:2472-1547967600-1547978400@www.ucapeelvalley.org.au
SUMMARY:Gospel Breakfast
DESCRIPTION:
URL:https://www.ucapeelvalley.org.au/event/gospel-breakfast/
LOCATION:Hallsville\, 1266 Manila Road\, Hallsville
END:VEVENT
BEGIN:VEVENT
DTSTART;TZID=Australia/Sydney:20181225T090000
DTEND;TZID=Australia/Sydney:20181225T100000
DTSTAMP:20260425T232100
CREATED:20190107T220942Z
LAST-MODIFIED:20190107T220942Z
UID:2471-1545728400-1545732000@www.ucapeelvalley.org.au
SUMMARY:Hallsville service
DESCRIPTION:Christmas Day Service
URL:https://www.ucapeelvalley.org.au/event/hallsville-service-37/
LOCATION:Hallsville\, 1266 Manila Road\, Hallsville
END:VEVENT
BEGIN:VEVENT
DTSTART;TZID=Australia/Sydney:20181223T110000
DTEND;TZID=Australia/Sydney:20181223T120000
DTSTAMP:20260425T232100
CREATED:20190107T220942Z
LAST-MODIFIED:20190107T220942Z
UID:2470-1545562800-1545566400@www.ucapeelvalley.org.au
SUMMARY:West Tamworth service
DESCRIPTION:
URL:https://www.ucapeelvalley.org.au/event/west-tamworth-service-188/
LOCATION:West Tamworth\, 77 Denison Street\, Tamworth\, NSW\, 2340\, Australia
END:VEVENT
BEGIN:VEVENT
DTSTART;TZID=Australia/Sydney:20181216T110000
DTEND;TZID=Australia/Sydney:20181216T120000
DTSTAMP:20260425T232100
CREATED:20190107T220942Z
LAST-MODIFIED:20190107T220942Z
UID:2469-1544958000-1544961600@www.ucapeelvalley.org.au
SUMMARY:West Tamworth service
DESCRIPTION:
URL:https://www.ucapeelvalley.org.au/event/west-tamworth-service-187/
LOCATION:West Tamworth\, 77 Denison Street\, Tamworth\, NSW\, 2340\, Australia
END:VEVENT
BEGIN:VEVENT
DTSTART;TZID=Australia/Sydney:20181216T090000
DTEND;TZID=Australia/Sydney:20181216T100000
DTSTAMP:20260425T232100
CREATED:20190107T220941Z
LAST-MODIFIED:20190107T220941Z
UID:2468-1544950800-1544954400@www.ucapeelvalley.org.au
SUMMARY:Hallsville service
DESCRIPTION:Baptism
URL:https://www.ucapeelvalley.org.au/event/hallsville-service-36/
LOCATION:Hallsville\, 1266 Manila Road\, Hallsville
END:VEVENT
BEGIN:VEVENT
DTSTART;TZID=Australia/Sydney:20181209T110000
DTEND;TZID=Australia/Sydney:20181209T130000
DTSTAMP:20260425T232100
CREATED:20190107T220941Z
LAST-MODIFIED:20190107T220941Z
UID:2467-1544353200-1544360400@www.ucapeelvalley.org.au
SUMMARY:West Tamworth service
DESCRIPTION:Includes AGM
URL:https://www.ucapeelvalley.org.au/event/west-tamworth-service-186/
LOCATION:West Tamworth\, 77 Denison Street\, Tamworth\, NSW\, 2340\, Australia
END:VEVENT
BEGIN:VEVENT
DTSTART;TZID=Australia/Sydney:20181207T173000
DTEND;TZID=Australia/Sydney:20181207T200000
DTSTAMP:20260425T232100
CREATED:20190107T220940Z
LAST-MODIFIED:20190107T220940Z
UID:2466-1544203800-1544212800@www.ucapeelvalley.org.au
SUMMARY:Hallsville service and meal
DESCRIPTION:
URL:https://www.ucapeelvalley.org.au/event/hallsville-service-and-meal-142/
LOCATION:Hallsville\, 1266 Manila Road\, Hallsville
END:VEVENT
BEGIN:VEVENT
DTSTART;TZID=Australia/Sydney:20181204T100000
DTEND;TZID=Australia/Sydney:20181204T113000
DTSTAMP:20260425T232100
CREATED:20190107T221044Z
LAST-MODIFIED:20190107T221044Z
UID:2579-1543917600-1543923000@www.ucapeelvalley.org.au
SUMMARY:Memory Lane
DESCRIPTION:Morning Tea and Conversation
URL:https://www.ucapeelvalley.org.au/event/memory-lane-29/
LOCATION:West Tamworth\, 77 Denison Street\, Tamworth\, NSW\, 2340\, Australia
END:VEVENT
END:VCALENDAR