BEGIN:VCALENDAR
VERSION:2.0
PRODID:-//Peel Valley Congregations - ECPv6.15.3//NONSGML v1.0//EN
CALSCALE:GREGORIAN
METHOD:PUBLISH
X-ORIGINAL-URL:https://www.ucapeelvalley.org.au
X-WR-CALDESC:Events for Peel Valley Congregations
REFRESH-INTERVAL;VALUE=DURATION:PT1H
X-Robots-Tag:noindex
X-PUBLISHED-TTL:PT1H
BEGIN:VTIMEZONE
TZID:Australia/Sydney
BEGIN:STANDARD
TZOFFSETFROM:+1100
TZOFFSETTO:+1000
TZNAME:AEST
DTSTART:20190406T160000
END:STANDARD
BEGIN:DAYLIGHT
TZOFFSETFROM:+1000
TZOFFSETTO:+1100
TZNAME:AEDT
DTSTART:20191005T160000
END:DAYLIGHT
BEGIN:STANDARD
TZOFFSETFROM:+1100
TZOFFSETTO:+1000
TZNAME:AEST
DTSTART:20200404T160000
END:STANDARD
BEGIN:DAYLIGHT
TZOFFSETFROM:+1000
TZOFFSETTO:+1100
TZNAME:AEDT
DTSTART:20201003T160000
END:DAYLIGHT
END:VTIMEZONE
BEGIN:VEVENT
DTSTART;TZID=Australia/Sydney:20191124T110000
DTEND;TZID=Australia/Sydney:20191124T120000
DTSTAMP:20260425T203705
CREATED:20190107T221036Z
LAST-MODIFIED:20190107T221036Z
UID:2566-1574593200-1574596800@www.ucapeelvalley.org.au
SUMMARY:West Tamworth service
DESCRIPTION:
URL:https://www.ucapeelvalley.org.au/event/west-tamworth-service-232/
LOCATION:West Tamworth\, 77 Denison Street\, Tamworth\, NSW\, 2340\, Australia
END:VEVENT
BEGIN:VEVENT
DTSTART;TZID=Australia/Sydney:20191201T110000
DTEND;TZID=Australia/Sydney:20191201T130000
DTSTAMP:20260425T203705
CREATED:20190107T221037Z
LAST-MODIFIED:20190107T221037Z
UID:2567-1575198000-1575205200@www.ucapeelvalley.org.au
SUMMARY:West Tamworth service
DESCRIPTION:Followed by lunch
URL:https://www.ucapeelvalley.org.au/event/west-tamworth-service-233/
LOCATION:West Tamworth\, 77 Denison Street\, Tamworth\, NSW\, 2340\, Australia
END:VEVENT
BEGIN:VEVENT
DTSTART;TZID=Australia/Sydney:20191203T100000
DTEND;TZID=Australia/Sydney:20191203T113000
DTSTAMP:20260425T203705
CREATED:20190107T221053Z
LAST-MODIFIED:20190829T065803Z
UID:2600-1575367200-1575372600@www.ucapeelvalley.org.au
SUMMARY:Memory Lane
DESCRIPTION:Morning Tea and Conversation
URL:https://www.ucapeelvalley.org.au/event/memory-lane-50/
LOCATION:West Tamworth\, 77 Denison Street\, Tamworth\, NSW\, 2340\, Australia
END:VEVENT
BEGIN:VEVENT
DTSTART;TZID=Australia/Sydney:20191204T080000
DTEND;TZID=Australia/Sydney:20191204T170000
DTSTAMP:20260425T203705
CREATED:20190829T061019Z
LAST-MODIFIED:20190829T061019Z
UID:2819-1575446400-1575478800@www.ucapeelvalley.org.au
SUMMARY:Property bookings
DESCRIPTION:Private booking
URL:https://www.ucapeelvalley.org.au/event/property-bookings-31/
LOCATION:Hallsville booking\, 1266 Manilla Road\, Hallsville\, NSW\, 2340\, Australia
END:VEVENT
BEGIN:VEVENT
DTSTART;TZID=Australia/Sydney:20191205T080000
DTEND;TZID=Australia/Sydney:20191205T170000
DTSTAMP:20260425T203705
CREATED:20190829T061102Z
LAST-MODIFIED:20190829T061102Z
UID:2821-1575532800-1575565200@www.ucapeelvalley.org.au
SUMMARY:Property bookings
DESCRIPTION:Private booking
URL:https://www.ucapeelvalley.org.au/event/property-bookings-32/
LOCATION:Hallsville booking\, 1266 Manilla Road\, Hallsville\, NSW\, 2340\, Australia
END:VEVENT
BEGIN:VEVENT
DTSTART;TZID=Australia/Sydney:20191206T173000
DTEND;TZID=Australia/Sydney:20191206T200000
DTSTAMP:20260425T203705
CREATED:20190107T221038Z
LAST-MODIFIED:20190107T221038Z
UID:2568-1575653400-1575662400@www.ucapeelvalley.org.au
SUMMARY:Hallsville service and meal
DESCRIPTION:
URL:https://www.ucapeelvalley.org.au/event/hallsville-service-and-meal-162/
LOCATION:Hallsville\, 1266 Manila Road\, Hallsville
END:VEVENT
BEGIN:VEVENT
DTSTART;TZID=Australia/Sydney:20191208T083000
DTEND;TZID=Australia/Sydney:20191208T103000
DTSTAMP:20260425T203705
CREATED:20190107T221038Z
LAST-MODIFIED:20190107T221038Z
UID:2569-1575793800-1575801000@www.ucapeelvalley.org.au
SUMMARY:Gowrie service and morning tea
DESCRIPTION:
URL:https://www.ucapeelvalley.org.au/event/gowrie-service-and-morning-tea-140/
LOCATION:Gowrie\, 2125 Gowrie Road\, Gowrie\, NSW\, 2340\, Australia
END:VEVENT
BEGIN:VEVENT
DTSTART;TZID=Australia/Sydney:20191208T110000
DTEND;TZID=Australia/Sydney:20191208T120000
DTSTAMP:20260425T203705
CREATED:20190107T221039Z
LAST-MODIFIED:20190107T221039Z
UID:2570-1575802800-1575806400@www.ucapeelvalley.org.au
SUMMARY:West Tamworth service
DESCRIPTION:
URL:https://www.ucapeelvalley.org.au/event/west-tamworth-service-234/
LOCATION:West Tamworth\, 77 Denison Street\, Tamworth\, NSW\, 2340\, Australia
END:VEVENT
BEGIN:VEVENT
DTSTART;TZID=Australia/Sydney:20191215T110000
DTEND;TZID=Australia/Sydney:20191215T120000
DTSTAMP:20260425T203705
CREATED:20190107T221039Z
LAST-MODIFIED:20190107T221039Z
UID:2571-1576407600-1576411200@www.ucapeelvalley.org.au
SUMMARY:West Tamworth service
DESCRIPTION:
URL:https://www.ucapeelvalley.org.au/event/west-tamworth-service-235/
LOCATION:West Tamworth\, 77 Denison Street\, Tamworth\, NSW\, 2340\, Australia
END:VEVENT
BEGIN:VEVENT
DTSTART;TZID=Australia/Sydney:20191222T110000
DTEND;TZID=Australia/Sydney:20191222T120000
DTSTAMP:20260425T203705
CREATED:20190107T221041Z
LAST-MODIFIED:20190107T221041Z
UID:2572-1577012400-1577016000@www.ucapeelvalley.org.au
SUMMARY:West Tamworth service
DESCRIPTION:
URL:https://www.ucapeelvalley.org.au/event/west-tamworth-service-236/
LOCATION:West Tamworth\, 77 Denison Street\, Tamworth\, NSW\, 2340\, Australia
END:VEVENT
BEGIN:VEVENT
DTSTART;TZID=Australia/Sydney:20200119T070000
DTEND;TZID=Australia/Sydney:20200119T100000
DTSTAMP:20260425T203705
CREATED:20190829T065651Z
LAST-MODIFIED:20190829T065651Z
UID:2829-1579417200-1579428000@www.ucapeelvalley.org.au
SUMMARY:Gospel Breakfast
DESCRIPTION:
URL:https://www.ucapeelvalley.org.au/event/gospel-breakfast-2/
LOCATION:Hallsville\, 1266 Manila Road\, Hallsville
END:VEVENT
BEGIN:VEVENT
DTSTART;TZID=Australia/Sydney:20200126T083000
DTEND;TZID=Australia/Sydney:20200126T130000
DTSTAMP:20260425T203705
CREATED:20190829T065651Z
LAST-MODIFIED:20190829T065651Z
UID:2830-1580027400-1580043600@www.ucapeelvalley.org.au
SUMMARY:Markets and cooked breakfast
DESCRIPTION:
URL:https://www.ucapeelvalley.org.au/event/markets-and-cooked-breakfast-25/
LOCATION:Hallsville\, 1266 Manila Road\, Hallsville
END:VEVENT
BEGIN:VEVENT
DTSTART;TZID=Australia/Sydney:20200126T110000
DTEND;TZID=Australia/Sydney:20200126T120000
DTSTAMP:20260425T203705
CREATED:20190829T065651Z
LAST-MODIFIED:20190829T065651Z
UID:2831-1580036400-1580040000@www.ucapeelvalley.org.au
SUMMARY:West Tamworth service
DESCRIPTION:
URL:https://www.ucapeelvalley.org.au/event/west-tamworth-service-237/
LOCATION:West Tamworth\, 77 Denison Street\, Tamworth\, NSW\, 2340\, Australia
END:VEVENT
BEGIN:VEVENT
DTSTART;TZID=Australia/Sydney:20200129T080000
DTEND;TZID=Australia/Sydney:20200129T170000
DTSTAMP:20260425T203705
CREATED:20190829T061200Z
LAST-MODIFIED:20190829T061200Z
UID:2823-1580284800-1580317200@www.ucapeelvalley.org.au
SUMMARY:Property bookings
DESCRIPTION:Private booking
URL:https://www.ucapeelvalley.org.au/event/property-bookings-33/
LOCATION:Hallsville booking\, 1266 Manilla Road\, Hallsville\, NSW\, 2340\, Australia
END:VEVENT
BEGIN:VEVENT
DTSTART;TZID=Australia/Sydney:20200130T080000
DTEND;TZID=Australia/Sydney:20200130T170000
DTSTAMP:20260425T203705
CREATED:20190829T061235Z
LAST-MODIFIED:20190829T061235Z
UID:2825-1580371200-1580403600@www.ucapeelvalley.org.au
SUMMARY:Property bookings
DESCRIPTION:Private booking
URL:https://www.ucapeelvalley.org.au/event/property-bookings-34/
LOCATION:Hallsville booking\, 1266 Manilla Road\, Hallsville\, NSW\, 2340\, Australia
END:VEVENT
BEGIN:VEVENT
DTSTART;TZID=Australia/Sydney:20200202T110000
DTEND;TZID=Australia/Sydney:20200202T130000
DTSTAMP:20260425T203705
CREATED:20190829T065652Z
LAST-MODIFIED:20190829T065652Z
UID:2832-1580641200-1580648400@www.ucapeelvalley.org.au
SUMMARY:West Tamworth service
DESCRIPTION:Followed by lunch
URL:https://www.ucapeelvalley.org.au/event/west-tamworth-service-238/
LOCATION:West Tamworth\, 77 Denison Street\, Tamworth\, NSW\, 2340\, Australia
END:VEVENT
BEGIN:VEVENT
DTSTART;TZID=Australia/Sydney:20200204T100000
DTEND;TZID=Australia/Sydney:20200204T113000
DTSTAMP:20260425T203705
CREATED:20190829T070951Z
LAST-MODIFIED:20190829T070951Z
UID:2957-1580810400-1580815800@www.ucapeelvalley.org.au
SUMMARY:Memory Lane
DESCRIPTION:Morning Tea and Conversation
URL:https://www.ucapeelvalley.org.au/event/memory-lane-72/
LOCATION:West Tamworth\, 77 Denison Street\, Tamworth\, NSW\, 2340\, Australia
END:VEVENT
BEGIN:VEVENT
DTSTART;TZID=Australia/Sydney:20200205T133000
DTEND;TZID=Australia/Sydney:20200205T163000
DTSTAMP:20260425T203705
CREATED:20190930T055720Z
LAST-MODIFIED:20190930T055720Z
UID:3025-1580909400-1580920200@www.ucapeelvalley.org.au
SUMMARY:Property bookings
DESCRIPTION:Hallsville Red Cross Monthly meeting
URL:https://www.ucapeelvalley.org.au/event/property-bookings-36/
LOCATION:Hallsville booking\, 1266 Manilla Road\, Hallsville\, NSW\, 2340\, Australia
END:VEVENT
BEGIN:VEVENT
DTSTART;TZID=Australia/Sydney:20200207T173000
DTEND;TZID=Australia/Sydney:20200207T200000
DTSTAMP:20260425T203705
CREATED:20190829T065655Z
LAST-MODIFIED:20190829T065655Z
UID:2834-1581096600-1581105600@www.ucapeelvalley.org.au
SUMMARY:Hallsville service and meal
DESCRIPTION:
URL:https://www.ucapeelvalley.org.au/event/hallsville-service-and-meal-164/
LOCATION:Hallsville\, 1266 Manila Road\, Hallsville
END:VEVENT
BEGIN:VEVENT
DTSTART;TZID=Australia/Sydney:20200209T083000
DTEND;TZID=Australia/Sydney:20200209T103000
DTSTAMP:20260425T203705
CREATED:20190829T065652Z
LAST-MODIFIED:20190829T065652Z
UID:2833-1581237000-1581244200@www.ucapeelvalley.org.au
SUMMARY:Gowrie service and morning tea
DESCRIPTION:
URL:https://www.ucapeelvalley.org.au/event/gowrie-service-and-morning-tea-141/
LOCATION:Gowrie\, 2125 Gowrie Road\, Gowrie\, NSW\, 2340\, Australia
END:VEVENT
BEGIN:VEVENT
DTSTART;TZID=Australia/Sydney:20200209T110000
DTEND;TZID=Australia/Sydney:20200209T120000
DTSTAMP:20260425T203705
CREATED:20190829T065655Z
LAST-MODIFIED:20190829T065655Z
UID:2835-1581246000-1581249600@www.ucapeelvalley.org.au
SUMMARY:West Tamworth service
DESCRIPTION:
URL:https://www.ucapeelvalley.org.au/event/west-tamworth-service-239/
LOCATION:West Tamworth\, 77 Denison Street\, Tamworth\, NSW\, 2340\, Australia
END:VEVENT
BEGIN:VEVENT
DTSTART;TZID=Australia/Sydney:20200216T110000
DTEND;TZID=Australia/Sydney:20200216T120000
DTSTAMP:20260425T203705
CREATED:20190829T065655Z
LAST-MODIFIED:20190829T065655Z
UID:2836-1581850800-1581854400@www.ucapeelvalley.org.au
SUMMARY:West Tamworth service
DESCRIPTION:
URL:https://www.ucapeelvalley.org.au/event/west-tamworth-service-240/
LOCATION:West Tamworth\, 77 Denison Street\, Tamworth\, NSW\, 2340\, Australia
END:VEVENT
BEGIN:VEVENT
DTSTART;TZID=Australia/Sydney:20200218T100000
DTEND;TZID=Australia/Sydney:20200218T113000
DTSTAMP:20260425T203705
CREATED:20190829T070952Z
LAST-MODIFIED:20190829T070952Z
UID:2958-1582020000-1582025400@www.ucapeelvalley.org.au
SUMMARY:Memory Lane
DESCRIPTION:Morning Tea and Conversation
URL:https://www.ucapeelvalley.org.au/event/memory-lane-73/
LOCATION:West Tamworth\, 77 Denison Street\, Tamworth\, NSW\, 2340\, Australia
END:VEVENT
BEGIN:VEVENT
DTSTART;TZID=Australia/Sydney:20200221T173000
DTEND;TZID=Australia/Sydney:20200221T200000
DTSTAMP:20260425T203705
CREATED:20190829T065656Z
LAST-MODIFIED:20190829T065656Z
UID:2837-1582306200-1582315200@www.ucapeelvalley.org.au
SUMMARY:Hallsville service and meal
DESCRIPTION:
URL:https://www.ucapeelvalley.org.au/event/hallsville-service-and-meal-165/
LOCATION:Hallsville\, 1266 Manila Road\, Hallsville
END:VEVENT
BEGIN:VEVENT
DTSTART;TZID=Australia/Sydney:20200223T083000
DTEND;TZID=Australia/Sydney:20200223T103000
DTSTAMP:20260425T203705
CREATED:20190829T065656Z
LAST-MODIFIED:20190829T065656Z
UID:2838-1582446600-1582453800@www.ucapeelvalley.org.au
SUMMARY:Gowrie service and morning tea
DESCRIPTION:
URL:https://www.ucapeelvalley.org.au/event/gowrie-service-and-morning-tea-142/
LOCATION:Gowrie\, 2125 Gowrie Road\, Gowrie\, NSW\, 2340\, Australia
END:VEVENT
BEGIN:VEVENT
DTSTART;TZID=Australia/Sydney:20200223T083000
DTEND;TZID=Australia/Sydney:20200223T130000
DTSTAMP:20260425T203705
CREATED:20190829T065657Z
LAST-MODIFIED:20190829T065657Z
UID:2839-1582446600-1582462800@www.ucapeelvalley.org.au
SUMMARY:Markets and cooked breakfast
DESCRIPTION:
URL:https://www.ucapeelvalley.org.au/event/markets-and-cooked-breakfast-26/
LOCATION:Hallsville\, 1266 Manila Road\, Hallsville
END:VEVENT
BEGIN:VEVENT
DTSTART;TZID=Australia/Sydney:20200223T110000
DTEND;TZID=Australia/Sydney:20200223T120000
DTSTAMP:20260425T203705
CREATED:20190829T065658Z
LAST-MODIFIED:20190829T065658Z
UID:2840-1582455600-1582459200@www.ucapeelvalley.org.au
SUMMARY:West Tamworth service
DESCRIPTION:
URL:https://www.ucapeelvalley.org.au/event/west-tamworth-service-241/
LOCATION:West Tamworth\, 77 Denison Street\, Tamworth\, NSW\, 2340\, Australia
END:VEVENT
BEGIN:VEVENT
DTSTART;TZID=Australia/Sydney:20200301T110000
DTEND;TZID=Australia/Sydney:20200301T130000
DTSTAMP:20260425T203705
CREATED:20190829T065658Z
LAST-MODIFIED:20190829T065658Z
UID:2842-1583060400-1583067600@www.ucapeelvalley.org.au
SUMMARY:West Tamworth service
DESCRIPTION:Followed by lunch
URL:https://www.ucapeelvalley.org.au/event/west-tamworth-service-242/
LOCATION:West Tamworth\, 77 Denison Street\, Tamworth\, NSW\, 2340\, Australia
END:VEVENT
BEGIN:VEVENT
DTSTART;TZID=Australia/Sydney:20200303T100000
DTEND;TZID=Australia/Sydney:20200303T113000
DTSTAMP:20260425T203705
CREATED:20190829T070952Z
LAST-MODIFIED:20190829T070952Z
UID:2959-1583229600-1583235000@www.ucapeelvalley.org.au
SUMMARY:Memory Lane
DESCRIPTION:Morning Tea and Conversation
URL:https://www.ucapeelvalley.org.au/event/memory-lane-74/
LOCATION:West Tamworth\, 77 Denison Street\, Tamworth\, NSW\, 2340\, Australia
END:VEVENT
BEGIN:VEVENT
DTSTART;TZID=Australia/Sydney:20200304T133000
DTEND;TZID=Australia/Sydney:20200304T163000
DTSTAMP:20260425T203705
CREATED:20190930T055720Z
LAST-MODIFIED:20190930T055720Z
UID:3026-1583328600-1583339400@www.ucapeelvalley.org.au
SUMMARY:Property bookings
DESCRIPTION:Hallsville Red Cross Monthly meeting
URL:https://www.ucapeelvalley.org.au/event/property-bookings-37/
LOCATION:Hallsville booking\, 1266 Manilla Road\, Hallsville\, NSW\, 2340\, Australia
END:VEVENT
END:VCALENDAR