BEGIN:VCALENDAR
VERSION:2.0
PRODID:-//Peel Valley Congregations - ECPv6.15.3//NONSGML v1.0//EN
CALSCALE:GREGORIAN
METHOD:PUBLISH
X-WR-CALNAME:Peel Valley Congregations
X-ORIGINAL-URL:https://www.ucapeelvalley.org.au
X-WR-CALDESC:Events for Peel Valley Congregations
REFRESH-INTERVAL;VALUE=DURATION:PT1H
X-Robots-Tag:noindex
X-PUBLISHED-TTL:PT1H
BEGIN:VTIMEZONE
TZID:Australia/Sydney
BEGIN:STANDARD
TZOFFSETFROM:+1100
TZOFFSETTO:+1000
TZNAME:AEST
DTSTART:20200404T160000
END:STANDARD
BEGIN:DAYLIGHT
TZOFFSETFROM:+1000
TZOFFSETTO:+1100
TZNAME:AEDT
DTSTART:20201003T160000
END:DAYLIGHT
END:VTIMEZONE
BEGIN:VEVENT
DTSTART;TZID=Australia/Sydney:20200605T173000
DTEND;TZID=Australia/Sydney:20200605T200000
DTSTAMP:20260425T215627
CREATED:20190829T065714Z
LAST-MODIFIED:20190829T065714Z
UID:2870-1591378200-1591387200@www.ucapeelvalley.org.au
SUMMARY:Hallsville service and meal
DESCRIPTION:
URL:https://www.ucapeelvalley.org.au/event/hallsville-service-and-meal-173/
LOCATION:Hallsville\, 1266 Manila Road\, Hallsville
END:VEVENT
BEGIN:VEVENT
DTSTART;TZID=Australia/Sydney:20200603T103000
DTEND;TZID=Australia/Sydney:20200603T163000
DTSTAMP:20260425T215627
CREATED:20190930T055723Z
LAST-MODIFIED:20190930T055723Z
UID:3030-1591180200-1591201800@www.ucapeelvalley.org.au
SUMMARY:Property bookings
DESCRIPTION:Hallsville Red Cross June Winter Appeal Luncheon
URL:https://www.ucapeelvalley.org.au/event/property-bookings-41/
LOCATION:Hallsville booking\, 1266 Manilla Road\, Hallsville\, NSW\, 2340\, Australia
END:VEVENT
BEGIN:VEVENT
DTSTART;TZID=Australia/Sydney:20200602T100000
DTEND;TZID=Australia/Sydney:20200602T123000
DTSTAMP:20260425T215627
CREATED:20190930T055720Z
LAST-MODIFIED:20190930T055720Z
UID:3029-1591092000-1591101000@www.ucapeelvalley.org.au
SUMMARY:Property bookings
DESCRIPTION:Hallsville Red Cross June Winter Appeal Luncheon – set up
URL:https://www.ucapeelvalley.org.au/event/property-bookings-40/
LOCATION:Hallsville booking\, 1266 Manilla Road\, Hallsville\, NSW\, 2340\, Australia
END:VEVENT
BEGIN:VEVENT
DTSTART;TZID=Australia/Sydney:20200602T100000
DTEND;TZID=Australia/Sydney:20200602T113000
DTSTAMP:20260425T215627
CREATED:20190829T070955Z
LAST-MODIFIED:20190829T070955Z
UID:2965-1591092000-1591097400@www.ucapeelvalley.org.au
SUMMARY:Memory Lane
DESCRIPTION:Morning Tea and Conversation
URL:https://www.ucapeelvalley.org.au/event/memory-lane-80/
LOCATION:West Tamworth\, 77 Denison Street\, Tamworth\, NSW\, 2340\, Australia
END:VEVENT
BEGIN:VEVENT
DTSTART;TZID=Australia/Sydney:20200531T110000
DTEND;TZID=Australia/Sydney:20200531T130000
DTSTAMP:20260425T215627
CREATED:20190829T065713Z
LAST-MODIFIED:20190829T065713Z
UID:2869-1590922800-1590930000@www.ucapeelvalley.org.au
SUMMARY:West Tamworth service
DESCRIPTION:Church on the bus
URL:https://www.ucapeelvalley.org.au/event/west-tamworth-service-255/
LOCATION:West Tamworth\, 77 Denison Street\, Tamworth\, NSW\, 2340\, Australia
END:VEVENT
BEGIN:VEVENT
DTSTART;TZID=Australia/Sydney:20200524T110000
DTEND;TZID=Australia/Sydney:20200524T120000
DTSTAMP:20260425T215627
CREATED:20190829T065712Z
LAST-MODIFIED:20190829T065712Z
UID:2868-1590318000-1590321600@www.ucapeelvalley.org.au
SUMMARY:West Tamworth service
DESCRIPTION:
URL:https://www.ucapeelvalley.org.au/event/west-tamworth-service-254/
LOCATION:West Tamworth\, 77 Denison Street\, Tamworth\, NSW\, 2340\, Australia
END:VEVENT
BEGIN:VEVENT
DTSTART;TZID=Australia/Sydney:20200524T083000
DTEND;TZID=Australia/Sydney:20200524T130000
DTSTAMP:20260425T215627
CREATED:20190829T065712Z
LAST-MODIFIED:20190829T065712Z
UID:2867-1590309000-1590325200@www.ucapeelvalley.org.au
SUMMARY:Markets and cooked breakfast
DESCRIPTION:
URL:https://www.ucapeelvalley.org.au/event/markets-and-cooked-breakfast-29/
LOCATION:Hallsville\, 1266 Manila Road\, Hallsville
END:VEVENT
BEGIN:VEVENT
DTSTART;TZID=Australia/Sydney:20200524T083000
DTEND;TZID=Australia/Sydney:20200524T103000
DTSTAMP:20260425T215627
CREATED:20190829T065711Z
LAST-MODIFIED:20190829T065711Z
UID:2866-1590309000-1590316200@www.ucapeelvalley.org.au
SUMMARY:Gowrie service and morning tea
DESCRIPTION:
URL:https://www.ucapeelvalley.org.au/event/gowrie-service-and-morning-tea-147/
LOCATION:Gowrie\, 2125 Gowrie Road\, Gowrie\, NSW\, 2340\, Australia
END:VEVENT
BEGIN:VEVENT
DTSTART;TZID=Australia/Sydney:20200519T100000
DTEND;TZID=Australia/Sydney:20200519T113000
DTSTAMP:20260425T215627
CREATED:20190829T070955Z
LAST-MODIFIED:20190829T070955Z
UID:2964-1589882400-1589887800@www.ucapeelvalley.org.au
SUMMARY:Memory Lane
DESCRIPTION:Morning Tea and Conversation
URL:https://www.ucapeelvalley.org.au/event/memory-lane-79/
LOCATION:West Tamworth\, 77 Denison Street\, Tamworth\, NSW\, 2340\, Australia
END:VEVENT
BEGIN:VEVENT
DTSTART;TZID=Australia/Sydney:20200517T110000
DTEND;TZID=Australia/Sydney:20200517T120000
DTSTAMP:20260425T215627
CREATED:20190829T065711Z
LAST-MODIFIED:20190829T065711Z
UID:2865-1589713200-1589716800@www.ucapeelvalley.org.au
SUMMARY:West Tamworth service
DESCRIPTION:
URL:https://www.ucapeelvalley.org.au/event/west-tamworth-service-253/
LOCATION:West Tamworth\, 77 Denison Street\, Tamworth\, NSW\, 2340\, Australia
END:VEVENT
BEGIN:VEVENT
DTSTART;TZID=Australia/Sydney:20200515T173000
DTEND;TZID=Australia/Sydney:20200515T200000
DTSTAMP:20260425T215627
CREATED:20190829T065711Z
LAST-MODIFIED:20190829T065711Z
UID:2864-1589563800-1589572800@www.ucapeelvalley.org.au
SUMMARY:Hallsville service and meal
DESCRIPTION:
URL:https://www.ucapeelvalley.org.au/event/hallsville-service-and-meal-172/
LOCATION:Hallsville\, 1266 Manila Road\, Hallsville
END:VEVENT
BEGIN:VEVENT
DTSTART;TZID=Australia/Sydney:20200510T110000
DTEND;TZID=Australia/Sydney:20200510T120000
DTSTAMP:20260425T215627
CREATED:20190829T065709Z
LAST-MODIFIED:20190829T065709Z
UID:2863-1589108400-1589112000@www.ucapeelvalley.org.au
SUMMARY:West Tamworth service
DESCRIPTION:
URL:https://www.ucapeelvalley.org.au/event/west-tamworth-service-252/
LOCATION:West Tamworth\, 77 Denison Street\, Tamworth\, NSW\, 2340\, Australia
END:VEVENT
BEGIN:VEVENT
DTSTART;TZID=Australia/Sydney:20200510T083000
DTEND;TZID=Australia/Sydney:20200510T103000
DTSTAMP:20260425T215627
CREATED:20190829T065709Z
LAST-MODIFIED:20190829T065709Z
UID:2862-1589099400-1589106600@www.ucapeelvalley.org.au
SUMMARY:Gowrie service and morning tea
DESCRIPTION:
URL:https://www.ucapeelvalley.org.au/event/gowrie-service-and-morning-tea-146/
LOCATION:Gowrie\, 2125 Gowrie Road\, Gowrie\, NSW\, 2340\, Australia
END:VEVENT
BEGIN:VEVENT
DTSTART;TZID=Australia/Sydney:20200506T133000
DTEND;TZID=Australia/Sydney:20200506T163000
DTSTAMP:20260425T215627
CREATED:20190930T055720Z
LAST-MODIFIED:20190930T055720Z
UID:3028-1588771800-1588782600@www.ucapeelvalley.org.au
SUMMARY:Property bookings
DESCRIPTION:Hallsville Red Cross Monthly meeting
URL:https://www.ucapeelvalley.org.au/event/property-bookings-39/
LOCATION:Hallsville booking\, 1266 Manilla Road\, Hallsville\, NSW\, 2340\, Australia
END:VEVENT
BEGIN:VEVENT
DTSTART;TZID=Australia/Sydney:20200505T100000
DTEND;TZID=Australia/Sydney:20200505T113000
DTSTAMP:20260425T215627
CREATED:20190829T070955Z
LAST-MODIFIED:20190829T070955Z
UID:2963-1588672800-1588678200@www.ucapeelvalley.org.au
SUMMARY:Memory Lane
DESCRIPTION:Morning Tea and Conversation
URL:https://www.ucapeelvalley.org.au/event/memory-lane-78/
LOCATION:West Tamworth\, 77 Denison Street\, Tamworth\, NSW\, 2340\, Australia
END:VEVENT
BEGIN:VEVENT
DTSTART;TZID=Australia/Sydney:20200503T110000
DTEND;TZID=Australia/Sydney:20200503T130000
DTSTAMP:20260425T215627
CREATED:20190829T065709Z
LAST-MODIFIED:20190829T065709Z
UID:2861-1588503600-1588510800@www.ucapeelvalley.org.au
SUMMARY:West Tamworth service
DESCRIPTION:Followed by lunch
URL:https://www.ucapeelvalley.org.au/event/west-tamworth-service-251/
LOCATION:West Tamworth\, 77 Denison Street\, Tamworth\, NSW\, 2340\, Australia
END:VEVENT
BEGIN:VEVENT
DTSTART;TZID=Australia/Sydney:20200501T173000
DTEND;TZID=Australia/Sydney:20200501T200000
DTSTAMP:20260425T215627
CREATED:20190829T065709Z
LAST-MODIFIED:20190829T065709Z
UID:2860-1588354200-1588363200@www.ucapeelvalley.org.au
SUMMARY:Hallsville service and meal
DESCRIPTION:
URL:https://www.ucapeelvalley.org.au/event/hallsville-service-and-meal-171/
LOCATION:Hallsville\, 1266 Manila Road\, Hallsville
END:VEVENT
BEGIN:VEVENT
DTSTART;TZID=Australia/Sydney:20200426T110000
DTEND;TZID=Australia/Sydney:20200426T120000
DTSTAMP:20260425T215627
CREATED:20190829T065708Z
LAST-MODIFIED:20190829T065708Z
UID:2859-1587898800-1587902400@www.ucapeelvalley.org.au
SUMMARY:West Tamworth service
DESCRIPTION:
URL:https://www.ucapeelvalley.org.au/event/west-tamworth-service-250/
LOCATION:West Tamworth\, 77 Denison Street\, Tamworth\, NSW\, 2340\, Australia
END:VEVENT
BEGIN:VEVENT
DTSTART;TZID=Australia/Sydney:20200426T083000
DTEND;TZID=Australia/Sydney:20200426T130000
DTSTAMP:20260425T215627
CREATED:20190829T065707Z
LAST-MODIFIED:20190829T065707Z
UID:2858-1587889800-1587906000@www.ucapeelvalley.org.au
SUMMARY:Markets and cooked breakfast
DESCRIPTION:
URL:https://www.ucapeelvalley.org.au/event/markets-and-cooked-breakfast-28/
LOCATION:Hallsville\, 1266 Manila Road\, Hallsville
END:VEVENT
BEGIN:VEVENT
DTSTART;TZID=Australia/Sydney:20200426T083000
DTEND;TZID=Australia/Sydney:20200426T103000
DTSTAMP:20260425T215627
CREATED:20190829T065707Z
LAST-MODIFIED:20190829T065707Z
UID:2857-1587889800-1587897000@www.ucapeelvalley.org.au
SUMMARY:Gowrie service and morning tea
DESCRIPTION:
URL:https://www.ucapeelvalley.org.au/event/gowrie-service-and-morning-tea-145/
LOCATION:Gowrie\, 2125 Gowrie Road\, Gowrie\, NSW\, 2340\, Australia
END:VEVENT
BEGIN:VEVENT
DTSTART;TZID=Australia/Sydney:20200421T100000
DTEND;TZID=Australia/Sydney:20200421T113000
DTSTAMP:20260425T215627
CREATED:20190829T070955Z
LAST-MODIFIED:20190829T070955Z
UID:2962-1587463200-1587468600@www.ucapeelvalley.org.au
SUMMARY:Memory Lane
DESCRIPTION:Morning Tea and Conversation
URL:https://www.ucapeelvalley.org.au/event/memory-lane-77/
LOCATION:West Tamworth\, 77 Denison Street\, Tamworth\, NSW\, 2340\, Australia
END:VEVENT
BEGIN:VEVENT
DTSTART;TZID=Australia/Sydney:20200419T110000
DTEND;TZID=Australia/Sydney:20200419T120000
DTSTAMP:20260425T215627
CREATED:20190829T065706Z
LAST-MODIFIED:20190829T065706Z
UID:2856-1587294000-1587297600@www.ucapeelvalley.org.au
SUMMARY:West Tamworth service
DESCRIPTION:
URL:https://www.ucapeelvalley.org.au/event/west-tamworth-service-249/
LOCATION:West Tamworth\, 77 Denison Street\, Tamworth\, NSW\, 2340\, Australia
END:VEVENT
BEGIN:VEVENT
DTSTART;TZID=Australia/Sydney:20200417T173000
DTEND;TZID=Australia/Sydney:20200417T200000
DTSTAMP:20260425T215627
CREATED:20190829T065706Z
LAST-MODIFIED:20190829T065706Z
UID:2855-1587144600-1587153600@www.ucapeelvalley.org.au
SUMMARY:Hallsville service and meal
DESCRIPTION:
URL:https://www.ucapeelvalley.org.au/event/hallsville-service-and-meal-170/
LOCATION:Hallsville\, 1266 Manila Road\, Hallsville
END:VEVENT
BEGIN:VEVENT
DTSTART;TZID=Australia/Sydney:20200412T110000
DTEND;TZID=Australia/Sydney:20200412T120000
DTSTAMP:20260425T215627
CREATED:20190829T065706Z
LAST-MODIFIED:20190829T065706Z
UID:2854-1586689200-1586692800@www.ucapeelvalley.org.au
SUMMARY:West Tamworth service
DESCRIPTION:Easter Sunday
URL:https://www.ucapeelvalley.org.au/event/west-tamworth-service-248/
LOCATION:West Tamworth\, 77 Denison Street\, Tamworth\, NSW\, 2340\, Australia
END:VEVENT
BEGIN:VEVENT
DTSTART;TZID=Australia/Sydney:20200410T180000
DTEND;TZID=Australia/Sydney:20200410T200000
DTSTAMP:20260425T215627
CREATED:20190829T065704Z
LAST-MODIFIED:20190829T065704Z
UID:2853-1586541600-1586548800@www.ucapeelvalley.org.au
SUMMARY:Hallsville service and meal
DESCRIPTION:Good Friday
URL:https://www.ucapeelvalley.org.au/event/hallsville-service-and-meal-169/
LOCATION:Hallsville\, 1266 Manila Road\, Hallsville
END:VEVENT
BEGIN:VEVENT
DTSTART;TZID=Australia/Sydney:20200407T100000
DTEND;TZID=Australia/Sydney:20200407T113000
DTSTAMP:20260425T215627
CREATED:20190829T070952Z
LAST-MODIFIED:20190829T070952Z
UID:2961-1586253600-1586259000@www.ucapeelvalley.org.au
SUMMARY:Memory Lane
DESCRIPTION:Morning Tea and Conversation
URL:https://www.ucapeelvalley.org.au/event/memory-lane-76/
LOCATION:West Tamworth\, 77 Denison Street\, Tamworth\, NSW\, 2340\, Australia
END:VEVENT
BEGIN:VEVENT
DTSTART;TZID=Australia/Sydney:20200405T110000
DTEND;TZID=Australia/Sydney:20200405T130000
DTSTAMP:20260425T215627
CREATED:20190829T065704Z
LAST-MODIFIED:20190829T065704Z
UID:2852-1586084400-1586091600@www.ucapeelvalley.org.au
SUMMARY:West Tamworth service
DESCRIPTION:Followed by lunch
URL:https://www.ucapeelvalley.org.au/event/west-tamworth-service-247/
LOCATION:West Tamworth\, 77 Denison Street\, Tamworth\, NSW\, 2340\, Australia
END:VEVENT
BEGIN:VEVENT
DTSTART;TZID=Australia/Sydney:20200403T173000
DTEND;TZID=Australia/Sydney:20200403T200000
DTSTAMP:20260425T215627
CREATED:20190829T065703Z
LAST-MODIFIED:20190829T065703Z
UID:2851-1585935000-1585944000@www.ucapeelvalley.org.au
SUMMARY:Hallsville service and meal
DESCRIPTION:
URL:https://www.ucapeelvalley.org.au/event/hallsville-service-and-meal-168/
LOCATION:Hallsville\, 1266 Manila Road\, Hallsville
END:VEVENT
BEGIN:VEVENT
DTSTART;TZID=Australia/Sydney:20200401T133000
DTEND;TZID=Australia/Sydney:20200401T163000
DTSTAMP:20260425T215627
CREATED:20190930T055720Z
LAST-MODIFIED:20190930T055720Z
UID:3027-1585747800-1585758600@www.ucapeelvalley.org.au
SUMMARY:Property bookings
DESCRIPTION:Hallsville Red Cross Monthly meeting
URL:https://www.ucapeelvalley.org.au/event/property-bookings-38/
LOCATION:Hallsville booking\, 1266 Manilla Road\, Hallsville\, NSW\, 2340\, Australia
END:VEVENT
BEGIN:VEVENT
DTSTART;TZID=Australia/Sydney:20200329T103000
DTEND;TZID=Australia/Sydney:20200329T140000
DTSTAMP:20260425T215627
CREATED:20190829T065703Z
LAST-MODIFIED:20190829T065703Z
UID:2850-1585477800-1585490400@www.ucapeelvalley.org.au
SUMMARY:West Tamworth service
DESCRIPTION:Church on the bus
URL:https://www.ucapeelvalley.org.au/event/west-tamworth-service-246/
LOCATION:West Tamworth\, 77 Denison Street\, Tamworth\, NSW\, 2340\, Australia
END:VEVENT
END:VCALENDAR