BEGIN:VCALENDAR
VERSION:2.0
PRODID:-//Peel Valley Congregations - ECPv6.15.3//NONSGML v1.0//EN
CALSCALE:GREGORIAN
METHOD:PUBLISH
X-WR-CALNAME:Peel Valley Congregations
X-ORIGINAL-URL:https://www.ucapeelvalley.org.au
X-WR-CALDESC:Events for Peel Valley Congregations
REFRESH-INTERVAL;VALUE=DURATION:PT1H
X-Robots-Tag:noindex
X-PUBLISHED-TTL:PT1H
BEGIN:VTIMEZONE
TZID:Australia/Sydney
BEGIN:STANDARD
TZOFFSETFROM:+1100
TZOFFSETTO:+1000
TZNAME:AEST
DTSTART:20190406T160000
END:STANDARD
BEGIN:DAYLIGHT
TZOFFSETFROM:+1000
TZOFFSETTO:+1100
TZNAME:AEDT
DTSTART:20191005T160000
END:DAYLIGHT
END:VTIMEZONE
BEGIN:VEVENT
DTSTART;TZID=Australia/Sydney:20191020T090000
DTEND;TZID=Australia/Sydney:20191020T100000
DTSTAMP:20260425T223645
CREATED:20190107T221029Z
LAST-MODIFIED:20191017T011706Z
UID:2553-1571562000-1571565600@www.ucapeelvalley.org.au
SUMMARY:Hallsville - Baptism
DESCRIPTION:
URL:https://www.ucapeelvalley.org.au/event/hallsville-service-and-meal-159/
LOCATION:Hallsville\, 1266 Manila Road\, Hallsville
END:VEVENT
BEGIN:VEVENT
DTSTART;TZID=Australia/Sydney:20191015T100000
DTEND;TZID=Australia/Sydney:20191015T113000
DTSTAMP:20260425T223645
CREATED:20190107T221053Z
LAST-MODIFIED:20190107T221053Z
UID:2597-1571133600-1571139000@www.ucapeelvalley.org.au
SUMMARY:Memory Lane
DESCRIPTION:Morning Tea and Conversation
URL:https://www.ucapeelvalley.org.au/event/memory-lane-47/
LOCATION:West Tamworth\, 77 Denison Street\, Tamworth\, NSW\, 2340\, Australia
END:VEVENT
BEGIN:VEVENT
DTSTART;TZID=Australia/Sydney:20191013T110000
DTEND;TZID=Australia/Sydney:20191013T120000
DTSTAMP:20260425T223645
CREATED:20190107T221029Z
LAST-MODIFIED:20190107T221029Z
UID:2552-1570964400-1570968000@www.ucapeelvalley.org.au
SUMMARY:West Tamworth service
DESCRIPTION:
URL:https://www.ucapeelvalley.org.au/event/west-tamworth-service-226/
LOCATION:West Tamworth\, 77 Denison Street\, Tamworth\, NSW\, 2340\, Australia
END:VEVENT
BEGIN:VEVENT
DTSTART;TZID=Australia/Sydney:20191013T083000
DTEND;TZID=Australia/Sydney:20191013T103000
DTSTAMP:20260425T223645
CREATED:20190107T221027Z
LAST-MODIFIED:20190107T221027Z
UID:2551-1570955400-1570962600@www.ucapeelvalley.org.au
SUMMARY:Gowrie service and morning tea
DESCRIPTION:
URL:https://www.ucapeelvalley.org.au/event/gowrie-service-and-morning-tea-136/
LOCATION:Gowrie\, 2125 Gowrie Road\, Gowrie\, NSW\, 2340\, Australia
END:VEVENT
BEGIN:VEVENT
DTSTART;TZID=Australia/Sydney:20191006T110000
DTEND;TZID=Australia/Sydney:20191006T130000
DTSTAMP:20260425T223645
CREATED:20190107T221027Z
LAST-MODIFIED:20190107T221027Z
UID:2550-1570359600-1570366800@www.ucapeelvalley.org.au
SUMMARY:West Tamworth service
DESCRIPTION:Followed by lunch
URL:https://www.ucapeelvalley.org.au/event/west-tamworth-service-225/
LOCATION:West Tamworth\, 77 Denison Street\, Tamworth\, NSW\, 2340\, Australia
END:VEVENT
BEGIN:VEVENT
DTSTART;VALUE=DATE:20191006
DTEND;VALUE=DATE:20191007
DTSTAMP:20260425T223645
CREATED:20190621T012453Z
LAST-MODIFIED:20190621T012453Z
UID:2759-1570320000-1570406399@www.ucapeelvalley.org.au
SUMMARY:Private booking - 70th Anniversary
DESCRIPTION:For congregation members
URL:https://www.ucapeelvalley.org.au/event/private-booking-70th-anniversary/
LOCATION:Hallsville booking\, 1266 Manilla Road\, Hallsville\, NSW\, 2340\, Australia
END:VEVENT
BEGIN:VEVENT
DTSTART;TZID=Australia/Sydney:20191004T173000
DTEND;TZID=Australia/Sydney:20191004T200000
DTSTAMP:20260425T223645
CREATED:20190107T221027Z
LAST-MODIFIED:20190107T221027Z
UID:2549-1570210200-1570219200@www.ucapeelvalley.org.au
SUMMARY:Hallsville service and meal
DESCRIPTION:
URL:https://www.ucapeelvalley.org.au/event/hallsville-service-and-meal-158/
LOCATION:Hallsville\, 1266 Manila Road\, Hallsville
END:VEVENT
BEGIN:VEVENT
DTSTART;TZID=Australia/Sydney:20191002T133000
DTEND;TZID=Australia/Sydney:20191002T163000
DTSTAMP:20260425T223645
CREATED:20181012T010005Z
LAST-MODIFIED:20181012T010005Z
UID:2365-1570023000-1570033800@www.ucapeelvalley.org.au
SUMMARY:Property bookings
DESCRIPTION:Hallsville Red Cross Monthly meeting
URL:https://www.ucapeelvalley.org.au/event/property-bookings-16/
LOCATION:Hallsville booking\, 1266 Manilla Road\, Hallsville\, NSW\, 2340\, Australia
END:VEVENT
BEGIN:VEVENT
DTSTART;TZID=Australia/Sydney:20191001T100000
DTEND;TZID=Australia/Sydney:20191001T113000
DTSTAMP:20260425T223645
CREATED:20190107T221051Z
LAST-MODIFIED:20190107T221051Z
UID:2596-1569924000-1569929400@www.ucapeelvalley.org.au
SUMMARY:Memory Lane
DESCRIPTION:Morning Tea and Conversation
URL:https://www.ucapeelvalley.org.au/event/memory-lane-46/
LOCATION:West Tamworth\, 77 Denison Street\, Tamworth\, NSW\, 2340\, Australia
END:VEVENT
BEGIN:VEVENT
DTSTART;TZID=Australia/Sydney:20190929T103000
DTEND;TZID=Australia/Sydney:20190929T140000
DTSTAMP:20260425T223645
CREATED:20190107T221026Z
LAST-MODIFIED:20190107T221026Z
UID:2548-1569753000-1569765600@www.ucapeelvalley.org.au
SUMMARY:West Tamworth service
DESCRIPTION:Church on the bus
URL:https://www.ucapeelvalley.org.au/event/west-tamworth-service-224/
LOCATION:West Tamworth\, 77 Denison Street\, Tamworth\, NSW\, 2340\, Australia
END:VEVENT
BEGIN:VEVENT
DTSTART;TZID=Australia/Sydney:20190922T110000
DTEND;TZID=Australia/Sydney:20190922T120000
DTSTAMP:20260425T223645
CREATED:20190107T221026Z
LAST-MODIFIED:20190107T221026Z
UID:2547-1569150000-1569153600@www.ucapeelvalley.org.au
SUMMARY:West Tamworth service
DESCRIPTION:
URL:https://www.ucapeelvalley.org.au/event/west-tamworth-service-223/
LOCATION:West Tamworth\, 77 Denison Street\, Tamworth\, NSW\, 2340\, Australia
END:VEVENT
BEGIN:VEVENT
DTSTART;TZID=Australia/Sydney:20190922T083000
DTEND;TZID=Australia/Sydney:20190922T130000
DTSTAMP:20260425T223645
CREATED:20190107T221025Z
LAST-MODIFIED:20190107T221025Z
UID:2546-1569141000-1569157200@www.ucapeelvalley.org.au
SUMMARY:Markets and cooked breakfast
DESCRIPTION:
URL:https://www.ucapeelvalley.org.au/event/markets-and-cooked-breakfast-22/
LOCATION:Hallsville\, 1266 Manila Road\, Hallsville
END:VEVENT
BEGIN:VEVENT
DTSTART;TZID=Australia/Sydney:20190922T083000
DTEND;TZID=Australia/Sydney:20190922T103000
DTSTAMP:20260425T223645
CREATED:20190107T221024Z
LAST-MODIFIED:20190107T221024Z
UID:2545-1569141000-1569148200@www.ucapeelvalley.org.au
SUMMARY:Gowrie service and morning tea
DESCRIPTION:
URL:https://www.ucapeelvalley.org.au/event/gowrie-service-and-morning-tea-135/
LOCATION:Gowrie\, 2125 Gowrie Road\, Gowrie\, NSW\, 2340\, Australia
END:VEVENT
BEGIN:VEVENT
DTSTART;TZID=Australia/Sydney:20190920T173000
DTEND;TZID=Australia/Sydney:20190920T200000
DTSTAMP:20260425T223645
CREATED:20190107T221024Z
LAST-MODIFIED:20190107T221024Z
UID:2544-1569000600-1569009600@www.ucapeelvalley.org.au
SUMMARY:Hallsville service and meal
DESCRIPTION:
URL:https://www.ucapeelvalley.org.au/event/hallsville-service-and-meal-157/
LOCATION:Hallsville\, 1266 Manila Road\, Hallsville
END:VEVENT
BEGIN:VEVENT
DTSTART;TZID=Australia/Sydney:20190917T100000
DTEND;TZID=Australia/Sydney:20190917T113000
DTSTAMP:20260425T223645
CREATED:20190107T221051Z
LAST-MODIFIED:20190107T221051Z
UID:2595-1568714400-1568719800@www.ucapeelvalley.org.au
SUMMARY:Memory Lane
DESCRIPTION:Morning Tea and Conversation
URL:https://www.ucapeelvalley.org.au/event/memory-lane-45/
LOCATION:West Tamworth\, 77 Denison Street\, Tamworth\, NSW\, 2340\, Australia
END:VEVENT
BEGIN:VEVENT
DTSTART;TZID=Australia/Sydney:20190915T110000
DTEND;TZID=Australia/Sydney:20190915T120000
DTSTAMP:20260425T223645
CREATED:20190107T221023Z
LAST-MODIFIED:20190107T221023Z
UID:2543-1568545200-1568548800@www.ucapeelvalley.org.au
SUMMARY:West Tamworth service
DESCRIPTION:
URL:https://www.ucapeelvalley.org.au/event/west-tamworth-service-222/
LOCATION:West Tamworth\, 77 Denison Street\, Tamworth\, NSW\, 2340\, Australia
END:VEVENT
BEGIN:VEVENT
DTSTART;TZID=Australia/Sydney:20190914T100000
DTEND;TZID=Australia/Sydney:20190914T150000
DTSTAMP:20260425T223645
CREATED:20190823T034654Z
LAST-MODIFIED:20190823T034654Z
UID:2806-1568455200-1568473200@www.ucapeelvalley.org.au
SUMMARY:Tamworth Caravan Club AGM
DESCRIPTION:
URL:https://www.ucapeelvalley.org.au/event/tamworth-caravan-club-agm/
LOCATION:Hallsville booking\, 1266 Manilla Road\, Hallsville\, NSW\, 2340\, Australia
END:VEVENT
BEGIN:VEVENT
DTSTART;TZID=Australia/Sydney:20190913T120000
DTEND;TZID=Australia/Sydney:20190913T150000
DTSTAMP:20260425T223645
CREATED:20190913T001005Z
LAST-MODIFIED:20190913T001005Z
UID:3009-1568376000-1568386800@www.ucapeelvalley.org.au
SUMMARY:Property bookings
DESCRIPTION:Tamworth & District Caravan and Leisure Club AGM
URL:https://www.ucapeelvalley.org.au/event/property-bookings-35/
LOCATION:Hallsville booking\, 1266 Manilla Road\, Hallsville\, NSW\, 2340\, Australia
END:VEVENT
BEGIN:VEVENT
DTSTART;TZID=Australia/Sydney:20190908T110000
DTEND;TZID=Australia/Sydney:20190908T120000
DTSTAMP:20260425T223645
CREATED:20190107T221023Z
LAST-MODIFIED:20190107T221023Z
UID:2542-1567940400-1567944000@www.ucapeelvalley.org.au
SUMMARY:West Tamworth service
DESCRIPTION:
URL:https://www.ucapeelvalley.org.au/event/west-tamworth-service-221/
LOCATION:West Tamworth\, 77 Denison Street\, Tamworth\, NSW\, 2340\, Australia
END:VEVENT
BEGIN:VEVENT
DTSTART;TZID=Australia/Sydney:20190908T083000
DTEND;TZID=Australia/Sydney:20190908T103000
DTSTAMP:20260425T223645
CREATED:20190107T221022Z
LAST-MODIFIED:20190107T221022Z
UID:2541-1567931400-1567938600@www.ucapeelvalley.org.au
SUMMARY:Gowrie service and morning tea
DESCRIPTION:
URL:https://www.ucapeelvalley.org.au/event/gowrie-service-and-morning-tea-134/
LOCATION:Gowrie\, 2125 Gowrie Road\, Gowrie\, NSW\, 2340\, Australia
END:VEVENT
BEGIN:VEVENT
DTSTART;TZID=Australia/Sydney:20190906T173000
DTEND;TZID=Australia/Sydney:20190906T200000
DTSTAMP:20260425T223645
CREATED:20190107T221021Z
LAST-MODIFIED:20190107T221021Z
UID:2540-1567791000-1567800000@www.ucapeelvalley.org.au
SUMMARY:Hallsville service and meal
DESCRIPTION:
URL:https://www.ucapeelvalley.org.au/event/hallsville-service-and-meal-156/
LOCATION:Hallsville\, 1266 Manila Road\, Hallsville
END:VEVENT
BEGIN:VEVENT
DTSTART;TZID=Australia/Sydney:20190904T133000
DTEND;TZID=Australia/Sydney:20190904T163000
DTSTAMP:20260425T223645
CREATED:20181012T010003Z
LAST-MODIFIED:20181012T010003Z
UID:2364-1567603800-1567614600@www.ucapeelvalley.org.au
SUMMARY:Property bookings
DESCRIPTION:Hallsville Red Cross Monthly meeting
URL:https://www.ucapeelvalley.org.au/event/property-bookings-15/
LOCATION:Hallsville booking\, 1266 Manilla Road\, Hallsville\, NSW\, 2340\, Australia
END:VEVENT
BEGIN:VEVENT
DTSTART;TZID=Australia/Sydney:20190903T100000
DTEND;TZID=Australia/Sydney:20190903T113000
DTSTAMP:20260425T223645
CREATED:20190107T221051Z
LAST-MODIFIED:20190107T221051Z
UID:2594-1567504800-1567510200@www.ucapeelvalley.org.au
SUMMARY:Memory Lane
DESCRIPTION:Morning Tea and Conversation
URL:https://www.ucapeelvalley.org.au/event/memory-lane-44/
LOCATION:West Tamworth\, 77 Denison Street\, Tamworth\, NSW\, 2340\, Australia
END:VEVENT
BEGIN:VEVENT
DTSTART;TZID=Australia/Sydney:20190901T110000
DTEND;TZID=Australia/Sydney:20190901T130000
DTSTAMP:20260425T223645
CREATED:20190107T221021Z
LAST-MODIFIED:20190107T221021Z
UID:2539-1567335600-1567342800@www.ucapeelvalley.org.au
SUMMARY:West Tamworth service
DESCRIPTION:Followed by lunch
URL:https://www.ucapeelvalley.org.au/event/west-tamworth-service-220/
LOCATION:West Tamworth\, 77 Denison Street\, Tamworth\, NSW\, 2340\, Australia
END:VEVENT
BEGIN:VEVENT
DTSTART;TZID=Australia/Sydney:20190825T110000
DTEND;TZID=Australia/Sydney:20190825T120000
DTSTAMP:20260425T223645
CREATED:20190107T221021Z
LAST-MODIFIED:20190325T013056Z
UID:2538-1566730800-1566734400@www.ucapeelvalley.org.au
SUMMARY:West Tamworth service
DESCRIPTION:
URL:https://www.ucapeelvalley.org.au/event/west-tamworth-service-219/
LOCATION:West Tamworth\, 77 Denison Street\, Tamworth\, NSW\, 2340\, Australia
END:VEVENT
BEGIN:VEVENT
DTSTART;TZID=Australia/Sydney:20190825T083000
DTEND;TZID=Australia/Sydney:20190825T130000
DTSTAMP:20260425T223645
CREATED:20190107T221020Z
LAST-MODIFIED:20190107T221020Z
UID:2537-1566721800-1566738000@www.ucapeelvalley.org.au
SUMMARY:Markets and cooked breakfast
DESCRIPTION:
URL:https://www.ucapeelvalley.org.au/event/markets-and-cooked-breakfast-21/
LOCATION:Hallsville\, 1266 Manila Road\, Hallsville
END:VEVENT
BEGIN:VEVENT
DTSTART;TZID=Australia/Sydney:20190825T083000
DTEND;TZID=Australia/Sydney:20190825T103000
DTSTAMP:20260425T223645
CREATED:20190107T221019Z
LAST-MODIFIED:20190325T013147Z
UID:2536-1566721800-1566729000@www.ucapeelvalley.org.au
SUMMARY:Gowrie service and morning tea
DESCRIPTION:
URL:https://www.ucapeelvalley.org.au/event/gowrie-service-and-morning-tea-133/
LOCATION:Gowrie\, 2125 Gowrie Road\, Gowrie\, NSW\, 2340\, Australia
END:VEVENT
BEGIN:VEVENT
DTSTART;TZID=Australia/Sydney:20190820T100000
DTEND;TZID=Australia/Sydney:20190820T113000
DTSTAMP:20260425T223645
CREATED:20190107T221051Z
LAST-MODIFIED:20190107T221051Z
UID:2593-1566295200-1566300600@www.ucapeelvalley.org.au
SUMMARY:Memory Lane
DESCRIPTION:Morning Tea and Conversation
URL:https://www.ucapeelvalley.org.au/event/memory-lane-43/
LOCATION:West Tamworth\, 77 Denison Street\, Tamworth\, NSW\, 2340\, Australia
END:VEVENT
BEGIN:VEVENT
DTSTART;TZID=Australia/Sydney:20190818T110000
DTEND;TZID=Australia/Sydney:20190818T120000
DTSTAMP:20260425T223645
CREATED:20190107T221018Z
LAST-MODIFIED:20190107T221018Z
UID:2535-1566126000-1566129600@www.ucapeelvalley.org.au
SUMMARY:West Tamworth service
DESCRIPTION:
URL:https://www.ucapeelvalley.org.au/event/west-tamworth-service-218/
LOCATION:West Tamworth\, 77 Denison Street\, Tamworth\, NSW\, 2340\, Australia
END:VEVENT
BEGIN:VEVENT
DTSTART;TZID=Australia/Sydney:20190816T173000
DTEND;TZID=Australia/Sydney:20190816T200000
DTSTAMP:20260425T223645
CREATED:20190107T221018Z
LAST-MODIFIED:20190325T013222Z
UID:2534-1565976600-1565985600@www.ucapeelvalley.org.au
SUMMARY:Hallsville service and meal
DESCRIPTION:
URL:https://www.ucapeelvalley.org.au/event/hallsville-service-and-meal-155/
LOCATION:Hallsville\, 1266 Manila Road\, Hallsville
END:VEVENT
END:VCALENDAR