BEGIN:VCALENDAR
VERSION:2.0
PRODID:-//Peel Valley Congregations - ECPv6.15.3//NONSGML v1.0//EN
CALSCALE:GREGORIAN
METHOD:PUBLISH
X-WR-CALNAME:Peel Valley Congregations
X-ORIGINAL-URL:https://www.ucapeelvalley.org.au
X-WR-CALDESC:Events for Peel Valley Congregations
REFRESH-INTERVAL;VALUE=DURATION:PT1H
X-Robots-Tag:noindex
X-PUBLISHED-TTL:PT1H
BEGIN:VTIMEZONE
TZID:Australia/Sydney
BEGIN:STANDARD
TZOFFSETFROM:+1100
TZOFFSETTO:+1000
TZNAME:AEST
DTSTART:20180331T160000
END:STANDARD
BEGIN:DAYLIGHT
TZOFFSETFROM:+1000
TZOFFSETTO:+1100
TZNAME:AEDT
DTSTART:20181006T160000
END:DAYLIGHT
END:VTIMEZONE
BEGIN:VEVENT
DTSTART;TZID=Australia/Sydney:20181116T173000
DTEND;TZID=Australia/Sydney:20181116T200000
DTSTAMP:20260426T014106
CREATED:20190107T220936Z
LAST-MODIFIED:20190107T220936Z
UID:2460-1542389400-1542398400@www.ucapeelvalley.org.au
SUMMARY:Hallsville service and meal
DESCRIPTION:
URL:https://www.ucapeelvalley.org.au/event/hallsville-service-and-meal-141/
LOCATION:Hallsville\, 1266 Manila Road\, Hallsville
END:VEVENT
BEGIN:VEVENT
DTSTART;TZID=Australia/Sydney:20181111T110000
DTEND;TZID=Australia/Sydney:20181111T120000
DTSTAMP:20260426T014106
CREATED:20190107T220936Z
LAST-MODIFIED:20190107T220936Z
UID:2459-1541934000-1541937600@www.ucapeelvalley.org.au
SUMMARY:West Tamworth service
DESCRIPTION:
URL:https://www.ucapeelvalley.org.au/event/west-tamworth-service-182/
LOCATION:West Tamworth\, 77 Denison Street\, Tamworth\, NSW\, 2340\, Australia
END:VEVENT
BEGIN:VEVENT
DTSTART;TZID=Australia/Sydney:20181111T083000
DTEND;TZID=Australia/Sydney:20181111T103000
DTSTAMP:20260426T014106
CREATED:20190107T220936Z
LAST-MODIFIED:20190107T220936Z
UID:2458-1541925000-1541932200@www.ucapeelvalley.org.au
SUMMARY:Gowrie service and morning tea
DESCRIPTION:
URL:https://www.ucapeelvalley.org.au/event/gowrie-service-and-morning-tea-118/
LOCATION:Gowrie\, 2125 Gowrie Road\, Gowrie\, NSW\, 2340\, Australia
END:VEVENT
BEGIN:VEVENT
DTSTART;TZID=Australia/Sydney:20181110T133000
DTEND;TZID=Australia/Sydney:20181110T163000
DTSTAMP:20260426T014106
CREATED:20181012T005957Z
LAST-MODIFIED:20181012T005957Z
UID:2353-1541856600-1541867400@www.ucapeelvalley.org.au
SUMMARY:Property bookings
DESCRIPTION:Private celebration 50th Wedding Anniversary
URL:https://www.ucapeelvalley.org.au/event/property-bookings-4/
LOCATION:Hallsville booking\, 1266 Manilla Road\, Hallsville\, NSW\, 2340\, Australia
END:VEVENT
BEGIN:VEVENT
DTSTART;TZID=Australia/Sydney:20181107T133000
DTEND;TZID=Australia/Sydney:20181107T163000
DTSTAMP:20260426T014106
CREATED:20181012T005957Z
LAST-MODIFIED:20181012T005957Z
UID:2352-1541597400-1541608200@www.ucapeelvalley.org.au
SUMMARY:Property bookings
DESCRIPTION:Hallsville Red Cross Monthly meeting
URL:https://www.ucapeelvalley.org.au/event/property-bookings-3/
LOCATION:Hallsville booking\, 1266 Manilla Road\, Hallsville\, NSW\, 2340\, Australia
END:VEVENT
BEGIN:VEVENT
DTSTART;TZID=Australia/Sydney:20181106T100000
DTEND;TZID=Australia/Sydney:20181106T113000
DTSTAMP:20260426T014106
CREATED:20190107T221043Z
LAST-MODIFIED:20190107T221043Z
UID:2577-1541498400-1541503800@www.ucapeelvalley.org.au
SUMMARY:Memory Lane
DESCRIPTION:Morning Tea and Conversation
URL:https://www.ucapeelvalley.org.au/event/memory-lane-27/
LOCATION:West Tamworth\, 77 Denison Street\, Tamworth\, NSW\, 2340\, Australia
END:VEVENT
BEGIN:VEVENT
DTSTART;TZID=Australia/Sydney:20181104T110000
DTEND;TZID=Australia/Sydney:20181104T130000
DTSTAMP:20260426T014106
CREATED:20190107T220935Z
LAST-MODIFIED:20190107T220935Z
UID:2457-1541329200-1541336400@www.ucapeelvalley.org.au
SUMMARY:West Tamworth service
DESCRIPTION:Followed by lunch
URL:https://www.ucapeelvalley.org.au/event/west-tamworth-service-181/
LOCATION:West Tamworth\, 77 Denison Street\, Tamworth\, NSW\, 2340\, Australia
END:VEVENT
BEGIN:VEVENT
DTSTART;TZID=Australia/Sydney:20181102T173000
DTEND;TZID=Australia/Sydney:20181102T200000
DTSTAMP:20260426T014106
CREATED:20190107T220934Z
LAST-MODIFIED:20190107T220934Z
UID:2456-1541179800-1541188800@www.ucapeelvalley.org.au
SUMMARY:Hallsville service and meal
DESCRIPTION:
URL:https://www.ucapeelvalley.org.au/event/hallsville-service-and-meal-140/
LOCATION:Hallsville\, 1266 Manila Road\, Hallsville
END:VEVENT
BEGIN:VEVENT
DTSTART;TZID=Australia/Sydney:20181028T110000
DTEND;TZID=Australia/Sydney:20181028T120000
DTSTAMP:20260426T014106
CREATED:20190107T220934Z
LAST-MODIFIED:20190107T220934Z
UID:2455-1540724400-1540728000@www.ucapeelvalley.org.au
SUMMARY:West Tamworth service
DESCRIPTION:
URL:https://www.ucapeelvalley.org.au/event/west-tamworth-service-180/
LOCATION:West Tamworth\, 77 Denison Street\, Tamworth\, NSW\, 2340\, Australia
END:VEVENT
BEGIN:VEVENT
DTSTART;TZID=Australia/Sydney:20181028T083000
DTEND;TZID=Australia/Sydney:20181028T130000
DTSTAMP:20260426T014106
CREATED:20190107T220933Z
LAST-MODIFIED:20190107T220933Z
UID:2454-1540715400-1540731600@www.ucapeelvalley.org.au
SUMMARY:Markets and cooked breakfast
DESCRIPTION:
URL:https://www.ucapeelvalley.org.au/event/markets-and-cooked-breakfast-12/
LOCATION:Hallsville\, 1266 Manila Road\, Hallsville
END:VEVENT
BEGIN:VEVENT
DTSTART;TZID=Australia/Sydney:20181028T083000
DTEND;TZID=Australia/Sydney:20181028T103000
DTSTAMP:20260426T014106
CREATED:20190107T220933Z
LAST-MODIFIED:20190107T220933Z
UID:2453-1540715400-1540722600@www.ucapeelvalley.org.au
SUMMARY:Gowrie service and morning tea
DESCRIPTION:
URL:https://www.ucapeelvalley.org.au/event/gowrie-service-and-morning-tea-117/
LOCATION:Gowrie\, 2125 Gowrie Road\, Gowrie\, NSW\, 2340\, Australia
END:VEVENT
BEGIN:VEVENT
DTSTART;TZID=Australia/Sydney:20181021T110000
DTEND;TZID=Australia/Sydney:20181021T120000
DTSTAMP:20260426T014106
CREATED:20190107T220933Z
LAST-MODIFIED:20190107T220933Z
UID:2452-1540119600-1540123200@www.ucapeelvalley.org.au
SUMMARY:West Tamworth service
DESCRIPTION:
URL:https://www.ucapeelvalley.org.au/event/west-tamworth-service-179/
LOCATION:West Tamworth\, 77 Denison Street\, Tamworth\, NSW\, 2340\, Australia
END:VEVENT
BEGIN:VEVENT
DTSTART;TZID=Australia/Sydney:20181019T173000
DTEND;TZID=Australia/Sydney:20181019T200000
DTSTAMP:20260426T014106
CREATED:20190107T220931Z
LAST-MODIFIED:20190107T220931Z
UID:2451-1539970200-1539979200@www.ucapeelvalley.org.au
SUMMARY:Hallsville service and meal
DESCRIPTION:
URL:https://www.ucapeelvalley.org.au/event/hallsville-service-and-meal-139/
LOCATION:Hallsville\, 1266 Manila Road\, Hallsville
END:VEVENT
BEGIN:VEVENT
DTSTART;TZID=Australia/Sydney:20181016T100000
DTEND;TZID=Australia/Sydney:20181016T113000
DTSTAMP:20260426T014106
CREATED:20190107T221042Z
LAST-MODIFIED:20190107T221042Z
UID:2576-1539684000-1539689400@www.ucapeelvalley.org.au
SUMMARY:Memory Lane
DESCRIPTION:Morning Tea and Conversation
URL:https://www.ucapeelvalley.org.au/event/memory-lane-26/
LOCATION:West Tamworth\, 77 Denison Street\, Tamworth\, NSW\, 2340\, Australia
END:VEVENT
BEGIN:VEVENT
DTSTART;TZID=Australia/Sydney:20181014T110000
DTEND;TZID=Australia/Sydney:20181014T120000
DTSTAMP:20260426T014106
CREATED:20190107T220931Z
LAST-MODIFIED:20190107T220931Z
UID:2450-1539514800-1539518400@www.ucapeelvalley.org.au
SUMMARY:West Tamworth service
DESCRIPTION:
URL:https://www.ucapeelvalley.org.au/event/west-tamworth-service-178/
LOCATION:West Tamworth\, 77 Denison Street\, Tamworth\, NSW\, 2340\, Australia
END:VEVENT
BEGIN:VEVENT
DTSTART;TZID=Australia/Sydney:20181014T083000
DTEND;TZID=Australia/Sydney:20181014T103000
DTSTAMP:20260426T014106
CREATED:20190107T220931Z
LAST-MODIFIED:20190107T220931Z
UID:2449-1539505800-1539513000@www.ucapeelvalley.org.au
SUMMARY:Gowrie service and morning tea
DESCRIPTION:
URL:https://www.ucapeelvalley.org.au/event/gowrie-service-and-morning-tea-116/
LOCATION:Gowrie\, 2125 Gowrie Road\, Gowrie\, NSW\, 2340\, Australia
END:VEVENT
BEGIN:VEVENT
DTSTART;TZID=Australia/Sydney:20181007T110000
DTEND;TZID=Australia/Sydney:20181007T130000
DTSTAMP:20260426T014106
CREATED:20190107T220931Z
LAST-MODIFIED:20190107T220931Z
UID:2448-1538910000-1538917200@www.ucapeelvalley.org.au
SUMMARY:West Tamworth service
DESCRIPTION:Followed by lunch
URL:https://www.ucapeelvalley.org.au/event/west-tamworth-service-177/
LOCATION:West Tamworth\, 77 Denison Street\, Tamworth\, NSW\, 2340\, Australia
END:VEVENT
BEGIN:VEVENT
DTSTART;TZID=Australia/Sydney:20181005T173000
DTEND;TZID=Australia/Sydney:20181005T200000
DTSTAMP:20260426T014106
CREATED:20190107T220930Z
LAST-MODIFIED:20190107T220930Z
UID:2447-1538760600-1538769600@www.ucapeelvalley.org.au
SUMMARY:Hallsville service and meal
DESCRIPTION:
URL:https://www.ucapeelvalley.org.au/event/hallsville-service-and-meal-138/
LOCATION:Hallsville\, 1266 Manila Road\, Hallsville
END:VEVENT
BEGIN:VEVENT
DTSTART;TZID=Australia/Sydney:20181003T133000
DTEND;TZID=Australia/Sydney:20181003T163000
DTSTAMP:20260426T014106
CREATED:20181012T005957Z
LAST-MODIFIED:20181012T005957Z
UID:2351-1538573400-1538584200@www.ucapeelvalley.org.au
SUMMARY:Property bookings
DESCRIPTION:Hallsville Red Cross Monthly meeting
URL:https://www.ucapeelvalley.org.au/event/property-bookings-2/
LOCATION:Hallsville booking\, 1266 Manilla Road\, Hallsville\, NSW\, 2340\, Australia
END:VEVENT
BEGIN:VEVENT
DTSTART;TZID=Australia/Sydney:20181002T100000
DTEND;TZID=Australia/Sydney:20181002T113000
DTSTAMP:20260426T014106
CREATED:20190107T221041Z
LAST-MODIFIED:20190107T221041Z
UID:2575-1538474400-1538479800@www.ucapeelvalley.org.au
SUMMARY:Memory Lane
DESCRIPTION:Morning Tea and Conversation
URL:https://www.ucapeelvalley.org.au/event/memory-lane-25/
LOCATION:West Tamworth\, 77 Denison Street\, Tamworth\, NSW\, 2340\, Australia
END:VEVENT
BEGIN:VEVENT
DTSTART;TZID=Australia/Sydney:20180930T103000
DTEND;TZID=Australia/Sydney:20180930T140000
DTSTAMP:20260426T014106
CREATED:20190107T220929Z
LAST-MODIFIED:20190107T220929Z
UID:2446-1538303400-1538316000@www.ucapeelvalley.org.au
SUMMARY:West Tamworth service
DESCRIPTION:Church on the bus
URL:https://www.ucapeelvalley.org.au/event/west-tamworth-service-176/
LOCATION:West Tamworth\, 77 Denison Street\, Tamworth\, NSW\, 2340\, Australia
END:VEVENT
BEGIN:VEVENT
DTSTART;TZID=Australia/Sydney:20180923T110000
DTEND;TZID=Australia/Sydney:20180923T120000
DTSTAMP:20260426T014106
CREATED:20190107T220928Z
LAST-MODIFIED:20190107T220928Z
UID:2445-1537700400-1537704000@www.ucapeelvalley.org.au
SUMMARY:West Tamworth service
DESCRIPTION:
URL:https://www.ucapeelvalley.org.au/event/west-tamworth-service-175/
LOCATION:West Tamworth\, 77 Denison Street\, Tamworth\, NSW\, 2340\, Australia
END:VEVENT
BEGIN:VEVENT
DTSTART;TZID=Australia/Sydney:20180923T083000
DTEND;TZID=Australia/Sydney:20180923T130000
DTSTAMP:20260426T014106
CREATED:20190107T220928Z
LAST-MODIFIED:20190107T220928Z
UID:2444-1537691400-1537707600@www.ucapeelvalley.org.au
SUMMARY:Markets and cooked breakfast
DESCRIPTION:
URL:https://www.ucapeelvalley.org.au/event/markets-and-cooked-breakfast-11/
LOCATION:Hallsville\, 1266 Manila Road\, Hallsville
END:VEVENT
BEGIN:VEVENT
DTSTART;TZID=Australia/Sydney:20180923T083000
DTEND;TZID=Australia/Sydney:20180923T103000
DTSTAMP:20260426T014106
CREATED:20190107T220928Z
LAST-MODIFIED:20190107T220928Z
UID:2443-1537691400-1537698600@www.ucapeelvalley.org.au
SUMMARY:Gowrie service and morning tea
DESCRIPTION:
URL:https://www.ucapeelvalley.org.au/event/gowrie-service-and-morning-tea-115/
LOCATION:Gowrie\, 2125 Gowrie Road\, Gowrie\, NSW\, 2340\, Australia
END:VEVENT
BEGIN:VEVENT
DTSTART;TZID=Australia/Sydney:20180921T173000
DTEND;TZID=Australia/Sydney:20180921T200000
DTSTAMP:20260426T014106
CREATED:20190107T220927Z
LAST-MODIFIED:20190107T220927Z
UID:2442-1537551000-1537560000@www.ucapeelvalley.org.au
SUMMARY:Hallsville service and meal
DESCRIPTION:
URL:https://www.ucapeelvalley.org.au/event/hallsville-service-and-meal-137/
LOCATION:Hallsville\, 1266 Manila Road\, Hallsville
END:VEVENT
BEGIN:VEVENT
DTSTART;TZID=Australia/Sydney:20180918T100000
DTEND;TZID=Australia/Sydney:20180918T113000
DTSTAMP:20260426T014106
CREATED:20190107T221041Z
LAST-MODIFIED:20190107T221041Z
UID:2574-1537264800-1537270200@www.ucapeelvalley.org.au
SUMMARY:Memory Lane
DESCRIPTION:Morning Tea and Conversation
URL:https://www.ucapeelvalley.org.au/event/memory-lane-24/
LOCATION:West Tamworth\, 77 Denison Street\, Tamworth\, NSW\, 2340\, Australia
END:VEVENT
BEGIN:VEVENT
DTSTART;TZID=Australia/Sydney:20180916T110000
DTEND;TZID=Australia/Sydney:20180916T120000
DTSTAMP:20260426T014106
CREATED:20190107T220923Z
LAST-MODIFIED:20190107T220923Z
UID:2441-1537095600-1537099200@www.ucapeelvalley.org.au
SUMMARY:West Tamworth service
DESCRIPTION:
URL:https://www.ucapeelvalley.org.au/event/west-tamworth-service-174/
LOCATION:West Tamworth\, 77 Denison Street\, Tamworth\, NSW\, 2340\, Australia
END:VEVENT
BEGIN:VEVENT
DTSTART;TZID=Australia/Sydney:20180909T110000
DTEND;TZID=Australia/Sydney:20180909T120000
DTSTAMP:20260426T014106
CREATED:20190107T220923Z
LAST-MODIFIED:20190107T220923Z
UID:2440-1536490800-1536494400@www.ucapeelvalley.org.au
SUMMARY:West Tamworth service
DESCRIPTION:
URL:https://www.ucapeelvalley.org.au/event/west-tamworth-service-173/
LOCATION:West Tamworth\, 77 Denison Street\, Tamworth\, NSW\, 2340\, Australia
END:VEVENT
BEGIN:VEVENT
DTSTART;TZID=Australia/Sydney:20180909T083000
DTEND;TZID=Australia/Sydney:20180909T103000
DTSTAMP:20260426T014106
CREATED:20190107T220922Z
LAST-MODIFIED:20190107T220922Z
UID:2439-1536481800-1536489000@www.ucapeelvalley.org.au
SUMMARY:Gowrie service and morning tea
DESCRIPTION:
URL:https://www.ucapeelvalley.org.au/event/gowrie-service-and-morning-tea-114/
LOCATION:Gowrie\, 2125 Gowrie Road\, Gowrie\, NSW\, 2340\, Australia
END:VEVENT
BEGIN:VEVENT
DTSTART;TZID=Australia/Sydney:20180907T173000
DTEND;TZID=Australia/Sydney:20180907T200000
DTSTAMP:20260426T014106
CREATED:20190107T220922Z
LAST-MODIFIED:20190107T220922Z
UID:2438-1536341400-1536350400@www.ucapeelvalley.org.au
SUMMARY:Hallsville service and meal
DESCRIPTION:
URL:https://www.ucapeelvalley.org.au/event/hallsville-service-and-meal-136/
LOCATION:Hallsville\, 1266 Manila Road\, Hallsville
END:VEVENT
END:VCALENDAR