BEGIN:VCALENDAR
VERSION:2.0
PRODID:-//Peel Valley Congregations - ECPv6.15.3//NONSGML v1.0//EN
CALSCALE:GREGORIAN
METHOD:PUBLISH
X-WR-CALNAME:Peel Valley Congregations
X-ORIGINAL-URL:https://www.ucapeelvalley.org.au
X-WR-CALDESC:Events for Peel Valley Congregations
REFRESH-INTERVAL;VALUE=DURATION:PT1H
X-Robots-Tag:noindex
X-PUBLISHED-TTL:PT1H
BEGIN:VTIMEZONE
TZID:Australia/Sydney
BEGIN:STANDARD
TZOFFSETFROM:+1100
TZOFFSETTO:+1000
TZNAME:AEST
DTSTART:20180331T160000
END:STANDARD
BEGIN:DAYLIGHT
TZOFFSETFROM:+1000
TZOFFSETTO:+1100
TZNAME:AEDT
DTSTART:20181006T160000
END:DAYLIGHT
END:VTIMEZONE
BEGIN:VEVENT
DTSTART;TZID=Australia/Sydney:20180821T100000
DTEND;TZID=Australia/Sydney:20180821T113000
DTSTAMP:20260426T123219
CREATED:20180731T051417Z
LAST-MODIFIED:20180731T051417Z
UID:2197-1534845600-1534851000@www.ucapeelvalley.org.au
SUMMARY:Memory Lane
DESCRIPTION:
URL:https://www.ucapeelvalley.org.au/event/memory-lane-22/
LOCATION:West Tamworth\, 77 Denison Street\, Tamworth\, NSW\, 2340\, Australia
END:VEVENT
BEGIN:VEVENT
DTSTART;TZID=Australia/Sydney:20180819T110000
DTEND;TZID=Australia/Sydney:20180819T120000
DTSTAMP:20260426T123219
CREATED:20180731T051441Z
LAST-MODIFIED:20180731T051441Z
UID:2247-1534676400-1534680000@www.ucapeelvalley.org.au
SUMMARY:West Tamworth service
DESCRIPTION:Sunday
URL:https://www.ucapeelvalley.org.au/event/west-tamworth-service-170/
LOCATION:West Tamworth\, 77 Denison Street\, Tamworth\, NSW\, 2340\, Australia
END:VEVENT
BEGIN:VEVENT
DTSTART;TZID=Australia/Sydney:20180817T173000
DTEND;TZID=Australia/Sydney:20180817T200000
DTSTAMP:20260426T123219
CREATED:20180731T051440Z
LAST-MODIFIED:20180731T051440Z
UID:2246-1534527000-1534536000@www.ucapeelvalley.org.au
SUMMARY:Hallsville service and meal
DESCRIPTION:Friday
URL:https://www.ucapeelvalley.org.au/event/hallsville-service-and-meal-135/
LOCATION:Hallsville\, 1266 Manila Road\, Hallsville
END:VEVENT
BEGIN:VEVENT
DTSTART;TZID=Australia/Sydney:20180812T110000
DTEND;TZID=Australia/Sydney:20180812T120000
DTSTAMP:20260426T123219
CREATED:20180731T051440Z
LAST-MODIFIED:20180731T051440Z
UID:2245-1534071600-1534075200@www.ucapeelvalley.org.au
SUMMARY:West Tamworth service
DESCRIPTION:Sunday
URL:https://www.ucapeelvalley.org.au/event/west-tamworth-service-169/
LOCATION:West Tamworth\, 77 Denison Street\, Tamworth\, NSW\, 2340\, Australia
END:VEVENT
BEGIN:VEVENT
DTSTART;TZID=Australia/Sydney:20180812T083000
DTEND;TZID=Australia/Sydney:20180812T103000
DTSTAMP:20260426T123219
CREATED:20180731T051440Z
LAST-MODIFIED:20180731T051440Z
UID:2244-1534062600-1534069800@www.ucapeelvalley.org.au
SUMMARY:Gowrie service and morning tea
DESCRIPTION:Sunday
URL:https://www.ucapeelvalley.org.au/event/gowrie-service-and-morning-tea-112/
LOCATION:Gowrie\, 2125 Gowrie Road\, Gowrie\, NSW\, 2340\, Australia
END:VEVENT
BEGIN:VEVENT
DTSTART;TZID=Australia/Sydney:20180807T100000
DTEND;TZID=Australia/Sydney:20180807T113000
DTSTAMP:20260426T123219
CREATED:20180731T051417Z
LAST-MODIFIED:20180731T051417Z
UID:2196-1533636000-1533641400@www.ucapeelvalley.org.au
SUMMARY:Memory Lane
DESCRIPTION:
URL:https://www.ucapeelvalley.org.au/event/memory-lane-21/
LOCATION:West Tamworth\, 77 Denison Street\, Tamworth\, NSW\, 2340\, Australia
END:VEVENT
BEGIN:VEVENT
DTSTART;TZID=Australia/Sydney:20180805T110000
DTEND;TZID=Australia/Sydney:20180805T130000
DTSTAMP:20260426T123219
CREATED:20180731T051439Z
LAST-MODIFIED:20180731T051439Z
UID:2243-1533466800-1533474000@www.ucapeelvalley.org.au
SUMMARY:West Tamworth service
DESCRIPTION:Followed by lunch
URL:https://www.ucapeelvalley.org.au/event/west-tamworth-service-168/
LOCATION:West Tamworth\, 77 Denison Street\, Tamworth\, NSW\, 2340\, Australia
END:VEVENT
BEGIN:VEVENT
DTSTART;TZID=Australia/Sydney:20180803T173000
DTEND;TZID=Australia/Sydney:20180803T200000
DTSTAMP:20260426T123219
CREATED:20180731T051438Z
LAST-MODIFIED:20180731T051438Z
UID:2242-1533317400-1533326400@www.ucapeelvalley.org.au
SUMMARY:Hallsville service and meal
DESCRIPTION:
URL:https://www.ucapeelvalley.org.au/event/hallsville-service-and-meal-134/
LOCATION:Hallsville\, 1266 Manila Road\, Hallsville
END:VEVENT
BEGIN:VEVENT
DTSTART;TZID=Australia/Sydney:20180729T110000
DTEND;TZID=Australia/Sydney:20180729T120000
DTSTAMP:20260426T123219
CREATED:20180731T051438Z
LAST-MODIFIED:20180731T051438Z
UID:2241-1532862000-1532865600@www.ucapeelvalley.org.au
SUMMARY:West Tamworth service
DESCRIPTION:Church on the bus\, Beulah’s 95th
URL:https://www.ucapeelvalley.org.au/event/west-tamworth-service-167/
LOCATION:West Tamworth\, 77 Denison Street\, Tamworth\, NSW\, 2340\, Australia
END:VEVENT
BEGIN:VEVENT
DTSTART;TZID=Australia/Sydney:20180722T110000
DTEND;TZID=Australia/Sydney:20180722T120000
DTSTAMP:20260426T123219
CREATED:20180731T051438Z
LAST-MODIFIED:20180731T051438Z
UID:2240-1532257200-1532260800@www.ucapeelvalley.org.au
SUMMARY:West Tamworth service
DESCRIPTION:
URL:https://www.ucapeelvalley.org.au/event/west-tamworth-service-166/
LOCATION:West Tamworth\, 77 Denison Street\, Tamworth\, NSW\, 2340\, Australia
END:VEVENT
BEGIN:VEVENT
DTSTART;TZID=Australia/Sydney:20180722T083000
DTEND;TZID=Australia/Sydney:20180722T103000
DTSTAMP:20260426T123219
CREATED:20180731T051437Z
LAST-MODIFIED:20180731T051437Z
UID:2239-1532248200-1532255400@www.ucapeelvalley.org.au
SUMMARY:Gowrie service and morning tea
DESCRIPTION:
URL:https://www.ucapeelvalley.org.au/event/gowrie-service-and-morning-tea-111/
LOCATION:Gowrie\, 2125 Gowrie Road\, Gowrie\, NSW\, 2340\, Australia
END:VEVENT
BEGIN:VEVENT
DTSTART;TZID=Australia/Sydney:20180722T070000
DTEND;TZID=Australia/Sydney:20180722T130000
DTSTAMP:20260426T123219
CREATED:20180731T051410Z
LAST-MODIFIED:20180731T051410Z
UID:2182-1532242800-1532264400@www.ucapeelvalley.org.au
SUMMARY:Markets and cooked breakfast
DESCRIPTION:
URL:https://www.ucapeelvalley.org.au/event/markets-and-cooked-breakfast-9/
LOCATION:Hallsville\, 1266 Manila Road\, Hallsville
END:VEVENT
BEGIN:VEVENT
DTSTART;TZID=Australia/Sydney:20180717T100000
DTEND;TZID=Australia/Sydney:20180717T113000
DTSTAMP:20260426T123219
CREATED:20180731T051416Z
LAST-MODIFIED:20180731T051416Z
UID:2195-1531821600-1531827000@www.ucapeelvalley.org.au
SUMMARY:Memory Lane
DESCRIPTION:
URL:https://www.ucapeelvalley.org.au/event/memory-lane-20/
LOCATION:West Tamworth\, 77 Denison Street\, Tamworth\, NSW\, 2340\, Australia
END:VEVENT
BEGIN:VEVENT
DTSTART;TZID=Australia/Sydney:20180715T110000
DTEND;TZID=Australia/Sydney:20180715T120000
DTSTAMP:20260426T123219
CREATED:20180731T051437Z
LAST-MODIFIED:20180731T051437Z
UID:2238-1531652400-1531656000@www.ucapeelvalley.org.au
SUMMARY:West Tamworth service
DESCRIPTION:
URL:https://www.ucapeelvalley.org.au/event/west-tamworth-service-165/
LOCATION:West Tamworth\, 77 Denison Street\, Tamworth\, NSW\, 2340\, Australia
END:VEVENT
BEGIN:VEVENT
DTSTART;TZID=Australia/Sydney:20180708T110000
DTEND;TZID=Australia/Sydney:20180708T120000
DTSTAMP:20260426T123219
CREATED:20180731T051436Z
LAST-MODIFIED:20180731T051436Z
UID:2237-1531047600-1531051200@www.ucapeelvalley.org.au
SUMMARY:West Tamworth service
DESCRIPTION:
URL:https://www.ucapeelvalley.org.au/event/west-tamworth-service-164/
LOCATION:West Tamworth\, 77 Denison Street\, Tamworth\, NSW\, 2340\, Australia
END:VEVENT
BEGIN:VEVENT
DTSTART;TZID=Australia/Sydney:20180708T083000
DTEND;TZID=Australia/Sydney:20180708T103000
DTSTAMP:20260426T123219
CREATED:20180731T051435Z
LAST-MODIFIED:20180731T051435Z
UID:2236-1531038600-1531045800@www.ucapeelvalley.org.au
SUMMARY:Gowrie service and morning tea
DESCRIPTION:
URL:https://www.ucapeelvalley.org.au/event/gowrie-service-and-morning-tea-110/
LOCATION:Gowrie\, 2125 Gowrie Road\, Gowrie\, NSW\, 2340\, Australia
END:VEVENT
BEGIN:VEVENT
DTSTART;TZID=Australia/Sydney:20180703T100000
DTEND;TZID=Australia/Sydney:20180703T113000
DTSTAMP:20260426T123219
CREATED:20180731T051416Z
LAST-MODIFIED:20180731T051416Z
UID:2194-1530612000-1530617400@www.ucapeelvalley.org.au
SUMMARY:Memory Lane
DESCRIPTION:
URL:https://www.ucapeelvalley.org.au/event/memory-lane-19/
LOCATION:West Tamworth\, 77 Denison Street\, Tamworth\, NSW\, 2340\, Australia
END:VEVENT
BEGIN:VEVENT
DTSTART;TZID=Australia/Sydney:20180701T110000
DTEND;TZID=Australia/Sydney:20180701T130000
DTSTAMP:20260426T123219
CREATED:20180731T051435Z
LAST-MODIFIED:20180731T051435Z
UID:2235-1530442800-1530450000@www.ucapeelvalley.org.au
SUMMARY:West Tamworth service
DESCRIPTION:Followed by lunch
URL:https://www.ucapeelvalley.org.au/event/west-tamworth-service-163/
LOCATION:West Tamworth\, 77 Denison Street\, Tamworth\, NSW\, 2340\, Australia
END:VEVENT
BEGIN:VEVENT
DTSTART;TZID=Australia/Sydney:20180624T110000
DTEND;TZID=Australia/Sydney:20180624T120000
DTSTAMP:20260426T123219
CREATED:20180731T051435Z
LAST-MODIFIED:20180731T051435Z
UID:2234-1529838000-1529841600@www.ucapeelvalley.org.au
SUMMARY:West Tamworth service
DESCRIPTION:
URL:https://www.ucapeelvalley.org.au/event/west-tamworth-service-162/
LOCATION:West Tamworth\, 77 Denison Street\, Tamworth\, NSW\, 2340\, Australia
END:VEVENT
BEGIN:VEVENT
DTSTART;TZID=Australia/Sydney:20180624T070000
DTEND;TZID=Australia/Sydney:20180624T130000
DTSTAMP:20260426T123219
CREATED:20180731T051410Z
LAST-MODIFIED:20180731T051410Z
UID:2181-1529823600-1529845200@www.ucapeelvalley.org.au
SUMMARY:Markets and cooked breakfast
DESCRIPTION:
URL:https://www.ucapeelvalley.org.au/event/markets-and-cooked-breakfast-8/
LOCATION:Hallsville\, 1266 Manila Road\, Hallsville
END:VEVENT
BEGIN:VEVENT
DTSTART;TZID=Australia/Sydney:20180619T100000
DTEND;TZID=Australia/Sydney:20180619T113000
DTSTAMP:20260426T123219
CREATED:20180731T051416Z
LAST-MODIFIED:20180731T051416Z
UID:2193-1529402400-1529407800@www.ucapeelvalley.org.au
SUMMARY:Memory Lane
DESCRIPTION:
URL:https://www.ucapeelvalley.org.au/event/memory-lane-18/
LOCATION:West Tamworth\, 77 Denison Street\, Tamworth\, NSW\, 2340\, Australia
END:VEVENT
BEGIN:VEVENT
DTSTART;TZID=Australia/Sydney:20180617T110000
DTEND;TZID=Australia/Sydney:20180617T120000
DTSTAMP:20260426T123219
CREATED:20180731T051435Z
LAST-MODIFIED:20180731T051435Z
UID:2233-1529233200-1529236800@www.ucapeelvalley.org.au
SUMMARY:West Tamworth service
DESCRIPTION:
URL:https://www.ucapeelvalley.org.au/event/west-tamworth-service-161/
LOCATION:West Tamworth\, 77 Denison Street\, Tamworth\, NSW\, 2340\, Australia
END:VEVENT
BEGIN:VEVENT
DTSTART;TZID=Australia/Sydney:20180615T173000
DTEND;TZID=Australia/Sydney:20180615T200000
DTSTAMP:20260426T123219
CREATED:20180731T051433Z
LAST-MODIFIED:20180731T051433Z
UID:2232-1529083800-1529092800@www.ucapeelvalley.org.au
SUMMARY:Hallsville service and meal
DESCRIPTION:
URL:https://www.ucapeelvalley.org.au/event/hallsville-service-and-meal-133/
LOCATION:Hallsville\, 1266 Manila Road\, Hallsville
END:VEVENT
BEGIN:VEVENT
DTSTART;TZID=Australia/Sydney:20180610T110000
DTEND;TZID=Australia/Sydney:20180610T120000
DTSTAMP:20260426T123219
CREATED:20180731T051433Z
LAST-MODIFIED:20180731T051433Z
UID:2231-1528628400-1528632000@www.ucapeelvalley.org.au
SUMMARY:West Tamworth service
DESCRIPTION:
URL:https://www.ucapeelvalley.org.au/event/west-tamworth-service-160/
LOCATION:West Tamworth\, 77 Denison Street\, Tamworth\, NSW\, 2340\, Australia
END:VEVENT
BEGIN:VEVENT
DTSTART;TZID=Australia/Sydney:20180610T083000
DTEND;TZID=Australia/Sydney:20180610T103000
DTSTAMP:20260426T123219
CREATED:20180731T051433Z
LAST-MODIFIED:20180731T051433Z
UID:2230-1528619400-1528626600@www.ucapeelvalley.org.au
SUMMARY:Gowrie service and morning tea
DESCRIPTION:
URL:https://www.ucapeelvalley.org.au/event/gowrie-service-and-morning-tea-109/
LOCATION:Gowrie\, 2125 Gowrie Road\, Gowrie\, NSW\, 2340\, Australia
END:VEVENT
BEGIN:VEVENT
DTSTART;TZID=Australia/Sydney:20180605T100000
DTEND;TZID=Australia/Sydney:20180605T113000
DTSTAMP:20260426T123219
CREATED:20180731T051415Z
LAST-MODIFIED:20180731T051415Z
UID:2192-1528192800-1528198200@www.ucapeelvalley.org.au
SUMMARY:Memory Lane
DESCRIPTION:
URL:https://www.ucapeelvalley.org.au/event/memory-lane-17/
LOCATION:West Tamworth\, 77 Denison Street\, Tamworth\, NSW\, 2340\, Australia
END:VEVENT
BEGIN:VEVENT
DTSTART;TZID=Australia/Sydney:20180603T110000
DTEND;TZID=Australia/Sydney:20180603T130000
DTSTAMP:20260426T123219
CREATED:20180731T051433Z
LAST-MODIFIED:20180731T051433Z
UID:2229-1528023600-1528030800@www.ucapeelvalley.org.au
SUMMARY:West Tamworth service
DESCRIPTION:Followed by lunch
URL:https://www.ucapeelvalley.org.au/event/west-tamworth-service-159/
LOCATION:West Tamworth\, 77 Denison Street\, Tamworth\, NSW\, 2340\, Australia
END:VEVENT
BEGIN:VEVENT
DTSTART;TZID=Australia/Sydney:20180601T173000
DTEND;TZID=Australia/Sydney:20180601T200000
DTSTAMP:20260426T123219
CREATED:20180731T051432Z
LAST-MODIFIED:20180731T051432Z
UID:2228-1527874200-1527883200@www.ucapeelvalley.org.au
SUMMARY:Hallsville service and meal
DESCRIPTION:
URL:https://www.ucapeelvalley.org.au/event/hallsville-service-and-meal-132/
LOCATION:Hallsville\, 1266 Manila Road\, Hallsville
END:VEVENT
BEGIN:VEVENT
DTSTART;TZID=Australia/Sydney:20180527T110000
DTEND;TZID=Australia/Sydney:20180527T120000
DTSTAMP:20260426T123219
CREATED:20180731T051431Z
LAST-MODIFIED:20180731T051431Z
UID:2227-1527418800-1527422400@www.ucapeelvalley.org.au
SUMMARY:West Tamworth service
DESCRIPTION:
URL:https://www.ucapeelvalley.org.au/event/west-tamworth-service-158/
LOCATION:West Tamworth\, 77 Denison Street\, Tamworth\, NSW\, 2340\, Australia
END:VEVENT
BEGIN:VEVENT
DTSTART;TZID=Australia/Sydney:20180527T083000
DTEND;TZID=Australia/Sydney:20180527T103000
DTSTAMP:20260426T123219
CREATED:20180731T051431Z
LAST-MODIFIED:20180731T051431Z
UID:2226-1527409800-1527417000@www.ucapeelvalley.org.au
SUMMARY:Gowrie service and morning tea
DESCRIPTION:
URL:https://www.ucapeelvalley.org.au/event/gowrie-service-and-morning-tea-108/
LOCATION:Gowrie\, 2125 Gowrie Road\, Gowrie\, NSW\, 2340\, Australia
END:VEVENT
END:VCALENDAR