BEGIN:VCALENDAR
VERSION:2.0
PRODID:-//Peel Valley Congregations - ECPv6.15.3//NONSGML v1.0//EN
CALSCALE:GREGORIAN
METHOD:PUBLISH
X-WR-CALNAME:Peel Valley Congregations
X-ORIGINAL-URL:https://www.ucapeelvalley.org.au
X-WR-CALDESC:Events for Peel Valley Congregations
REFRESH-INTERVAL;VALUE=DURATION:PT1H
X-Robots-Tag:noindex
X-PUBLISHED-TTL:PT1H
BEGIN:VTIMEZONE
TZID:Australia/Sydney
BEGIN:STANDARD
TZOFFSETFROM:+1100
TZOFFSETTO:+1000
TZNAME:AEST
DTSTART:20170401T160000
END:STANDARD
BEGIN:DAYLIGHT
TZOFFSETFROM:+1000
TZOFFSETTO:+1100
TZNAME:AEDT
DTSTART:20170930T160000
END:DAYLIGHT
BEGIN:STANDARD
TZOFFSETFROM:+1100
TZOFFSETTO:+1000
TZNAME:AEST
DTSTART:20180331T160000
END:STANDARD
BEGIN:DAYLIGHT
TZOFFSETFROM:+1000
TZOFFSETTO:+1100
TZNAME:AEDT
DTSTART:20181006T160000
END:DAYLIGHT
END:VTIMEZONE
BEGIN:VEVENT
DTSTART;TZID=Australia/Sydney:20180401T110000
DTEND;TZID=Australia/Sydney:20180401T120000
DTSTAMP:20260426T123040
CREATED:20180731T051424Z
LAST-MODIFIED:20180731T051424Z
UID:2212-1522580400-1522584000@www.ucapeelvalley.org.au
SUMMARY:West Tamworth service
DESCRIPTION:Easter Sunday
URL:https://www.ucapeelvalley.org.au/event/west-tamworth-service-150/
LOCATION:West Tamworth\, 77 Denison Street\, Tamworth\, NSW\, 2340\, Australia
END:VEVENT
BEGIN:VEVENT
DTSTART;TZID=Australia/Sydney:20180330T180000
DTEND;TZID=Australia/Sydney:20180330T200000
DTSTAMP:20260426T123040
CREATED:20180731T051424Z
LAST-MODIFIED:20180731T051424Z
UID:2211-1522432800-1522440000@www.ucapeelvalley.org.au
SUMMARY:Hallsville service and meal
DESCRIPTION:Good Friday
URL:https://www.ucapeelvalley.org.au/event/hallsville-service-and-meal-129/
LOCATION:Hallsville\, 1266 Manila Road\, Hallsville
END:VEVENT
BEGIN:VEVENT
DTSTART;TZID=Australia/Sydney:20180325T110000
DTEND;TZID=Australia/Sydney:20180325T120000
DTSTAMP:20260426T123040
CREATED:20180731T051424Z
LAST-MODIFIED:20180731T051424Z
UID:2210-1521975600-1521979200@www.ucapeelvalley.org.au
SUMMARY:West Tamworth service
DESCRIPTION:
URL:https://www.ucapeelvalley.org.au/event/west-tamworth-service-149/
LOCATION:West Tamworth\, 77 Denison Street\, Tamworth\, NSW\, 2340\, Australia
END:VEVENT
BEGIN:VEVENT
DTSTART;TZID=Australia/Sydney:20180325T083000
DTEND;TZID=Australia/Sydney:20180325T103000
DTSTAMP:20260426T123040
CREATED:20180731T051424Z
LAST-MODIFIED:20180731T051424Z
UID:2209-1521966600-1521973800@www.ucapeelvalley.org.au
SUMMARY:Gowrie service and morning tea
DESCRIPTION:
URL:https://www.ucapeelvalley.org.au/event/gowrie-service-and-morning-tea-104/
LOCATION:Gowrie\, 2125 Gowrie Road\, Gowrie\, NSW\, 2340\, Australia
END:VEVENT
BEGIN:VEVENT
DTSTART;TZID=Australia/Sydney:20180325T070000
DTEND;TZID=Australia/Sydney:20180325T130000
DTSTAMP:20260426T123040
CREATED:20180731T051409Z
LAST-MODIFIED:20180731T051409Z
UID:2178-1521961200-1521982800@www.ucapeelvalley.org.au
SUMMARY:Markets and cooked breakfast
DESCRIPTION:
URL:https://www.ucapeelvalley.org.au/event/markets-and-cooked-breakfast-5/
LOCATION:Hallsville\, 1266 Manila Road\, Hallsville
END:VEVENT
BEGIN:VEVENT
DTSTART;TZID=Australia/Sydney:20180320T100000
DTEND;TZID=Australia/Sydney:20180320T113000
DTSTAMP:20260426T123040
CREATED:20180731T051413Z
LAST-MODIFIED:20180731T051413Z
UID:2187-1521540000-1521545400@www.ucapeelvalley.org.au
SUMMARY:Memory Lane
DESCRIPTION:
URL:https://www.ucapeelvalley.org.au/event/memory-lane-12/
LOCATION:West Tamworth\, 77 Denison Street\, Tamworth\, NSW\, 2340\, Australia
END:VEVENT
BEGIN:VEVENT
DTSTART;TZID=Australia/Sydney:20180318T110000
DTEND;TZID=Australia/Sydney:20180318T120000
DTSTAMP:20260426T123040
CREATED:20180731T051423Z
LAST-MODIFIED:20180731T051423Z
UID:2208-1521370800-1521374400@www.ucapeelvalley.org.au
SUMMARY:West Tamworth service
DESCRIPTION:
URL:https://www.ucapeelvalley.org.au/event/west-tamworth-service-148/
LOCATION:West Tamworth\, 77 Denison Street\, Tamworth\, NSW\, 2340\, Australia
END:VEVENT
BEGIN:VEVENT
DTSTART;TZID=Australia/Sydney:20180316T180000
DTEND;TZID=Australia/Sydney:20180316T200000
DTSTAMP:20260426T123040
CREATED:20180731T051422Z
LAST-MODIFIED:20180731T051422Z
UID:2207-1521223200-1521230400@www.ucapeelvalley.org.au
SUMMARY:Hallsville service and meal
DESCRIPTION:
URL:https://www.ucapeelvalley.org.au/event/hallsville-service-and-meal-128/
LOCATION:Hallsville\, 1266 Manila Road\, Hallsville
END:VEVENT
BEGIN:VEVENT
DTSTART;TZID=Australia/Sydney:20180311T110000
DTEND;TZID=Australia/Sydney:20180311T120000
DTSTAMP:20260426T123040
CREATED:20180731T051422Z
LAST-MODIFIED:20180731T051422Z
UID:2206-1520766000-1520769600@www.ucapeelvalley.org.au
SUMMARY:West Tamworth service
DESCRIPTION:
URL:https://www.ucapeelvalley.org.au/event/west-tamworth-service-147/
LOCATION:West Tamworth\, 77 Denison Street\, Tamworth\, NSW\, 2340\, Australia
END:VEVENT
BEGIN:VEVENT
DTSTART;TZID=Australia/Sydney:20180311T083000
DTEND;TZID=Australia/Sydney:20180311T103000
DTSTAMP:20260426T123040
CREATED:20180731T051422Z
LAST-MODIFIED:20180731T051422Z
UID:2205-1520757000-1520764200@www.ucapeelvalley.org.au
SUMMARY:Gowrie service and morning tea
DESCRIPTION:
URL:https://www.ucapeelvalley.org.au/event/gowrie-service-and-morning-tea-103/
LOCATION:Gowrie\, 2125 Gowrie Road\, Gowrie\, NSW\, 2340\, Australia
END:VEVENT
BEGIN:VEVENT
DTSTART;TZID=Australia/Sydney:20180306T100000
DTEND;TZID=Australia/Sydney:20180306T113000
DTSTAMP:20260426T123040
CREATED:20180731T051413Z
LAST-MODIFIED:20180731T051413Z
UID:2186-1520330400-1520335800@www.ucapeelvalley.org.au
SUMMARY:Memory Lane
DESCRIPTION:
URL:https://www.ucapeelvalley.org.au/event/memory-lane-11/
LOCATION:West Tamworth\, 77 Denison Street\, Tamworth\, NSW\, 2340\, Australia
END:VEVENT
BEGIN:VEVENT
DTSTART;TZID=Australia/Sydney:20180304T110000
DTEND;TZID=Australia/Sydney:20180304T130000
DTSTAMP:20260426T123040
CREATED:20180731T051421Z
LAST-MODIFIED:20180731T051421Z
UID:2204-1520161200-1520168400@www.ucapeelvalley.org.au
SUMMARY:West Tamworth service
DESCRIPTION:Followed by lunch
URL:https://www.ucapeelvalley.org.au/event/west-tamworth-service-146/
LOCATION:West Tamworth\, 77 Denison Street\, Tamworth\, NSW\, 2340\, Australia
END:VEVENT
BEGIN:VEVENT
DTSTART;TZID=Australia/Sydney:20180302T180000
DTEND;TZID=Australia/Sydney:20180302T200000
DTSTAMP:20260426T123040
CREATED:20180731T051421Z
LAST-MODIFIED:20180731T051421Z
UID:2203-1520013600-1520020800@www.ucapeelvalley.org.au
SUMMARY:Hallsville service and meal
DESCRIPTION:
URL:https://www.ucapeelvalley.org.au/event/hallsville-service-and-meal-127/
LOCATION:Hallsville\, 1266 Manila Road\, Hallsville
END:VEVENT
BEGIN:VEVENT
DTSTART;TZID=Australia/Sydney:20180225T110000
DTEND;TZID=Australia/Sydney:20180225T120000
DTSTAMP:20260426T123040
CREATED:20180731T051419Z
LAST-MODIFIED:20180731T051419Z
UID:2202-1519556400-1519560000@www.ucapeelvalley.org.au
SUMMARY:West Tamworth service
DESCRIPTION:
URL:https://www.ucapeelvalley.org.au/event/west-tamworth-service-145/
LOCATION:West Tamworth\, 77 Denison Street\, Tamworth\, NSW\, 2340\, Australia
END:VEVENT
BEGIN:VEVENT
DTSTART;TZID=Australia/Sydney:20180225T083000
DTEND;TZID=Australia/Sydney:20180225T103000
DTSTAMP:20260426T123040
CREATED:20180731T051419Z
LAST-MODIFIED:20180731T051419Z
UID:2201-1519547400-1519554600@www.ucapeelvalley.org.au
SUMMARY:Gowrie service and morning tea
DESCRIPTION:
URL:https://www.ucapeelvalley.org.au/event/gowrie-service-and-morning-tea-102/
LOCATION:Gowrie\, 2125 Gowrie Road\, Gowrie\, NSW\, 2340\, Australia
END:VEVENT
BEGIN:VEVENT
DTSTART;TZID=Australia/Sydney:20180225T070000
DTEND;TZID=Australia/Sydney:20180225T130000
DTSTAMP:20260426T123040
CREATED:20170917T082214Z
LAST-MODIFIED:20170917T082214Z
UID:1908-1519542000-1519563600@www.ucapeelvalley.org.au
SUMMARY:Markets and cooked breakfast
DESCRIPTION:
URL:https://www.ucapeelvalley.org.au/event/markets-and-cooked-breakfast-4/
LOCATION:Hallsville\, 1266 Manila Road\, Hallsville
END:VEVENT
BEGIN:VEVENT
DTSTART;TZID=Australia/Sydney:20180224T090000
DTEND;TZID=Australia/Sydney:20180224T160000
DTSTAMP:20260426T123040
CREATED:20180731T051418Z
LAST-MODIFIED:20180731T051418Z
UID:2200-1519462800-1519488000@www.ucapeelvalley.org.au
SUMMARY:Hallsville hosting Presbytery
DESCRIPTION:
URL:https://www.ucapeelvalley.org.au/event/hallsville-hosting-presbytery/
LOCATION:Hallsville\, 1266 Manila Road\, Hallsville
END:VEVENT
BEGIN:VEVENT
DTSTART;TZID=Australia/Sydney:20180223T180000
DTEND;TZID=Australia/Sydney:20180223T200000
DTSTAMP:20260426T123040
CREATED:20180731T051418Z
LAST-MODIFIED:20180731T051418Z
UID:2199-1519408800-1519416000@www.ucapeelvalley.org.au
SUMMARY:Hallsville service and meal
DESCRIPTION:
URL:https://www.ucapeelvalley.org.au/event/hallsville-service-and-meal-126/
LOCATION:Hallsville\, 1266 Manila Road\, Hallsville
END:VEVENT
BEGIN:VEVENT
DTSTART;TZID=Australia/Sydney:20180220T100000
DTEND;TZID=Australia/Sydney:20180220T113000
DTSTAMP:20260426T123040
CREATED:20180731T051413Z
LAST-MODIFIED:20180731T051413Z
UID:2185-1519120800-1519126200@www.ucapeelvalley.org.au
SUMMARY:Memory Lane
DESCRIPTION:
URL:https://www.ucapeelvalley.org.au/event/memory-lane-10/
LOCATION:West Tamworth\, 77 Denison Street\, Tamworth\, NSW\, 2340\, Australia
END:VEVENT
BEGIN:VEVENT
DTSTART;TZID=Australia/Sydney:20180218T110000
DTEND;TZID=Australia/Sydney:20180218T120000
DTSTAMP:20260426T123040
CREATED:20180731T051418Z
LAST-MODIFIED:20180731T051418Z
UID:2198-1518951600-1518955200@www.ucapeelvalley.org.au
SUMMARY:West Tamworth service
DESCRIPTION:
URL:https://www.ucapeelvalley.org.au/event/west-tamworth-service-144/
LOCATION:West Tamworth\, 77 Denison Street\, Tamworth\, NSW\, 2340\, Australia
END:VEVENT
BEGIN:VEVENT
DTSTART;TZID=Australia/Sydney:20180206T100000
DTEND;TZID=Australia/Sydney:20180206T113000
DTSTAMP:20260426T123040
CREATED:20180731T051412Z
LAST-MODIFIED:20180731T051412Z
UID:2184-1517911200-1517916600@www.ucapeelvalley.org.au
SUMMARY:Memory Lane
DESCRIPTION:
URL:https://www.ucapeelvalley.org.au/event/memory-lane-9/
LOCATION:West Tamworth\, 77 Denison Street\, Tamworth\, NSW\, 2340\, Australia
END:VEVENT
BEGIN:VEVENT
DTSTART;TZID=Australia/Sydney:20180128T110000
DTEND;TZID=Australia/Sydney:20180128T120000
DTSTAMP:20260426T123040
CREATED:20170917T082208Z
LAST-MODIFIED:20170917T082208Z
UID:1893-1517137200-1517140800@www.ucapeelvalley.org.au
SUMMARY:West Tamworth service
DESCRIPTION:
URL:https://www.ucapeelvalley.org.au/event/west-tamworth-service-143/
LOCATION:West Tamworth\, 77 Denison Street\, Tamworth\, NSW\, 2340\, Australia
END:VEVENT
BEGIN:VEVENT
DTSTART;TZID=Australia/Sydney:20180126T180000
DTEND;TZID=Australia/Sydney:20180126T180000
DTSTAMP:20260426T123040
CREATED:20170917T082208Z
LAST-MODIFIED:20170917T082208Z
UID:1892-1516989600-1516989600@www.ucapeelvalley.org.au
SUMMARY:Hallsville service and meal
DESCRIPTION:
URL:https://www.ucapeelvalley.org.au/event/hallsville-service-and-meal-125/
LOCATION:Hallsville\, 1266 Manila Road\, Hallsville
END:VEVENT
BEGIN:VEVENT
DTSTART;TZID=Australia/Sydney:20180121T070000
DTEND;TZID=Australia/Sydney:20180121T140000
DTSTAMP:20260426T123040
CREATED:20170917T082208Z
LAST-MODIFIED:20170917T082208Z
UID:1891-1516518000-1516543200@www.ucapeelvalley.org.au
SUMMARY:Gospel Breakfast and Music
DESCRIPTION:
URL:https://www.ucapeelvalley.org.au/event/gospel-breakfast-and-music-3/
LOCATION:Hallsville\, 1266 Manila Road\, Hallsville
END:VEVENT
BEGIN:VEVENT
DTSTART;TZID=Australia/Sydney:20171225T090000
DTEND;TZID=Australia/Sydney:20171225T100000
DTSTAMP:20260426T123040
CREATED:20171215T003647Z
LAST-MODIFIED:20171215T003647Z
UID:2008-1514192400-1514196000@www.ucapeelvalley.org.au
SUMMARY:Hallsville - Christmas Day
DESCRIPTION:
URL:https://www.ucapeelvalley.org.au/event/hallsville-christmas-day/
LOCATION:Hallsville\, 1266 Manila Road\, Hallsville
END:VEVENT
BEGIN:VEVENT
DTSTART;TZID=Australia/Sydney:20171224T183000
DTEND;TZID=Australia/Sydney:20171224T200000
DTSTAMP:20260426T123040
CREATED:20170917T082206Z
LAST-MODIFIED:20171215T003729Z
UID:1889-1514140200-1514145600@www.ucapeelvalley.org.au
SUMMARY:Gowrie Christmas Eve Service
DESCRIPTION:
URL:https://www.ucapeelvalley.org.au/event/christmas-eve-service-3/
LOCATION:Gowrie\, 2125 Gowrie Road\, Gowrie\, NSW\, 2340\, Australia
END:VEVENT
BEGIN:VEVENT
DTSTART;TZID=Australia/Sydney:20171224T110000
DTEND;TZID=Australia/Sydney:20171224T120000
DTSTAMP:20260426T123040
CREATED:20170917T082207Z
LAST-MODIFIED:20170917T082207Z
UID:1890-1514113200-1514116800@www.ucapeelvalley.org.au
SUMMARY:West Tamworth service
DESCRIPTION:
URL:https://www.ucapeelvalley.org.au/event/west-tamworth-service-142/
LOCATION:West Tamworth\, 77 Denison Street\, Tamworth\, NSW\, 2340\, Australia
END:VEVENT
BEGIN:VEVENT
DTSTART;TZID=Australia/Sydney:20171217T110000
DTEND;TZID=Australia/Sydney:20171217T120000
DTSTAMP:20260426T123040
CREATED:20170917T082206Z
LAST-MODIFIED:20171215T003417Z
UID:1888-1513508400-1513512000@www.ucapeelvalley.org.au
SUMMARY:Christmas Lunch and service at Hallsville
DESCRIPTION:
URL:https://www.ucapeelvalley.org.au/event/west-tamworth-service-141/
LOCATION:Hallsville\, 1266 Manila Road\, Hallsville
END:VEVENT
BEGIN:VEVENT
DTSTART;TZID=Australia/Sydney:20171217T083000
DTEND;TZID=Australia/Sydney:20171217T103000
DTSTAMP:20260426T123040
CREATED:20170917T082206Z
LAST-MODIFIED:20170917T082206Z
UID:1887-1513499400-1513506600@www.ucapeelvalley.org.au
SUMMARY:Gowrie service and morning tea
DESCRIPTION:
URL:https://www.ucapeelvalley.org.au/event/gowrie-service-and-morning-tea-101/
LOCATION:Gowrie\, 2125 Gowrie Road\, Gowrie\, NSW\, 2340\, Australia
END:VEVENT
BEGIN:VEVENT
DTSTART;TZID=Australia/Sydney:20171215T180000
DTEND;TZID=Australia/Sydney:20171215T180000
DTSTAMP:20260426T123040
CREATED:20170917T082206Z
LAST-MODIFIED:20170917T082206Z
UID:1886-1513360800-1513360800@www.ucapeelvalley.org.au
SUMMARY:Hallsville service and meal
DESCRIPTION:
URL:https://www.ucapeelvalley.org.au/event/hallsville-service-and-meal-124/
LOCATION:Hallsville\, 1266 Manila Road\, Hallsville
END:VEVENT
END:VCALENDAR