BEGIN:VCALENDAR
VERSION:2.0
PRODID:-//Peel Valley Congregations - ECPv6.15.3//NONSGML v1.0//EN
CALSCALE:GREGORIAN
METHOD:PUBLISH
X-WR-CALNAME:Peel Valley Congregations
X-ORIGINAL-URL:https://www.ucapeelvalley.org.au
X-WR-CALDESC:Events for Peel Valley Congregations
REFRESH-INTERVAL;VALUE=DURATION:PT1H
X-Robots-Tag:noindex
X-PUBLISHED-TTL:PT1H
BEGIN:VTIMEZONE
TZID:Australia/Sydney
BEGIN:STANDARD
TZOFFSETFROM:+1100
TZOFFSETTO:+1000
TZNAME:AEST
DTSTART:20190406T160000
END:STANDARD
BEGIN:DAYLIGHT
TZOFFSETFROM:+1000
TZOFFSETTO:+1100
TZNAME:AEDT
DTSTART:20191005T160000
END:DAYLIGHT
END:VTIMEZONE
BEGIN:VEVENT
DTSTART;TZID=Australia/Sydney:20190609T083000
DTEND;TZID=Australia/Sydney:20190609T103000
DTSTAMP:20260426T002000
CREATED:20190107T221006Z
LAST-MODIFIED:20190325T014306Z
UID:2513-1560069000-1560076200@www.ucapeelvalley.org.au
SUMMARY:Gowrie service and morning tea
DESCRIPTION:
URL:https://www.ucapeelvalley.org.au/event/gowrie-service-and-morning-tea-128/
LOCATION:Gowrie\, 2125 Gowrie Road\, Gowrie\, NSW\, 2340\, Australia
END:VEVENT
BEGIN:VEVENT
DTSTART;TZID=Australia/Sydney:20190607T173000
DTEND;TZID=Australia/Sydney:20190607T200000
DTSTAMP:20260426T002000
CREATED:20190107T221006Z
LAST-MODIFIED:20190325T014337Z
UID:2512-1559928600-1559937600@www.ucapeelvalley.org.au
SUMMARY:Hallsville service and meal
DESCRIPTION:
URL:https://www.ucapeelvalley.org.au/event/hallsville-service-and-meal-150/
LOCATION:Hallsville\, 1266 Manila Road\, Hallsville
END:VEVENT
BEGIN:VEVENT
DTSTART;TZID=Australia/Sydney:20190605T103000
DTEND;TZID=Australia/Sydney:20190605T163000
DTSTAMP:20260426T002000
CREATED:20181012T010003Z
LAST-MODIFIED:20181012T010003Z
UID:2361-1559730600-1559752200@www.ucapeelvalley.org.au
SUMMARY:Property bookings
DESCRIPTION:Hallsville Red Cross June Winter Appeal Luncheon
URL:https://www.ucapeelvalley.org.au/event/property-bookings-12/
LOCATION:Hallsville booking\, 1266 Manilla Road\, Hallsville\, NSW\, 2340\, Australia
END:VEVENT
BEGIN:VEVENT
DTSTART;TZID=Australia/Sydney:20190604T100000
DTEND;TZID=Australia/Sydney:20190604T120000
DTSTAMP:20260426T002000
CREATED:20181012T010002Z
LAST-MODIFIED:20181012T010002Z
UID:2360-1559642400-1559649600@www.ucapeelvalley.org.au
SUMMARY:Property bookings
DESCRIPTION:Hallsville Red Cross June Winter Appeal Luncheon – set up
URL:https://www.ucapeelvalley.org.au/event/property-bookings-11/
LOCATION:Hallsville booking\, 1266 Manilla Road\, Hallsville\, NSW\, 2340\, Australia
END:VEVENT
BEGIN:VEVENT
DTSTART;TZID=Australia/Sydney:20190604T100000
DTEND;TZID=Australia/Sydney:20190604T113000
DTSTAMP:20260426T002000
CREATED:20190107T221048Z
LAST-MODIFIED:20190107T221048Z
UID:2588-1559642400-1559647800@www.ucapeelvalley.org.au
SUMMARY:Memory Lane
DESCRIPTION:Morning Tea and Conversation
URL:https://www.ucapeelvalley.org.au/event/memory-lane-38/
LOCATION:West Tamworth\, 77 Denison Street\, Tamworth\, NSW\, 2340\, Australia
END:VEVENT
BEGIN:VEVENT
DTSTART;TZID=Australia/Sydney:20190602T110000
DTEND;TZID=Australia/Sydney:20190602T130000
DTSTAMP:20260426T002000
CREATED:20190107T221004Z
LAST-MODIFIED:20190325T014412Z
UID:2511-1559473200-1559480400@www.ucapeelvalley.org.au
SUMMARY:West Tamworth service
DESCRIPTION:Followed by lunch
URL:https://www.ucapeelvalley.org.au/event/west-tamworth-service-207/
LOCATION:West Tamworth\, 77 Denison Street\, Tamworth\, NSW\, 2340\, Australia
END:VEVENT
BEGIN:VEVENT
DTSTART;TZID=Australia/Sydney:20190531T173000
DTEND;TZID=Australia/Sydney:20190531T200000
DTSTAMP:20260426T002000
CREATED:20190325T014718Z
LAST-MODIFIED:20190325T014718Z
UID:2708-1559323800-1559332800@www.ucapeelvalley.org.au
SUMMARY:Hallsville service and meal
DESCRIPTION:
URL:https://www.ucapeelvalley.org.au/event/hallsville-service-and-meal-163/
LOCATION:Hallsville\, 1266 Manila Road\, Hallsville
END:VEVENT
BEGIN:VEVENT
DTSTART;TZID=Australia/Sydney:20190526T110000
DTEND;TZID=Australia/Sydney:20190526T120000
DTSTAMP:20260426T002000
CREATED:20190107T221004Z
LAST-MODIFIED:20190325T014850Z
UID:2510-1558868400-1558872000@www.ucapeelvalley.org.au
SUMMARY:West Tamworth service
DESCRIPTION:
URL:https://www.ucapeelvalley.org.au/event/west-tamworth-service-206/
LOCATION:West Tamworth\, 77 Denison Street\, Tamworth\, NSW\, 2340\, Australia
END:VEVENT
BEGIN:VEVENT
DTSTART;TZID=Australia/Sydney:20190526T083000
DTEND;TZID=Australia/Sydney:20190526T130000
DTSTAMP:20260426T002000
CREATED:20190107T221004Z
LAST-MODIFIED:20190107T221004Z
UID:2509-1558859400-1558875600@www.ucapeelvalley.org.au
SUMMARY:Markets and cooked breakfast
DESCRIPTION:
URL:https://www.ucapeelvalley.org.au/event/markets-and-cooked-breakfast-18/
LOCATION:Hallsville\, 1266 Manila Road\, Hallsville
END:VEVENT
BEGIN:VEVENT
DTSTART;TZID=Australia/Sydney:20190526T083000
DTEND;TZID=Australia/Sydney:20190526T103000
DTSTAMP:20260426T002000
CREATED:20190107T221003Z
LAST-MODIFIED:20190325T014917Z
UID:2508-1558859400-1558866600@www.ucapeelvalley.org.au
SUMMARY:Gowrie service and morning tea
DESCRIPTION:
URL:https://www.ucapeelvalley.org.au/event/gowrie-service-and-morning-tea-127/
LOCATION:Gowrie\, 2125 Gowrie Road\, Gowrie\, NSW\, 2340\, Australia
END:VEVENT
BEGIN:VEVENT
DTSTART;TZID=Australia/Sydney:20190521T100000
DTEND;TZID=Australia/Sydney:20190521T113000
DTSTAMP:20260426T002000
CREATED:20190107T221048Z
LAST-MODIFIED:20190107T221048Z
UID:2587-1558432800-1558438200@www.ucapeelvalley.org.au
SUMMARY:Memory Lane
DESCRIPTION:Morning Tea and Conversation
URL:https://www.ucapeelvalley.org.au/event/memory-lane-37/
LOCATION:West Tamworth\, 77 Denison Street\, Tamworth\, NSW\, 2340\, Australia
END:VEVENT
BEGIN:VEVENT
DTSTART;TZID=Australia/Sydney:20190519T110000
DTEND;TZID=Australia/Sydney:20190519T120000
DTSTAMP:20260426T002000
CREATED:20190107T221003Z
LAST-MODIFIED:20190107T221003Z
UID:2507-1558263600-1558267200@www.ucapeelvalley.org.au
SUMMARY:West Tamworth service
DESCRIPTION:
URL:https://www.ucapeelvalley.org.au/event/west-tamworth-service-205/
LOCATION:West Tamworth\, 77 Denison Street\, Tamworth\, NSW\, 2340\, Australia
END:VEVENT
BEGIN:VEVENT
DTSTART;TZID=Australia/Sydney:20190517T173000
DTEND;TZID=Australia/Sydney:20190517T200000
DTSTAMP:20260426T002000
CREATED:20190107T221002Z
LAST-MODIFIED:20190325T015011Z
UID:2506-1558114200-1558123200@www.ucapeelvalley.org.au
SUMMARY:Hallsville service and meal
DESCRIPTION:
URL:https://www.ucapeelvalley.org.au/event/hallsville-service-and-meal-149/
LOCATION:Hallsville\, 1266 Manila Road\, Hallsville
END:VEVENT
BEGIN:VEVENT
DTSTART;TZID=Australia/Sydney:20190512T110000
DTEND;TZID=Australia/Sydney:20190512T120000
DTSTAMP:20260426T002000
CREATED:20190107T221001Z
LAST-MODIFIED:20190325T015053Z
UID:2505-1557658800-1557662400@www.ucapeelvalley.org.au
SUMMARY:West Tamworth service
DESCRIPTION:
URL:https://www.ucapeelvalley.org.au/event/west-tamworth-service-204/
LOCATION:West Tamworth\, 77 Denison Street\, Tamworth\, NSW\, 2340\, Australia
END:VEVENT
BEGIN:VEVENT
DTSTART;TZID=Australia/Sydney:20190512T083000
DTEND;TZID=Australia/Sydney:20190512T103000
DTSTAMP:20260426T002000
CREATED:20190107T221001Z
LAST-MODIFIED:20190325T015117Z
UID:2504-1557649800-1557657000@www.ucapeelvalley.org.au
SUMMARY:Gowrie service and morning tea
DESCRIPTION:
URL:https://www.ucapeelvalley.org.au/event/gowrie-service-and-morning-tea-126/
LOCATION:Gowrie\, 2125 Gowrie Road\, Gowrie\, NSW\, 2340\, Australia
END:VEVENT
BEGIN:VEVENT
DTSTART;TZID=Australia/Sydney:20190507T100000
DTEND;TZID=Australia/Sydney:20190507T113000
DTSTAMP:20260426T002000
CREATED:20190107T221047Z
LAST-MODIFIED:20190107T221047Z
UID:2586-1557223200-1557228600@www.ucapeelvalley.org.au
SUMMARY:Memory Lane
DESCRIPTION:Morning Tea and Conversation
URL:https://www.ucapeelvalley.org.au/event/memory-lane-36/
LOCATION:West Tamworth\, 77 Denison Street\, Tamworth\, NSW\, 2340\, Australia
END:VEVENT
BEGIN:VEVENT
DTSTART;TZID=Australia/Sydney:20190505T110000
DTEND;TZID=Australia/Sydney:20190505T130000
DTSTAMP:20260426T002000
CREATED:20190107T221000Z
LAST-MODIFIED:20190325T015149Z
UID:2503-1557054000-1557061200@www.ucapeelvalley.org.au
SUMMARY:West Tamworth service
DESCRIPTION:Followed by lunch
URL:https://www.ucapeelvalley.org.au/event/west-tamworth-service-203/
LOCATION:West Tamworth\, 77 Denison Street\, Tamworth\, NSW\, 2340\, Australia
END:VEVENT
BEGIN:VEVENT
DTSTART;TZID=Australia/Sydney:20190503T173000
DTEND;TZID=Australia/Sydney:20190503T200000
DTSTAMP:20260426T002000
CREATED:20190107T221000Z
LAST-MODIFIED:20190325T015223Z
UID:2502-1556904600-1556913600@www.ucapeelvalley.org.au
SUMMARY:Hallsville service and meal
DESCRIPTION:
URL:https://www.ucapeelvalley.org.au/event/hallsville-service-and-meal-148/
LOCATION:Hallsville\, 1266 Manila Road\, Hallsville
END:VEVENT
BEGIN:VEVENT
DTSTART;TZID=Australia/Sydney:20190501T133000
DTEND;TZID=Australia/Sydney:20190501T163000
DTSTAMP:20260426T002000
CREATED:20181012T010001Z
LAST-MODIFIED:20181012T010001Z
UID:2359-1556717400-1556728200@www.ucapeelvalley.org.au
SUMMARY:Property bookings
DESCRIPTION:Hallsville Red Cross Monthly meeting
URL:https://www.ucapeelvalley.org.au/event/property-bookings-10/
LOCATION:Hallsville booking\, 1266 Manilla Road\, Hallsville\, NSW\, 2340\, Australia
END:VEVENT
BEGIN:VEVENT
DTSTART;TZID=Australia/Sydney:20190428T110000
DTEND;TZID=Australia/Sydney:20190428T120000
DTSTAMP:20260426T002000
CREATED:20190107T220958Z
LAST-MODIFIED:20190306T044154Z
UID:2501-1556449200-1556452800@www.ucapeelvalley.org.au
SUMMARY:West Tamworth service
DESCRIPTION:
URL:https://www.ucapeelvalley.org.au/event/west-tamworth-service-202/
LOCATION:West Tamworth\, 77 Denison Street\, Tamworth\, NSW\, 2340\, Australia
END:VEVENT
BEGIN:VEVENT
DTSTART;TZID=Australia/Sydney:20190428T083000
DTEND;TZID=Australia/Sydney:20190428T130000
DTSTAMP:20260426T002000
CREATED:20190107T220958Z
LAST-MODIFIED:20190107T220958Z
UID:2500-1556440200-1556456400@www.ucapeelvalley.org.au
SUMMARY:Markets and cooked breakfast
DESCRIPTION:
URL:https://www.ucapeelvalley.org.au/event/markets-and-cooked-breakfast-17/
LOCATION:Hallsville\, 1266 Manila Road\, Hallsville
END:VEVENT
BEGIN:VEVENT
DTSTART;TZID=Australia/Sydney:20190428T083000
DTEND;TZID=Australia/Sydney:20190428T103000
DTSTAMP:20260426T002000
CREATED:20190107T220958Z
LAST-MODIFIED:20190306T044115Z
UID:2499-1556440200-1556447400@www.ucapeelvalley.org.au
SUMMARY:Gowrie service and morning tea
DESCRIPTION:
URL:https://www.ucapeelvalley.org.au/event/gowrie-service-and-morning-tea-125/
LOCATION:Gowrie\, 2125 Gowrie Road\, Gowrie\, NSW\, 2340\, Australia
END:VEVENT
BEGIN:VEVENT
DTSTART;TZID=Australia/Sydney:20190421T110000
DTEND;TZID=Australia/Sydney:20190421T120000
DTSTAMP:20260426T002000
CREATED:20190107T220958Z
LAST-MODIFIED:20190306T044042Z
UID:2498-1555844400-1555848000@www.ucapeelvalley.org.au
SUMMARY:West Tamworth Easter Sunday service
DESCRIPTION:
URL:https://www.ucapeelvalley.org.au/event/west-tamworth-service-201/
LOCATION:West Tamworth\, 77 Denison Street\, Tamworth\, NSW\, 2340\, Australia
END:VEVENT
BEGIN:VEVENT
DTSTART;TZID=Australia/Sydney:20190419T090000
DTEND;TZID=Australia/Sydney:20190419T100000
DTSTAMP:20260426T002000
CREATED:20190107T220957Z
LAST-MODIFIED:20190306T043946Z
UID:2497-1555664400-1555668000@www.ucapeelvalley.org.au
SUMMARY:Hallsville Good Friday Service
DESCRIPTION:
URL:https://www.ucapeelvalley.org.au/event/hallsville-service-and-meal-147/
LOCATION:Hallsville\, 1266 Manila Road\, Hallsville
END:VEVENT
BEGIN:VEVENT
DTSTART;TZID=Australia/Sydney:20190417T093000
DTEND;TZID=Australia/Sydney:20190417T170000
DTSTAMP:20260426T002000
CREATED:20190306T040314Z
LAST-MODIFIED:20190306T040314Z
UID:2644-1555493400-1555520400@www.ucapeelvalley.org.au
SUMMARY:Property bookings
DESCRIPTION:Private Booking
URL:https://www.ucapeelvalley.org.au/event/property-bookings-23/
LOCATION:Hallsville booking\, 1266 Manilla Road\, Hallsville\, NSW\, 2340\, Australia
END:VEVENT
BEGIN:VEVENT
DTSTART;TZID=Australia/Sydney:20190416T100000
DTEND;TZID=Australia/Sydney:20190416T113000
DTSTAMP:20260426T002000
CREATED:20190107T221046Z
LAST-MODIFIED:20190107T221046Z
UID:2585-1555408800-1555414200@www.ucapeelvalley.org.au
SUMMARY:Memory Lane
DESCRIPTION:Morning Tea and Conversation
URL:https://www.ucapeelvalley.org.au/event/memory-lane-35/
LOCATION:West Tamworth\, 77 Denison Street\, Tamworth\, NSW\, 2340\, Australia
END:VEVENT
BEGIN:VEVENT
DTSTART;TZID=Australia/Sydney:20190416T093000
DTEND;TZID=Australia/Sydney:20190416T170000
DTSTAMP:20260426T002000
CREATED:20190306T040314Z
LAST-MODIFIED:20190306T040314Z
UID:2643-1555407000-1555434000@www.ucapeelvalley.org.au
SUMMARY:Property bookings
DESCRIPTION:Private Booking
URL:https://www.ucapeelvalley.org.au/event/property-bookings-22/
LOCATION:Hallsville booking\, 1266 Manilla Road\, Hallsville\, NSW\, 2340\, Australia
END:VEVENT
BEGIN:VEVENT
DTSTART;TZID=Australia/Sydney:20190414T110000
DTEND;TZID=Australia/Sydney:20190414T120000
DTSTAMP:20260426T002000
CREATED:20190107T220956Z
LAST-MODIFIED:20190306T043825Z
UID:2496-1555239600-1555243200@www.ucapeelvalley.org.au
SUMMARY:West Tamworth service
DESCRIPTION:
URL:https://www.ucapeelvalley.org.au/event/west-tamworth-service-200/
LOCATION:West Tamworth\, 77 Denison Street\, Tamworth\, NSW\, 2340\, Australia
END:VEVENT
BEGIN:VEVENT
DTSTART;TZID=Australia/Sydney:20190414T083000
DTEND;TZID=Australia/Sydney:20190414T103000
DTSTAMP:20260426T002000
CREATED:20190107T220956Z
LAST-MODIFIED:20190306T043756Z
UID:2495-1555230600-1555237800@www.ucapeelvalley.org.au
SUMMARY:Gowrie service and morning tea
DESCRIPTION:
URL:https://www.ucapeelvalley.org.au/event/gowrie-service-and-morning-tea-124/
LOCATION:Gowrie\, 2125 Gowrie Road\, Gowrie\, NSW\, 2340\, Australia
END:VEVENT
BEGIN:VEVENT
DTSTART;TZID=Australia/Sydney:20190407T110000
DTEND;TZID=Australia/Sydney:20190407T130000
DTSTAMP:20260426T002000
CREATED:20190107T220955Z
LAST-MODIFIED:20190306T043727Z
UID:2494-1554634800-1554642000@www.ucapeelvalley.org.au
SUMMARY:West Tamworth service
DESCRIPTION:Followed by lunch
URL:https://www.ucapeelvalley.org.au/event/west-tamworth-service-199/
LOCATION:West Tamworth\, 77 Denison Street\, Tamworth\, NSW\, 2340\, Australia
END:VEVENT
END:VCALENDAR