BEGIN:VCALENDAR
VERSION:2.0
PRODID:-//Peel Valley Congregations - ECPv6.15.3//NONSGML v1.0//EN
CALSCALE:GREGORIAN
METHOD:PUBLISH
X-WR-CALNAME:Peel Valley Congregations
X-ORIGINAL-URL:https://www.ucapeelvalley.org.au
X-WR-CALDESC:Events for Peel Valley Congregations
REFRESH-INTERVAL;VALUE=DURATION:PT1H
X-Robots-Tag:noindex
X-PUBLISHED-TTL:PT1H
BEGIN:VTIMEZONE
TZID:Australia/Sydney
BEGIN:STANDARD
TZOFFSETFROM:+1100
TZOFFSETTO:+1000
TZNAME:AEST
DTSTART:20200404T160000
END:STANDARD
BEGIN:DAYLIGHT
TZOFFSETFROM:+1000
TZOFFSETTO:+1100
TZNAME:AEDT
DTSTART:20201003T160000
END:DAYLIGHT
END:VTIMEZONE
BEGIN:VEVENT
DTSTART;TZID=Australia/Sydney:20201011T083000
DTEND;TZID=Australia/Sydney:20201011T103000
DTSTAMP:20260425T225013
CREATED:20190829T065734Z
LAST-MODIFIED:20190829T065734Z
UID:2909-1602405000-1602412200@www.ucapeelvalley.org.au
SUMMARY:Gowrie service and morning tea
DESCRIPTION:
URL:https://www.ucapeelvalley.org.au/event/gowrie-service-and-morning-tea-156/
LOCATION:Gowrie\, 2125 Gowrie Road\, Gowrie\, NSW\, 2340\, Australia
END:VEVENT
BEGIN:VEVENT
DTSTART;TZID=Australia/Sydney:20201011T110000
DTEND;TZID=Australia/Sydney:20201011T120000
DTSTAMP:20260425T225013
CREATED:20190829T065735Z
LAST-MODIFIED:20190829T065735Z
UID:2910-1602414000-1602417600@www.ucapeelvalley.org.au
SUMMARY:West Tamworth service
DESCRIPTION:
URL:https://www.ucapeelvalley.org.au/event/west-tamworth-service-274/
LOCATION:West Tamworth\, 77 Denison Street\, Tamworth\, NSW\, 2340\, Australia
END:VEVENT
BEGIN:VEVENT
DTSTART;TZID=Australia/Sydney:20201013T100000
DTEND;TZID=Australia/Sydney:20201013T113000
DTSTAMP:20260425T225013
CREATED:20190829T071000Z
LAST-MODIFIED:20190829T071000Z
UID:2974-1602583200-1602588600@www.ucapeelvalley.org.au
SUMMARY:Memory Lane
DESCRIPTION:Morning Tea and Conversation
URL:https://www.ucapeelvalley.org.au/event/memory-lane-89/
LOCATION:West Tamworth\, 77 Denison Street\, Tamworth\, NSW\, 2340\, Australia
END:VEVENT
BEGIN:VEVENT
DTSTART;TZID=Australia/Sydney:20201016T173000
DTEND;TZID=Australia/Sydney:20201016T200000
DTSTAMP:20260425T225013
CREATED:20190829T065735Z
LAST-MODIFIED:20190829T065735Z
UID:2911-1602869400-1602878400@www.ucapeelvalley.org.au
SUMMARY:Hallsville service and meal
DESCRIPTION:
URL:https://www.ucapeelvalley.org.au/event/hallsville-service-and-meal-182/
LOCATION:Hallsville\, 1266 Manila Road\, Hallsville
END:VEVENT
BEGIN:VEVENT
DTSTART;TZID=Australia/Sydney:20201018T110000
DTEND;TZID=Australia/Sydney:20201018T120000
DTSTAMP:20260425T225013
CREATED:20190829T065736Z
LAST-MODIFIED:20190829T065736Z
UID:2912-1603018800-1603022400@www.ucapeelvalley.org.au
SUMMARY:West Tamworth service
DESCRIPTION:
URL:https://www.ucapeelvalley.org.au/event/west-tamworth-service-275/
LOCATION:West Tamworth\, 77 Denison Street\, Tamworth\, NSW\, 2340\, Australia
END:VEVENT
BEGIN:VEVENT
DTSTART;TZID=Australia/Sydney:20201025T083000
DTEND;TZID=Australia/Sydney:20201025T103000
DTSTAMP:20260425T225013
CREATED:20190829T065736Z
LAST-MODIFIED:20190829T065736Z
UID:2913-1603614600-1603621800@www.ucapeelvalley.org.au
SUMMARY:Gowrie service and morning tea
DESCRIPTION:
URL:https://www.ucapeelvalley.org.au/event/gowrie-service-and-morning-tea-157/
LOCATION:Gowrie\, 2125 Gowrie Road\, Gowrie\, NSW\, 2340\, Australia
END:VEVENT
BEGIN:VEVENT
DTSTART;TZID=Australia/Sydney:20201025T083000
DTEND;TZID=Australia/Sydney:20201025T130000
DTSTAMP:20260425T225013
CREATED:20190829T065737Z
LAST-MODIFIED:20201026T013746Z
UID:2914-1603614600-1603630800@www.ucapeelvalley.org.au
SUMMARY:Markets - Cancelled due to Covid-19 restrictions
DESCRIPTION:
URL:https://www.ucapeelvalley.org.au/event/markets-and-cooked-breakfast-34/
LOCATION:Hallsville\, 1266 Manila Road\, Hallsville
END:VEVENT
BEGIN:VEVENT
DTSTART;TZID=Australia/Sydney:20201025T110000
DTEND;TZID=Australia/Sydney:20201025T120000
DTSTAMP:20260425T225013
CREATED:20190829T065738Z
LAST-MODIFIED:20190829T065738Z
UID:2915-1603623600-1603627200@www.ucapeelvalley.org.au
SUMMARY:West Tamworth service
DESCRIPTION:
URL:https://www.ucapeelvalley.org.au/event/west-tamworth-service-276/
LOCATION:West Tamworth\, 77 Denison Street\, Tamworth\, NSW\, 2340\, Australia
END:VEVENT
BEGIN:VEVENT
DTSTART;TZID=Australia/Sydney:20201101T110000
DTEND;TZID=Australia/Sydney:20201101T130000
DTSTAMP:20260425T225013
CREATED:20190829T065738Z
LAST-MODIFIED:20190829T065738Z
UID:2917-1604228400-1604235600@www.ucapeelvalley.org.au
SUMMARY:West Tamworth service
DESCRIPTION:Followed by lunch
URL:https://www.ucapeelvalley.org.au/event/west-tamworth-service-277/
LOCATION:West Tamworth\, 77 Denison Street\, Tamworth\, NSW\, 2340\, Australia
END:VEVENT
BEGIN:VEVENT
DTSTART;TZID=Australia/Sydney:20201103T100000
DTEND;TZID=Australia/Sydney:20201103T113000
DTSTAMP:20260425T225013
CREATED:20190829T071000Z
LAST-MODIFIED:20201026T013833Z
UID:2975-1604397600-1604403000@www.ucapeelvalley.org.au
SUMMARY:Memory Lane - Cancelled due to Covid-19 restrictions
DESCRIPTION:
URL:https://www.ucapeelvalley.org.au/event/memory-lane-90/
LOCATION:West Tamworth\, 77 Denison Street\, Tamworth\, NSW\, 2340\, Australia
END:VEVENT
BEGIN:VEVENT
DTSTART;TZID=Australia/Sydney:20201104T133000
DTEND;TZID=Australia/Sydney:20201104T163000
DTSTAMP:20260425T225013
CREATED:20190930T055725Z
LAST-MODIFIED:20201105T031722Z
UID:3035-1604496600-1604507400@www.ucapeelvalley.org.au
SUMMARY:Property bookings - Cancelled due to Covid-19 restrictions
DESCRIPTION:Hallsville Red Cross Monthly meeting
URL:https://www.ucapeelvalley.org.au/event/property-bookings-46/
LOCATION:Hallsville booking\, 1266 Manilla Road\, Hallsville\, NSW\, 2340\, Australia
END:VEVENT
BEGIN:VEVENT
DTSTART;TZID=Australia/Sydney:20201106T173000
DTEND;TZID=Australia/Sydney:20201106T200000
DTSTAMP:20260425T225013
CREATED:20190829T065738Z
LAST-MODIFIED:20201026T013858Z
UID:2916-1604683800-1604692800@www.ucapeelvalley.org.au
SUMMARY:Hallsville service - Cancelled due to Covid-19 restrictions
DESCRIPTION:
URL:https://www.ucapeelvalley.org.au/event/hallsville-service-and-meal-183/
LOCATION:Hallsville\, 1266 Manila Road\, Hallsville
END:VEVENT
BEGIN:VEVENT
DTSTART;TZID=Australia/Sydney:20201108T083000
DTEND;TZID=Australia/Sydney:20201108T103000
DTSTAMP:20260425T225013
CREATED:20190829T065739Z
LAST-MODIFIED:20201026T013935Z
UID:2918-1604824200-1604831400@www.ucapeelvalley.org.au
SUMMARY:Gowrie service - cancelled
DESCRIPTION:
URL:https://www.ucapeelvalley.org.au/event/gowrie-service-and-morning-tea-158/
LOCATION:Gowrie\, 2125 Gowrie Road\, Gowrie\, NSW\, 2340\, Australia
END:VEVENT
BEGIN:VEVENT
DTSTART;TZID=Australia/Sydney:20201108T110000
DTEND;TZID=Australia/Sydney:20201108T120000
DTSTAMP:20260425T225013
CREATED:20190829T065740Z
LAST-MODIFIED:20190829T065740Z
UID:2919-1604833200-1604836800@www.ucapeelvalley.org.au
SUMMARY:West Tamworth service
DESCRIPTION:
URL:https://www.ucapeelvalley.org.au/event/west-tamworth-service-278/
LOCATION:West Tamworth\, 77 Denison Street\, Tamworth\, NSW\, 2340\, Australia
END:VEVENT
BEGIN:VEVENT
DTSTART;TZID=Australia/Sydney:20201115T110000
DTEND;TZID=Australia/Sydney:20201115T120000
DTSTAMP:20260425T225013
CREATED:20190829T065741Z
LAST-MODIFIED:20190829T065741Z
UID:2921-1605438000-1605441600@www.ucapeelvalley.org.au
SUMMARY:West Tamworth service
DESCRIPTION:
URL:https://www.ucapeelvalley.org.au/event/west-tamworth-service-279/
LOCATION:West Tamworth\, 77 Denison Street\, Tamworth\, NSW\, 2340\, Australia
END:VEVENT
BEGIN:VEVENT
DTSTART;TZID=Australia/Sydney:20201116T100000
DTEND;TZID=Australia/Sydney:20201116T113000
DTSTAMP:20260425T225013
CREATED:20190930T055725Z
LAST-MODIFIED:20201105T031758Z
UID:3036-1605520800-1605526200@www.ucapeelvalley.org.au
SUMMARY:Property bookings - Cancelled due to Covid-19 restrictions
DESCRIPTION:Tamworth City Uniting Church Seniors Fellowship Christmas Luncheon – set up
URL:https://www.ucapeelvalley.org.au/event/property-bookings-47/
LOCATION:Hallsville booking\, 1266 Manilla Road\, Hallsville\, NSW\, 2340\, Australia
END:VEVENT
BEGIN:VEVENT
DTSTART;TZID=Australia/Sydney:20201117T100000
DTEND;TZID=Australia/Sydney:20201117T113000
DTSTAMP:20260425T225013
CREATED:20190829T071001Z
LAST-MODIFIED:20201026T014016Z
UID:2976-1605607200-1605612600@www.ucapeelvalley.org.au
SUMMARY:Memory Lane - Cancelled due to Covid-19 restrictions
DESCRIPTION:Morning Tea and Conversation
URL:https://www.ucapeelvalley.org.au/event/memory-lane-91/
LOCATION:West Tamworth\, 77 Denison Street\, Tamworth\, NSW\, 2340\, Australia
END:VEVENT
BEGIN:VEVENT
DTSTART;TZID=Australia/Sydney:20201117T103000
DTEND;TZID=Australia/Sydney:20201117T160000
DTSTAMP:20260425T225013
CREATED:20190930T055725Z
LAST-MODIFIED:20190930T055725Z
UID:3037-1605609000-1605628800@www.ucapeelvalley.org.au
SUMMARY:Property bookings
DESCRIPTION:Tamworth City Uniting Church Seniors Fellowship Christmas Luncheon
URL:https://www.ucapeelvalley.org.au/event/property-bookings-48/
LOCATION:Hallsville booking\, 1266 Manilla Road\, Hallsville\, NSW\, 2340\, Australia
END:VEVENT
BEGIN:VEVENT
DTSTART;TZID=Australia/Sydney:20201120T173000
DTEND;TZID=Australia/Sydney:20201120T200000
DTSTAMP:20260425T225013
CREATED:20190829T065740Z
LAST-MODIFIED:20201026T014036Z
UID:2920-1605893400-1605902400@www.ucapeelvalley.org.au
SUMMARY:Hallsville service - Cancelled due to Covid-19 restrictions
DESCRIPTION:
URL:https://www.ucapeelvalley.org.au/event/hallsville-service-and-meal-184/
LOCATION:Hallsville\, 1266 Manila Road\, Hallsville
END:VEVENT
BEGIN:VEVENT
DTSTART;TZID=Australia/Sydney:20201122T083000
DTEND;TZID=Australia/Sydney:20201122T103000
DTSTAMP:20260425T225013
CREATED:20190829T065741Z
LAST-MODIFIED:20190829T065741Z
UID:2922-1606033800-1606041000@www.ucapeelvalley.org.au
SUMMARY:Gowrie service and morning tea
DESCRIPTION:
URL:https://www.ucapeelvalley.org.au/event/gowrie-service-and-morning-tea-159/
LOCATION:Gowrie\, 2125 Gowrie Road\, Gowrie\, NSW\, 2340\, Australia
END:VEVENT
BEGIN:VEVENT
DTSTART;TZID=Australia/Sydney:20201122T083000
DTEND;TZID=Australia/Sydney:20201122T130000
DTSTAMP:20260425T225013
CREATED:20190829T065741Z
LAST-MODIFIED:20201026T014101Z
UID:2923-1606033800-1606050000@www.ucapeelvalley.org.au
SUMMARY:Markets - Cancelled due to Covid-19 restrictions
DESCRIPTION:
URL:https://www.ucapeelvalley.org.au/event/markets-and-cooked-breakfast-35/
LOCATION:Hallsville\, 1266 Manila Road\, Hallsville
END:VEVENT
BEGIN:VEVENT
DTSTART;TZID=Australia/Sydney:20201122T110000
DTEND;TZID=Australia/Sydney:20201122T120000
DTSTAMP:20260425T225013
CREATED:20190829T065743Z
LAST-MODIFIED:20190829T065743Z
UID:2924-1606042800-1606046400@www.ucapeelvalley.org.au
SUMMARY:West Tamworth service
DESCRIPTION:
URL:https://www.ucapeelvalley.org.au/event/west-tamworth-service-280/
LOCATION:West Tamworth\, 77 Denison Street\, Tamworth\, NSW\, 2340\, Australia
END:VEVENT
BEGIN:VEVENT
DTSTART;TZID=Australia/Sydney:20201129T110000
DTEND;TZID=Australia/Sydney:20201129T130000
DTSTAMP:20260425T225013
CREATED:20190829T065743Z
LAST-MODIFIED:20190829T065743Z
UID:2925-1606647600-1606654800@www.ucapeelvalley.org.au
SUMMARY:West Tamworth service
DESCRIPTION:Followed by lunch
URL:https://www.ucapeelvalley.org.au/event/west-tamworth-service-281/
LOCATION:West Tamworth\, 77 Denison Street\, Tamworth\, NSW\, 2340\, Australia
END:VEVENT
BEGIN:VEVENT
DTSTART;TZID=Australia/Sydney:20201201T100000
DTEND;TZID=Australia/Sydney:20201201T113000
DTSTAMP:20260425T225013
CREATED:20190829T071002Z
LAST-MODIFIED:20201026T014123Z
UID:2977-1606816800-1606822200@www.ucapeelvalley.org.au
SUMMARY:Memory Lane - Cancelled due to Covid-19 restrictions
DESCRIPTION:Morning Tea and Conversation
URL:https://www.ucapeelvalley.org.au/event/memory-lane-92/
LOCATION:West Tamworth\, 77 Denison Street\, Tamworth\, NSW\, 2340\, Australia
END:VEVENT
BEGIN:VEVENT
DTSTART;TZID=Australia/Sydney:20201204T173000
DTEND;TZID=Australia/Sydney:20201204T200000
DTSTAMP:20260425T225013
CREATED:20190829T065743Z
LAST-MODIFIED:20201026T014151Z
UID:2926-1607103000-1607112000@www.ucapeelvalley.org.au
SUMMARY:Hallsville service - Cancelled due to Covid-19 restrictions
DESCRIPTION:
URL:https://www.ucapeelvalley.org.au/event/hallsville-service-and-meal-185/
LOCATION:Hallsville\, 1266 Manila Road\, Hallsville
END:VEVENT
BEGIN:VEVENT
DTSTART;TZID=Australia/Sydney:20201206T110000
DTEND;TZID=Australia/Sydney:20201206T120000
DTSTAMP:20260425T225013
CREATED:20190829T065744Z
LAST-MODIFIED:20190829T065744Z
UID:2928-1607252400-1607256000@www.ucapeelvalley.org.au
SUMMARY:West Tamworth service
DESCRIPTION:
URL:https://www.ucapeelvalley.org.au/event/west-tamworth-service-282/
LOCATION:West Tamworth\, 77 Denison Street\, Tamworth\, NSW\, 2340\, Australia
END:VEVENT
BEGIN:VEVENT
DTSTART;TZID=Australia/Sydney:20201213T083000
DTEND;TZID=Australia/Sydney:20201213T103000
DTSTAMP:20260425T225013
CREATED:20190829T065744Z
LAST-MODIFIED:20190829T065744Z
UID:2927-1607848200-1607855400@www.ucapeelvalley.org.au
SUMMARY:Gowrie service and morning tea
DESCRIPTION:
URL:https://www.ucapeelvalley.org.au/event/gowrie-service-and-morning-tea-160/
LOCATION:Gowrie\, 2125 Gowrie Road\, Gowrie\, NSW\, 2340\, Australia
END:VEVENT
BEGIN:VEVENT
DTSTART;TZID=Australia/Sydney:20201213T110000
DTEND;TZID=Australia/Sydney:20201213T120000
DTSTAMP:20260425T225013
CREATED:20190829T065745Z
LAST-MODIFIED:20190829T065745Z
UID:2929-1607857200-1607860800@www.ucapeelvalley.org.au
SUMMARY:West Tamworth service
DESCRIPTION:
URL:https://www.ucapeelvalley.org.au/event/west-tamworth-service-283/
LOCATION:West Tamworth\, 77 Denison Street\, Tamworth\, NSW\, 2340\, Australia
END:VEVENT
BEGIN:VEVENT
DTSTART;TZID=Australia/Sydney:20201220T110000
DTEND;TZID=Australia/Sydney:20201220T120000
DTSTAMP:20260425T225013
CREATED:20190829T065746Z
LAST-MODIFIED:20190829T065746Z
UID:2930-1608462000-1608465600@www.ucapeelvalley.org.au
SUMMARY:West Tamworth service
DESCRIPTION:
URL:https://www.ucapeelvalley.org.au/event/west-tamworth-service-284/
LOCATION:West Tamworth\, 77 Denison Street\, Tamworth\, NSW\, 2340\, Australia
END:VEVENT
BEGIN:VEVENT
DTSTART;TZID=Australia/Sydney:20201225T090000
DTEND;TZID=Australia/Sydney:20201225T100000
DTSTAMP:20260425T225013
CREATED:20201219T223611Z
LAST-MODIFIED:20201219T224939Z
UID:3450-1608886800-1608890400@www.ucapeelvalley.org.au
SUMMARY:Hallsville Christmas Service
DESCRIPTION:The service will be relaxed\, informal\, and definitely child-friendly.\nPlease come\, and bring your friends and families too.\nAnyone needing a lift to the Christmas Day service please ring Meg on 0476 375 989\nWe can sing carols but must comply with these rules – no more than fifty may:\n– sing together in one area if all singers face forwards and not towards each other\n– have physical distancing of 1.5 metres between each other and any other performers\, and\n– 5 metres distancing from all other people in front including the audience and conductor.\nNSW Health strongly recommends wearing masks while singing
URL:https://www.ucapeelvalley.org.au/event/hallsville-christmas-service/
LOCATION:Hallsville\, 1266 Manila Road\, Hallsville
END:VEVENT
END:VCALENDAR