BEGIN:VCALENDAR
VERSION:2.0
PRODID:-//Peel Valley Congregations - ECPv6.15.3//NONSGML v1.0//EN
CALSCALE:GREGORIAN
METHOD:PUBLISH
X-WR-CALNAME:Peel Valley Congregations
X-ORIGINAL-URL:https://www.ucapeelvalley.org.au
X-WR-CALDESC:Events for Peel Valley Congregations
REFRESH-INTERVAL;VALUE=DURATION:PT1H
X-Robots-Tag:noindex
X-PUBLISHED-TTL:PT1H
BEGIN:VTIMEZONE
TZID:Australia/Sydney
BEGIN:STANDARD
TZOFFSETFROM:+1100
TZOFFSETTO:+1000
TZNAME:AEST
DTSTART:20170401T160000
END:STANDARD
BEGIN:DAYLIGHT
TZOFFSETFROM:+1000
TZOFFSETTO:+1100
TZNAME:AEDT
DTSTART:20170930T160000
END:DAYLIGHT
BEGIN:STANDARD
TZOFFSETFROM:+1100
TZOFFSETTO:+1000
TZNAME:AEST
DTSTART:20180331T160000
END:STANDARD
BEGIN:DAYLIGHT
TZOFFSETFROM:+1000
TZOFFSETTO:+1100
TZNAME:AEDT
DTSTART:20181006T160000
END:DAYLIGHT
END:VTIMEZONE
BEGIN:VEVENT
DTSTART;TZID=Australia/Sydney:20180128T110000
DTEND;TZID=Australia/Sydney:20180128T120000
DTSTAMP:20260426T133515
CREATED:20170917T082208Z
LAST-MODIFIED:20170917T082208Z
UID:1893-1517137200-1517140800@www.ucapeelvalley.org.au
SUMMARY:West Tamworth service
DESCRIPTION:
URL:https://www.ucapeelvalley.org.au/event/west-tamworth-service-143/
LOCATION:West Tamworth\, 77 Denison Street\, Tamworth\, NSW\, 2340\, Australia
END:VEVENT
BEGIN:VEVENT
DTSTART;TZID=Australia/Sydney:20180126T180000
DTEND;TZID=Australia/Sydney:20180126T180000
DTSTAMP:20260426T133515
CREATED:20170917T082208Z
LAST-MODIFIED:20170917T082208Z
UID:1892-1516989600-1516989600@www.ucapeelvalley.org.au
SUMMARY:Hallsville service and meal
DESCRIPTION:
URL:https://www.ucapeelvalley.org.au/event/hallsville-service-and-meal-125/
LOCATION:Hallsville\, 1266 Manila Road\, Hallsville
END:VEVENT
BEGIN:VEVENT
DTSTART;TZID=Australia/Sydney:20180121T070000
DTEND;TZID=Australia/Sydney:20180121T140000
DTSTAMP:20260426T133515
CREATED:20170917T082208Z
LAST-MODIFIED:20170917T082208Z
UID:1891-1516518000-1516543200@www.ucapeelvalley.org.au
SUMMARY:Gospel Breakfast and Music
DESCRIPTION:
URL:https://www.ucapeelvalley.org.au/event/gospel-breakfast-and-music-3/
LOCATION:Hallsville\, 1266 Manila Road\, Hallsville
END:VEVENT
BEGIN:VEVENT
DTSTART;TZID=Australia/Sydney:20171225T090000
DTEND;TZID=Australia/Sydney:20171225T100000
DTSTAMP:20260426T133515
CREATED:20171215T003647Z
LAST-MODIFIED:20171215T003647Z
UID:2008-1514192400-1514196000@www.ucapeelvalley.org.au
SUMMARY:Hallsville - Christmas Day
DESCRIPTION:
URL:https://www.ucapeelvalley.org.au/event/hallsville-christmas-day/
LOCATION:Hallsville\, 1266 Manila Road\, Hallsville
END:VEVENT
BEGIN:VEVENT
DTSTART;TZID=Australia/Sydney:20171224T183000
DTEND;TZID=Australia/Sydney:20171224T200000
DTSTAMP:20260426T133515
CREATED:20170917T082206Z
LAST-MODIFIED:20171215T003729Z
UID:1889-1514140200-1514145600@www.ucapeelvalley.org.au
SUMMARY:Gowrie Christmas Eve Service
DESCRIPTION:
URL:https://www.ucapeelvalley.org.au/event/christmas-eve-service-3/
LOCATION:Gowrie\, 2125 Gowrie Road\, Gowrie\, NSW\, 2340\, Australia
END:VEVENT
BEGIN:VEVENT
DTSTART;TZID=Australia/Sydney:20171224T110000
DTEND;TZID=Australia/Sydney:20171224T120000
DTSTAMP:20260426T133515
CREATED:20170917T082207Z
LAST-MODIFIED:20170917T082207Z
UID:1890-1514113200-1514116800@www.ucapeelvalley.org.au
SUMMARY:West Tamworth service
DESCRIPTION:
URL:https://www.ucapeelvalley.org.au/event/west-tamworth-service-142/
LOCATION:West Tamworth\, 77 Denison Street\, Tamworth\, NSW\, 2340\, Australia
END:VEVENT
BEGIN:VEVENT
DTSTART;TZID=Australia/Sydney:20171217T110000
DTEND;TZID=Australia/Sydney:20171217T120000
DTSTAMP:20260426T133515
CREATED:20170917T082206Z
LAST-MODIFIED:20171215T003417Z
UID:1888-1513508400-1513512000@www.ucapeelvalley.org.au
SUMMARY:Christmas Lunch and service at Hallsville
DESCRIPTION:
URL:https://www.ucapeelvalley.org.au/event/west-tamworth-service-141/
LOCATION:Hallsville\, 1266 Manila Road\, Hallsville
END:VEVENT
BEGIN:VEVENT
DTSTART;TZID=Australia/Sydney:20171217T083000
DTEND;TZID=Australia/Sydney:20171217T103000
DTSTAMP:20260426T133515
CREATED:20170917T082206Z
LAST-MODIFIED:20170917T082206Z
UID:1887-1513499400-1513506600@www.ucapeelvalley.org.au
SUMMARY:Gowrie service and morning tea
DESCRIPTION:
URL:https://www.ucapeelvalley.org.au/event/gowrie-service-and-morning-tea-101/
LOCATION:Gowrie\, 2125 Gowrie Road\, Gowrie\, NSW\, 2340\, Australia
END:VEVENT
BEGIN:VEVENT
DTSTART;TZID=Australia/Sydney:20171215T180000
DTEND;TZID=Australia/Sydney:20171215T180000
DTSTAMP:20260426T133515
CREATED:20170917T082206Z
LAST-MODIFIED:20170917T082206Z
UID:1886-1513360800-1513360800@www.ucapeelvalley.org.au
SUMMARY:Hallsville service and meal
DESCRIPTION:
URL:https://www.ucapeelvalley.org.au/event/hallsville-service-and-meal-124/
LOCATION:Hallsville\, 1266 Manila Road\, Hallsville
END:VEVENT
BEGIN:VEVENT
DTSTART;TZID=Australia/Sydney:20171210T110000
DTEND;TZID=Australia/Sydney:20171210T120000
DTSTAMP:20260426T133515
CREATED:20170917T082206Z
LAST-MODIFIED:20170917T082206Z
UID:1885-1512903600-1512907200@www.ucapeelvalley.org.au
SUMMARY:West Tamworth service
DESCRIPTION:Holy Communion
URL:https://www.ucapeelvalley.org.au/event/west-tamworth-service-140/
LOCATION:West Tamworth\, 77 Denison Street\, Tamworth\, NSW\, 2340\, Australia
END:VEVENT
BEGIN:VEVENT
DTSTART;TZID=Australia/Sydney:20171210T090000
DTEND;TZID=Australia/Sydney:20171210T090000
DTSTAMP:20260426T133515
CREATED:20170917T082204Z
LAST-MODIFIED:20170917T082204Z
UID:1884-1512896400-1512896400@www.ucapeelvalley.org.au
SUMMARY:Hallsville service
DESCRIPTION:Holy Communion
URL:https://www.ucapeelvalley.org.au/event/hallsville-service-34/
LOCATION:Hallsville\, 1266 Manila Road\, Hallsville
END:VEVENT
BEGIN:VEVENT
DTSTART;TZID=Australia/Sydney:20171205T100000
DTEND;TZID=Australia/Sydney:20171205T113000
DTSTAMP:20260426T133515
CREATED:20170917T082211Z
LAST-MODIFIED:20170917T082211Z
UID:1900-1512468000-1512473400@www.ucapeelvalley.org.au
SUMMARY:Memory Lane
DESCRIPTION:
URL:https://www.ucapeelvalley.org.au/event/memory-lane-7/
LOCATION:West Tamworth\, 77 Denison Street\, Tamworth\, NSW\, 2340\, Australia
END:VEVENT
BEGIN:VEVENT
DTSTART;TZID=Australia/Sydney:20171203T110000
DTEND;TZID=Australia/Sydney:20171203T130000
DTSTAMP:20260426T133515
CREATED:20170917T082204Z
LAST-MODIFIED:20170917T082204Z
UID:1883-1512298800-1512306000@www.ucapeelvalley.org.au
SUMMARY:West Tamworth service
DESCRIPTION:Followed by lunch
URL:https://www.ucapeelvalley.org.au/event/west-tamworth-service-139/
LOCATION:West Tamworth\, 77 Denison Street\, Tamworth\, NSW\, 2340\, Australia
END:VEVENT
BEGIN:VEVENT
DTSTART;TZID=Australia/Sydney:20171203T083000
DTEND;TZID=Australia/Sydney:20171203T103000
DTSTAMP:20260426T133515
CREATED:20170917T082204Z
LAST-MODIFIED:20170917T082204Z
UID:1882-1512289800-1512297000@www.ucapeelvalley.org.au
SUMMARY:Gowrie service and morning tea
DESCRIPTION:
URL:https://www.ucapeelvalley.org.au/event/gowrie-service-and-morning-tea-100/
LOCATION:Gowrie\, 2125 Gowrie Road\, Gowrie\, NSW\, 2340\, Australia
END:VEVENT
BEGIN:VEVENT
DTSTART;TZID=Australia/Sydney:20171201T180000
DTEND;TZID=Australia/Sydney:20171201T180000
DTSTAMP:20260426T133515
CREATED:20170917T082204Z
LAST-MODIFIED:20170917T082204Z
UID:1881-1512151200-1512151200@www.ucapeelvalley.org.au
SUMMARY:Hallsville service and meal
DESCRIPTION:
URL:https://www.ucapeelvalley.org.au/event/hallsville-service-and-meal-123/
LOCATION:Hallsville\, 1266 Manila Road\, Hallsville
END:VEVENT
BEGIN:VEVENT
DTSTART;TZID=Australia/Sydney:20171126T110000
DTEND;TZID=Australia/Sydney:20171126T120000
DTSTAMP:20260426T133515
CREATED:20170917T082203Z
LAST-MODIFIED:20170917T082203Z
UID:1880-1511694000-1511697600@www.ucapeelvalley.org.au
SUMMARY:West Tamworth service
DESCRIPTION:
URL:https://www.ucapeelvalley.org.au/event/west-tamworth-service-138/
LOCATION:West Tamworth\, 77 Denison Street\, Tamworth\, NSW\, 2340\, Australia
END:VEVENT
BEGIN:VEVENT
DTSTART;TZID=Australia/Sydney:20171126T083000
DTEND;TZID=Australia/Sydney:20171126T103000
DTSTAMP:20260426T133515
CREATED:20170917T082202Z
LAST-MODIFIED:20170917T082202Z
UID:1879-1511685000-1511692200@www.ucapeelvalley.org.au
SUMMARY:Gowrie service and morning tea
DESCRIPTION:
URL:https://www.ucapeelvalley.org.au/event/gowrie-service-and-morning-tea-99/
LOCATION:Gowrie\, 2125 Gowrie Road\, Gowrie\, NSW\, 2340\, Australia
END:VEVENT
BEGIN:VEVENT
DTSTART;TZID=Australia/Sydney:20171126T070000
DTEND;TZID=Australia/Sydney:20171126T130000
DTSTAMP:20260426T133515
CREATED:20170917T082214Z
LAST-MODIFIED:20170917T082214Z
UID:1907-1511679600-1511701200@www.ucapeelvalley.org.au
SUMMARY:Markets and cooked breakfast
DESCRIPTION:
URL:https://www.ucapeelvalley.org.au/event/markets-and-cooked-breakfast-3/
LOCATION:Hallsville\, 1266 Manila Road\, Hallsville
END:VEVENT
BEGIN:VEVENT
DTSTART;TZID=Australia/Sydney:20171124T180000
DTEND;TZID=Australia/Sydney:20171124T180000
DTSTAMP:20260426T133515
CREATED:20170917T082202Z
LAST-MODIFIED:20170917T082202Z
UID:1878-1511546400-1511546400@www.ucapeelvalley.org.au
SUMMARY:Hallsville service and meal
DESCRIPTION:
URL:https://www.ucapeelvalley.org.au/event/hallsville-service-and-meal-122/
LOCATION:Hallsville\, 1266 Manila Road\, Hallsville
END:VEVENT
BEGIN:VEVENT
DTSTART;TZID=Australia/Sydney:20171121T100000
DTEND;TZID=Australia/Sydney:20171121T113000
DTSTAMP:20260426T133515
CREATED:20170917T082210Z
LAST-MODIFIED:20170917T082210Z
UID:1899-1511258400-1511263800@www.ucapeelvalley.org.au
SUMMARY:Memory Lane
DESCRIPTION:
URL:https://www.ucapeelvalley.org.au/event/memory-lane-6/
LOCATION:West Tamworth\, 77 Denison Street\, Tamworth\, NSW\, 2340\, Australia
END:VEVENT
BEGIN:VEVENT
DTSTART;TZID=Australia/Sydney:20171119T110000
DTEND;TZID=Australia/Sydney:20171119T120000
DTSTAMP:20260426T133515
CREATED:20170917T082201Z
LAST-MODIFIED:20170917T082201Z
UID:1877-1511089200-1511092800@www.ucapeelvalley.org.au
SUMMARY:West Tamworth service
DESCRIPTION:
URL:https://www.ucapeelvalley.org.au/event/west-tamworth-service-137/
LOCATION:West Tamworth\, 77 Denison Street\, Tamworth\, NSW\, 2340\, Australia
END:VEVENT
BEGIN:VEVENT
DTSTART;TZID=Australia/Sydney:20171119T083000
DTEND;TZID=Australia/Sydney:20171119T103000
DTSTAMP:20260426T133515
CREATED:20170917T082201Z
LAST-MODIFIED:20170917T082201Z
UID:1876-1511080200-1511087400@www.ucapeelvalley.org.au
SUMMARY:Gowrie service and morning tea
DESCRIPTION:
URL:https://www.ucapeelvalley.org.au/event/gowrie-service-and-morning-tea-98/
LOCATION:Gowrie\, 2125 Gowrie Road\, Gowrie\, NSW\, 2340\, Australia
END:VEVENT
BEGIN:VEVENT
DTSTART;TZID=Australia/Sydney:20171117T180000
DTEND;TZID=Australia/Sydney:20171117T180000
DTSTAMP:20260426T133515
CREATED:20170917T082201Z
LAST-MODIFIED:20170917T082201Z
UID:1875-1510941600-1510941600@www.ucapeelvalley.org.au
SUMMARY:Hallsville service and meal
DESCRIPTION:
URL:https://www.ucapeelvalley.org.au/event/hallsville-service-and-meal-121/
LOCATION:Hallsville\, 1266 Manila Road\, Hallsville
END:VEVENT
BEGIN:VEVENT
DTSTART;TZID=Australia/Sydney:20171116T143000
DTEND;TZID=Australia/Sydney:20171116T160000
DTSTAMP:20260426T133515
CREATED:20170917T082212Z
LAST-MODIFIED:20170917T082212Z
UID:1904-1510842600-1510848000@www.ucapeelvalley.org.au
SUMMARY:Bible Study
DESCRIPTION:
URL:https://www.ucapeelvalley.org.au/event/bible-study-3/
LOCATION:West Tamworth\, 77 Denison Street\, Tamworth\, NSW\, 2340\, Australia
END:VEVENT
BEGIN:VEVENT
DTSTART;TZID=Australia/Sydney:20171112T110000
DTEND;TZID=Australia/Sydney:20171112T140000
DTSTAMP:20260426T133515
CREATED:20170917T082159Z
LAST-MODIFIED:20170917T082159Z
UID:1874-1510484400-1510495200@www.ucapeelvalley.org.au
SUMMARY:Gowrie combined service and lunch
DESCRIPTION:AGM to follow
URL:https://www.ucapeelvalley.org.au/event/gowrie-combined-service-and-lunch/
LOCATION:Gowrie\, 2125 Gowrie Road\, Gowrie\, NSW\, 2340\, Australia
END:VEVENT
BEGIN:VEVENT
DTSTART;TZID=Australia/Sydney:20171107T100000
DTEND;TZID=Australia/Sydney:20171107T113000
DTSTAMP:20260426T133515
CREATED:20170917T082210Z
LAST-MODIFIED:20170917T082210Z
UID:1898-1510048800-1510054200@www.ucapeelvalley.org.au
SUMMARY:Memory Lane
DESCRIPTION:
URL:https://www.ucapeelvalley.org.au/event/memory-lane-5/
LOCATION:West Tamworth\, 77 Denison Street\, Tamworth\, NSW\, 2340\, Australia
END:VEVENT
BEGIN:VEVENT
DTSTART;TZID=Australia/Sydney:20171105T110000
DTEND;TZID=Australia/Sydney:20171105T130000
DTSTAMP:20260426T133515
CREATED:20170917T082159Z
LAST-MODIFIED:20170917T082159Z
UID:1873-1509879600-1509886800@www.ucapeelvalley.org.au
SUMMARY:West Tamworth service
DESCRIPTION:Followed by lunch
URL:https://www.ucapeelvalley.org.au/event/west-tamworth-service-136/
LOCATION:West Tamworth\, 77 Denison Street\, Tamworth\, NSW\, 2340\, Australia
END:VEVENT
BEGIN:VEVENT
DTSTART;TZID=Australia/Sydney:20171105T083000
DTEND;TZID=Australia/Sydney:20171105T103000
DTSTAMP:20260426T133515
CREATED:20170917T082158Z
LAST-MODIFIED:20170917T082158Z
UID:1872-1509870600-1509877800@www.ucapeelvalley.org.au
SUMMARY:Gowrie service and morning tea
DESCRIPTION:
URL:https://www.ucapeelvalley.org.au/event/gowrie-service-and-morning-tea-97/
LOCATION:Gowrie\, 2125 Gowrie Road\, Gowrie\, NSW\, 2340\, Australia
END:VEVENT
BEGIN:VEVENT
DTSTART;TZID=Australia/Sydney:20171103T180000
DTEND;TZID=Australia/Sydney:20171103T180000
DTSTAMP:20260426T133515
CREATED:20170917T082158Z
LAST-MODIFIED:20170917T082158Z
UID:1871-1509732000-1509732000@www.ucapeelvalley.org.au
SUMMARY:Hallsville service and meal
DESCRIPTION:
URL:https://www.ucapeelvalley.org.au/event/hallsville-service-and-meal-120/
LOCATION:Hallsville\, 1266 Manila Road\, Hallsville
END:VEVENT
BEGIN:VEVENT
DTSTART;TZID=Australia/Sydney:20171029T110000
DTEND;TZID=Australia/Sydney:20171029T120000
DTSTAMP:20260426T133515
CREATED:20170917T082158Z
LAST-MODIFIED:20170917T082158Z
UID:1870-1509274800-1509278400@www.ucapeelvalley.org.au
SUMMARY:West Tamworth service
DESCRIPTION:Church on the bus to Breeza
URL:https://www.ucapeelvalley.org.au/event/west-tamworth-service-135/
LOCATION:West Tamworth\, 77 Denison Street\, Tamworth\, NSW\, 2340\, Australia
END:VEVENT
END:VCALENDAR