BEGIN:VCALENDAR
VERSION:2.0
PRODID:-//Peel Valley Congregations - ECPv6.15.3//NONSGML v1.0//EN
CALSCALE:GREGORIAN
METHOD:PUBLISH
X-WR-CALNAME:Peel Valley Congregations
X-ORIGINAL-URL:https://www.ucapeelvalley.org.au
X-WR-CALDESC:Events for Peel Valley Congregations
REFRESH-INTERVAL;VALUE=DURATION:PT1H
X-Robots-Tag:noindex
X-PUBLISHED-TTL:PT1H
BEGIN:VTIMEZONE
TZID:Australia/Sydney
BEGIN:STANDARD
TZOFFSETFROM:+1100
TZOFFSETTO:+1000
TZNAME:AEST
DTSTART:20180331T160000
END:STANDARD
BEGIN:DAYLIGHT
TZOFFSETFROM:+1000
TZOFFSETTO:+1100
TZNAME:AEDT
DTSTART:20181006T160000
END:DAYLIGHT
END:VTIMEZONE
BEGIN:VEVENT
DTSTART;TZID=Australia/Sydney:20181120T100000
DTEND;TZID=Australia/Sydney:20181120T113000
DTSTAMP:20260425T232422
CREATED:20190107T221043Z
LAST-MODIFIED:20190107T221043Z
UID:2578-1542708000-1542713400@www.ucapeelvalley.org.au
SUMMARY:Memory Lane
DESCRIPTION:Morning Tea and Conversation
URL:https://www.ucapeelvalley.org.au/event/memory-lane-28/
LOCATION:West Tamworth\, 77 Denison Street\, Tamworth\, NSW\, 2340\, Australia
END:VEVENT
BEGIN:VEVENT
DTSTART;TZID=Australia/Sydney:20181120T103000
DTEND;TZID=Australia/Sydney:20181120T153000
DTSTAMP:20260425T232422
CREATED:20181012T010000Z
LAST-MODIFIED:20181012T010000Z
UID:2355-1542709800-1542727800@www.ucapeelvalley.org.au
SUMMARY:Property bookings
DESCRIPTION:Tamworth City Uniting Church Seniors Fellowship Christmas Luncheon
URL:https://www.ucapeelvalley.org.au/event/property-bookings-6/
LOCATION:Hallsville booking\, 1266 Manilla Road\, Hallsville\, NSW\, 2340\, Australia
END:VEVENT
END:VCALENDAR