BEGIN:VCALENDAR
VERSION:2.0
PRODID:-//Peel Valley Congregations - ECPv4.6//NONSGML v1.0//EN
CALSCALE:GREGORIAN
METHOD:PUBLISH
X-WR-CALNAME:Peel Valley Congregations
X-ORIGINAL-URL:http://www.ucapeelvalley.org.au
X-WR-CALDESC:Events for Peel Valley Congregations
BEGIN:VEVENT
DTSTART;TZID=Australia/Sydney:20200311T080000
DTEND;TZID=Australia/Sydney:20200312T170000
DTSTAMP:20200302T054111
CREATED:20190925T054433Z
LAST-MODIFIED:20191010T231314Z
UID:3021-1583913600-1584032400@www.ucapeelvalley.org.au
SUMMARY:Property Booking
DESCRIPTION:
URL:http://www.ucapeelvalley.org.au/event/property-booking/
LOCATION:1266 Manilla Road\, Hallsville\, NSW\, 2340\, Australia
END:VEVENT
END:VCALENDAR