BEGIN:VCALENDAR
VERSION:2.0
PRODID:-//Peel Valley Congregations - ECPv4.6//NONSGML v1.0//EN
CALSCALE:GREGORIAN
METHOD:PUBLISH
X-WR-CALNAME:Peel Valley Congregations
X-ORIGINAL-URL:http://www.ucapeelvalley.org.au
X-WR-CALDESC:Events for Peel Valley Congregations
BEGIN:VEVENT
DTSTART;TZID=Australia/Sydney:20200308T083000
DTEND;TZID=Australia/Sydney:20200308T103000
DTSTAMP:20200302T054039
CREATED:20190829T065659Z
LAST-MODIFIED:20190829T065659Z
UID:2843-1583656200-1583663400@www.ucapeelvalley.org.au
SUMMARY:Gowrie service and morning tea
DESCRIPTION:
URL:http://www.ucapeelvalley.org.au/event/gowrie-service-and-morning-tea-143/
LOCATION:2125 Gowrie Road\, Gowrie\, NSW\, 2340\, Australia
END:VEVENT
BEGIN:VEVENT
DTSTART;TZID=Australia/Sydney:20200308T110000
DTEND;TZID=Australia/Sydney:20200308T120000
DTSTAMP:20200302T054039
CREATED:20190829T065700Z
LAST-MODIFIED:20190829T065700Z
UID:2844-1583665200-1583668800@www.ucapeelvalley.org.au
SUMMARY:West Tamworth service
DESCRIPTION:
URL:http://www.ucapeelvalley.org.au/event/west-tamworth-service-243/
LOCATION:77 Denison Street\, Tamworth\, NSW\, 2340\, Australia
END:VEVENT
END:VCALENDAR