BEGIN:VCALENDAR
VERSION:2.0
PRODID:-//Peel Valley Congregations - ECPv4.6//NONSGML v1.0//EN
CALSCALE:GREGORIAN
METHOD:PUBLISH
X-WR-CALNAME:Peel Valley Congregations
X-ORIGINAL-URL:http://www.ucapeelvalley.org.au
X-WR-CALDESC:Events for Peel Valley Congregations
BEGIN:VEVENT
DTSTART;TZID=Australia/Sydney:20200602T100000
DTEND;TZID=Australia/Sydney:20200602T123000
DTSTAMP:20200302T053408
CREATED:20190930T055720Z
LAST-MODIFIED:20190930T055720Z
UID:3029-1591092000-1591101000@www.ucapeelvalley.org.au
SUMMARY:Property bookings
DESCRIPTION:Hallsville Red Cross June Winter Appeal Luncheon – set up \n
URL:http://www.ucapeelvalley.org.au/event/property-bookings-40/
LOCATION:1266 Manilla Road\, Hallsville\, NSW\, 2340\, Australia
END:VEVENT
END:VCALENDAR