BEGIN:VCALENDAR
VERSION:2.0
PRODID:-//Peel Valley Congregations - ECPv4.6//NONSGML v1.0//EN
CALSCALE:GREGORIAN
METHOD:PUBLISH
X-WR-CALNAME:Peel Valley Congregations
X-ORIGINAL-URL:http://www.ucapeelvalley.org.au
X-WR-CALDESC:Events for Peel Valley Congregations
BEGIN:VEVENT
DTSTART;TZID=Australia/Sydney:20200426T083000
DTEND;TZID=Australia/Sydney:20200426T103000
DTSTAMP:20200302T052924
CREATED:20190829T065707Z
LAST-MODIFIED:20190829T065707Z
UID:2857-1587889800-1587897000@www.ucapeelvalley.org.au
SUMMARY:Gowrie service and morning tea
DESCRIPTION:
URL:http://www.ucapeelvalley.org.au/event/gowrie-service-and-morning-tea-145/
LOCATION:2125 Gowrie Road\, Gowrie\, NSW\, 2340\, Australia
END:VEVENT
END:VCALENDAR